Workbook

Sheet 總表
F2: =IF(D100<H100,"請重新下載更新版本","使用期限:"&TEXT(D100,"yyyy/mm/dd")) -> 使用期限:2025/12/31 | H2: ="版本編號:"&TEXT(YEAR($D$99),"0000")&TEXT(MONTH($D$99),"00")&TEXT(DAY($D$99),"00") -> 版本編號:20250808
C3: 旅遊綜合保險與特定活動保險保費試算作業
C6: 旅遊綜合保險 | F6: 旅行平安保險 | G6: ＋ | H6: 旅遊不便保險
F7: 傷害身故失能 | H7: 旅行不便保險
F8: 傷害醫療 | H8: 旅行補償保險
F9: 突發疾病 | H9: 第三人責任保險
F10: 增購特定事故傷害身故失能保額 | H10: 旅行急難救助保險
F11: 恐怖主義買回保額
C15: 特定活動保險 | F15: 特定活動綜合保險
F16: 傷害身故失能
F17: 傷害+特定事故醫療
C24: 旅行泡泡綜合保險 | F24: 旅行泡泡綜合保險
F25: 意外傷害身故失能 | H25: 第三人責任保險
F26: 傷害醫療實支實付 | H26: 海外急難救助保險
F27: 海外突發疾病 海外緊急救援 | H27: 國內急難救助費用
B97: 選項設定
B98: 費率別 | D98: 個人、團體、直接、網路 | F98: =VLOOKUP(D98,B108:E114,4,FALSE) -> 6 | G98: =CHOOSE(F98,"選擇項目!C3:C7","選擇項目!C3:C3","選擇項目!C4:C4","選擇項目!C3:C4","選擇項目!C3:C5","選擇項目!C3:C6","選擇項目!C7:C7") -> 選擇項目!C3:C6
B99: 版本編號 | D99: 45877
B100: 使用期限 | D100: 46022 | H100: =TODAY() -> 45877 | J100: =+D100-H100 -> 145
B101: 顯示季節限定專案 | D101: 皆不顯示 | F101: =VLOOKUP(D101,B121:C124,2,FALSE) -> 2
B107: 費率別
B108: 全部 | E108: 1
B109: 個人 | E109: 2
B110: 團體 | E110: 3
B111: 個人、團體 | E111: 4
B112: 個人、團體、直接 | E112: 5
B113: 個人、團體、直接、網路 | E113: 6
B114: 保經代 | E114: 7
B120: 季節限定控制
B121: 全部顯示 | C121: 1
B122: 皆不顯示 | C122: 2
B123: 僅顯示春日遊 | C123: 3
B124: 僅顯示夏日遊 | C124: 4

Sheet 旅綜險
B2: 旅遊綜合保險保費試算作業 | I2: =+總表!F2 -> 使用期限:2025/12/31 | K2: =+總表!H2 -> 版本編號:20250808 | M2: 返回主畫面
B3: 投保時年齡 (以足歲計算) | E3: 年齡層 代 碼 | F3: 意外身故（喪葬費用）失能 限額(萬) | I3: =IF(L11="網路件","傷害醫療實支","傷害醫療實支+燒燙傷")&"限額(萬)" -> 傷害醫療實支+燒燙傷限額(萬) | L3: 海外突發疾病 限額(萬)
B4: 未滿15歲 | E4: 1／10 | F4: 69萬 | I4: 國內6萬／ 海外10、20、30萬、海外申根120萬 | L4: 國內6萬／ 海外10、20、30萬、海外申根120萬
B5: 滿15歲~未滿20歲 | E5: 2／3 | F5: 國內:500萬 海外:1,500萬 | I5: 國內身故失能10%、10萬／ 海外身故失能30%、200萬 | L5: 身故失能30%、甲型200萬／乙型120萬
B6: 滿20歲~未滿65歲 | E6: 4／5 | F6: 國內:1,500萬 海外:2,000萬 | I6: 國內身故失能10%、10萬／ 海外身故失能30%、200萬 | L6: 身故失能30%、甲型200萬／乙型120萬
B7: 滿65歲~未滿70歲 | E7: 6 | F7: 1,000萬 | I7: 國內身故失能10%、10萬／ 海外身故失能30%、200萬 | L7: 身故失能30%、甲型200萬／乙型120萬
B8: 滿70歲~未滿80歲 | E8: 7 | F8: 國內:200萬 海外:500萬 | I8: 國內身故失能10%、10萬／ 海外身故失能30%、150萬 | L8: 身故失能30%、甲型150萬／乙型120萬
B9: 滿80歲~未滿85歲 | E9: 8 | F9: 100萬 | I9: 國內身故失能10%、10萬／ 海外身故失能30%、30萬 | L9: 身故失能30%、甲型30萬／乙型30萬
B10: 滿85歲~未滿100歲 | E10: 9 | F10: 50萬 | I10: 不保 | L10: 不保
B11: 試算日期 | D11: =TODAY() -> 45877 | F11: 被保險人年齡 | H11: 滿20歲-未滿65歲 | J11: 費率別 | L11: 個人件(1-4人適用)
B12: 身故失能保額 | D12: 500 | F12: 旅遊地點 | H12: 海外 | J12: 陸客來台旅遊 | L12: 否
B13: =IF(L11="網路件","傷害醫療實支","傷害醫療實支+燒燙傷") -> 傷害醫療實支+燒燙傷 | D13: 50 | F13: 旅遊天數 | H13: 7 | J13: 非台籍境內突發疾病（甲型） | L13: 0
B14: 海外突發疾病 | C14: (乙型) | D14: 50 | F14: 旅遊不便 | H14: 海外豪華型(U2)
B15: 增購特定事故身故失能 | E15: 否 | F15: =IF(選擇項目!G1=1,旅綜險!D12,0) -> 0
B16: 恐怖主義買回保額 | E16: 否 | F16: =IF(選擇項目!I1=1,$D$12+$F$15,0) -> 0 | G16: =IF(F14=0,"","(恐怖主義買回保額=身故失能保額+增購特定傷害事故身故失能)") -> (恐怖主義買回保額=身故失能保額+增購特定傷害事故身故失能)
B17: 訊息提示 | D17: =+訊息提示!B2
B18: 合計保費 | D18: =IF(LEN(TRIM(D17))=0,保費試算!E25,"---") -> 1315 | F18: 元 | G18: =IF(選擇項目!C1=4,"無燒燙傷","")&IF(AND(D14<>0,C14="(甲型)")," (甲型)不含法定傳染病","")
B20: 製作旅綜險簡易版費率表 | G20: 最終保費以系統計算為準
B101: 保額查詢表單
B102: 保障內容 | C102: 旅綜險
B103: 死殘 | C103: =IF(選擇項目!$E$1=1,IF(H12="國內",1,10),IF(選擇項目!$E$1=2,IF(H12="國內",2,3),IF(選擇項目!$E$1=3,IF(H12="國內",4,5),IF(選擇項目!$E$1=4,6,IF(選擇項目!$E$1=5,IF(H12="國內",11,7),IF(選擇項目!$E$1=6,8,9)))))) -> 5 | D103: =CHOOSE(C103,"費率表彙總!$C$4:$C$74","費率表彙總!$D$6:$D$14","費率表彙總!$D$6:$D$34","費率表彙總!$D$6:$D$34","費率表彙總!$D$6:$D$44","費率表彙總!$D$6:$D$24","費率表彙總!$D$6:$D$14","費率表彙總!$D$6:$D$6","費率表彙總!$D$5:$D$5","費率表彙總!$C$4:$C$74","費率表彙總!$D$6:$D$8") -> 費率表彙總!$D$6:$D$44
B104: 實支 | C104: =IF(選擇項目!$E$1=1,IF(H12="國內",1,10),IF(選擇項目!$E$1=2,IF(H12="國內",2,3),IF(選擇項目!$E$1=3,IF(H12="國內",4,5),IF(選擇項目!$E$1=4,IF(H12="國內",6,11),IF(選擇項目!$E$1=5,IF(H12="國內",7,12),IF(選擇項目!$E$1=6,IF(H12="國內",8,13),9)))))) -> 5 | D104: =CHOOSE(C104,"費率表彙總!$J$35:$J$36","費率表彙總!$J$4:$J$16","費率表彙總!$J$4:$J$34","費率表彙總!$J$4:$J$16","費率表彙總!$J$4:$J$34","費率表彙總!$J$4:$J$16","費率表彙總!$J$4:$J$16","費率表彙總!$J$4:$J$14","費率表彙總!$J$4","費率表彙總!$J$36:$J$41","費率表彙總!$J$4:$J$34","費率表彙總!$J$4:$J$29","費率表彙總!$J$4:$J$17") -> 費率表彙總!$J$4:$J$34
B105: 海外突發(甲) | C105: =CHOOSE(C104,"費率表彙總!$L$4","費率表彙總!$L$4","費率表彙總!$L$4:$L$34","費率表彙總!$L$4","費率表彙總!$L$4:$L$34","費率表彙總!$L$4","費率表彙總!$L$4","費率表彙總!$L$4","費率表彙總!$L$4","費率表彙總!$L$36:$L$41","費率表彙總!$L$4:$L$34","費率表彙總!$L$4:$L$29","費率表彙總!$L$4:$L$17") -> 費率表彙總!$L$4:$L$34 | G105: (甲型)
B106: 海外突發(乙) | C106: =CHOOSE(C104,"費率表彙總!$L$4","費率表彙總!$L$4","費率表彙總!$L$4:$L$26","費率表彙總!$L$4","費率表彙總!$L$4:$L$26","費率表彙總!$L$4","費率表彙總!$L$4","費率表彙總!$L$4","費率表彙總!$L$4","費率表彙總!$L$36:$L$41","費率表彙總!$L$4:$L$26","費率表彙總!$L$4:$L$26","費率表彙總!$L$4:$L$17") -> 費率表彙總!$L$4:$L$26 | G106: (乙型)
B107: 境內突發 | C107: =CHOOSE(C104,"費率表彙總!$S$35:$S$36","費率表彙總!$S$4:$S$16","費率表彙總!$S$4","費率表彙總!$S$4:$S$16","費率表彙總!$S$4","費率表彙總!$S$4:$S$16","費率表彙總!$S$4:$S$16","費率表彙總!$S$4:$S$14","費率表彙總!$S$4","費率表彙總!$S$4","費率表彙總!$S$4","費率表彙總!$S$4","費率表彙總!$S$4") -> 費率表彙總!$S$4
B108: 費率別 | C108: =+總表!G98 -> 選擇項目!C3:C6
B109: 不便險 | C109: =IF(選擇項目!$B$1=1,"旅綜險!$B$112:$B$115","旅綜險!$B$119:$B$122") -> 旅綜險!$B$119:$B$122
B110: 旅遊天數 | C110: =IF(選擇項目!B1=1,"費率表彙總!A4:A17",IF(AND(選擇項目!B1>1,C14="(乙型)",D14<>0),"費率表彙總!A4:A33","費率表彙總!A4:A183")) -> 費率表彙總!A4:A33
B112: 否
B113: 國內本島型(V1)
B114: 國內離島型(W1)
B115: 國內非台籍(X1)
B119: 否
B120: 海外保障型(Y1)
B121: 海外標準型(T2)
B122: 海外豪華型(U2)
B123: 春季漫遊型(Z3)
B124: 寵物寄宿型(Z5)
B126: 否
B127: -
... B134: -

Sheet 旅綜險簡易版費率表
A1: 國泰產物旅遊綜合保險 最終保費以系統計算為準 | L1: 列印日期 | N1: =TODAY() -> 45877 | P1: 返回主畫面
A2: 承保項目/專案 | C2: 海外旅遊 | H2: 海外旅遊 | M2: 海外旅遊
A3: 旅遊不便及其他保障 | C3: 不加保 | H3: 海外標準型(T2) | M3: 海外豪華型(U2)
A4: 意外傷害身故失能 | C4: 300 | D4: 300 | E4: 500 | F4: 800 | G4: 1000 | H4: 200 | I4: 300 | J4: 500 | K4: 800 | L4: 1000 | M4: 700 | N4: 300 | O4: 500 | P4: 500 | Q4: 500
A5: 增購傷害特定事故身故失能 | C5: 不加保 | H5: 不加保 | M5: 不加保
A6: 恐怖主義買回保額 | C6: 不加保 | H6: 不加保 | M6: 不加保
A7: =IF(C11="保險費(新台幣元)(網路件適用)","傷害醫療實支","傷害醫療實支+燒燙傷") -> 傷害醫療實支+燒燙傷 | C7: 0 | D7: 0 | E7: 0 | F7: 0 | G7: 0 | H7: 10 | I7: 10 | J7: 10 | K7: 10 | L7: 10 | M7: 150 | N7: 30 | O7: 50 | P7: 100 | Q7: 100
A8: 海外突發疾病 | B8: (乙型) | C8: 30 | D8: 30 | E8: 50 | F8: 80 | G8: 100 | H8: 0 | I8: 0 | J8: 0 | K8: 0 | L8: 0 | M8: 120 | N8: 60 | O8: 100 | P8: 60 | Q8: 60
A9: 非台籍境內突發疾病（甲型） | C9: 0 | D9: 0 | E9: 0 | F9: 0 | G9: 0 | H9: 0 | I9: 0 | J9: 0 | K9: 0 | L9: 0 | M9: 0 | N9: 0 | O9: 0 | P9: 0 | Q9: 0
A10: 保額驗證 | C10: =費率表參數!AA1
A11: 保險天數 | C11: 保險費(新台幣元)(1-4人適用) | K11: (被保險人15足歲以上適用)
A12: 1 | C12: =IF(LEN($C$10)>0, "", IF(OR(AND($C$98,$A12>30),AND($C$99=1, $A12>14)), "---", 旅綜險簡易版費率表試算!Q5)) -> 165 | D12: =IF(LEN($C$10)>0,"",IF(OR(AND($C$98,$A12>30),AND($C$99=1, $A12>14)),"---",旅綜險簡易版費率表試算!AF5)) -> 165 | E12: =IF(LEN($C$10)>0,"",IF(OR(AND($C$98,$A12>30),AND($C$99=1, $A12>14)),"---",旅綜險簡易版費率表試算!AU5)) -> 269 | F12: =IF(LEN($C$10)>0,"",IF(OR(AND($C$98,$A12>30),AND($C$99=1, $A12>14)),"---",旅綜險簡易版費率表試算!BJ5)) -> 423 | G12: =IF(LEN($C$10)>0,"",IF(OR(AND($C$98,$A12>30),AND($C$99=1, $A12>14)),"---",旅綜險簡易版費率表試算!BY5)) -> 524 | H12: =IF(LEN($C$10)>0,"", IF(OR(AND($D$98,$A12>30),AND($D$99=1, $A12>14)),"---",旅綜險簡易版費率表試算!CN5)) -> 258 | I12: =IF(LEN($C$10)>0,"",IF(OR(AND($D$98,$A12>30),AND($D$99=1, $A12>14)),"---",旅綜險簡易版費率表試算!DC5)) -> 286 | J12: =IF(LEN($C$10)>0,"",IF(OR(AND($D$98,$A12>30),AND($D$99=1, $A12>14)),"---",旅綜險簡易版費率表試算!DR5)) -> 342 | K12: =IF(LEN($C$10)>0,"",IF(OR(AND($D$98,$A12>30),AND($D$99=1, $A12>14)),"---",旅綜險簡易版費率表試算!EG5)) -> 428 | L12: =IF(LEN($C$10)>0,"",IF(OR(AND($D$98,$A12>30),AND($D$99=1, $A12>14)),"---",旅綜險簡易版費率表試算!EV5)) -> 486 | M12: =IF(LEN($C$10)>0,"",IF(OR(AND($E$98,$A12>30),AND($E$99=1, $A12>14)),"---",旅綜險簡易版費率表試算!FK5)) -> 917 | N12: =IF(LEN($C$10)>0,"",IF(OR(AND($E$98,$A12>30),AND($E$99=1, $A12>14)),"---",旅綜險簡易版費率表試算!FZ5)) -> 553 | O12: =IF(LEN($C$10)>0,"",IF(OR(AND($E$98,$A12>30),AND($E$99=1, $A12>14)),"---",旅綜險簡易版費率表試算!GO5)) -> 716 | P12: =IF(LEN($C$10)>0,"",IF(OR(AND($E$98,$A12>30),AND($E$99=1, $A12>14)),"---",旅綜險簡易版費率表試算!HD5)) -> 675 | Q12: =IF(LEN($C$10)>0,"",IF(OR(AND($E$98,$A12>30),AND($E$99=1, $A12>14)),"---",旅綜險簡易版費率表試算!HS5)) -> 675
A13: 2 | C13: =IF(LEN($C$10)>0, "", IF(OR(AND($C$98,$A13>30),AND($C$99=1, $A13>14)), "---", 旅綜險簡易版費率表試算!Q6)) -> 180 | D13: =IF(LEN($C$10)>0,"",IF(OR(AND($C$98,$A13>30),AND($C$99=1, $A13>14)),"---",旅綜險簡易版費率表試算!AF6)) -> 180 | E13: =IF(LEN($C$10)>0,"",IF(OR(AND($C$98,$A13>30),AND($C$99=1, $A13>14)),"---",旅綜險簡易版費率表試算!AU6)) -> 293 | F13: =IF(LEN($C$10)>0,"",IF(OR(AND($C$98,$A13>30),AND($C$99=1, $A13>14)),"---",旅綜險簡易版費率表試算!BJ6)) -> 463 | G13: =IF(LEN($C$10)>0,"",IF(OR(AND($C$98,$A13>30),AND($C$99=1, $A13>14)),"---",旅綜險簡易版費率表試算!BY6)) -> 573 | H13: =IF(LEN($C$10)>0,"", IF(OR(AND($D$98,$A13>30),AND($D$99=1, $A13>14)),"---",旅綜險簡易版費率表試算!CN6)) -> 282 | I13: =IF(LEN($C$10)>0,"",IF(OR(AND($D$98,$A13>30),AND($D$99=1, $A13>14)),"---",旅綜險簡易版費率表試算!DC6)) -> 313 | J13: =IF(LEN($C$10)>0,"",IF(OR(AND($D$98,$A13>30),AND($D$99=1, $A13>14)),"---",旅綜險簡易版費率表試算!DR6)) -> 374 | K13: =IF(LEN($C$10)>0,"",IF(OR(AND($D$98,$A13>30),AND($D$99=1, $A13>14)),"---",旅綜險簡易版費率表試算!EG6)) -> 468 | L13: =IF(LEN($C$10)>0,"",IF(OR(AND($D$98,$A13>30),AND($D$99=1, $A13>14)),"---",旅綜險簡易版費率表試算!EV6)) -> 531 | M13: =IF(LEN($C$10)>0,"",IF(OR(AND($E$98,$A13>30),AND($E$99=1, $A13>14)),"---",旅綜險簡易版費率表試算!FK6)) -> 1002 | N13: =IF(LEN($C$10)>0,"",IF(OR(AND($E$98,$A13>30),AND($E$99=1, $A13>14)),"---",旅綜險簡易版費率表試算!FZ6)) -> 605 | O13: =IF(LEN($C$10)>0,"",IF(OR(AND($E$98,$A13>30),AND($E$99=1, $A13>14)),"---",旅綜險簡易版費率表試算!GO6)) -> 783 | P13: =IF(LEN($C$10)>0,"",IF(OR(AND($E$98,$A13>30),AND($E$99=1, $A13>14)),"---",旅綜險簡易版費率表試算!HD6)) -> 739 | Q13: =IF(LEN($C$10)>0,"",IF(OR(AND($E$98,$A13>30),AND($E$99=1, $A13>14)),"---",旅綜險簡易版費率表試算!HS6)) -> 739
A14: 3 | C14: =IF(LEN($C$10)>0, "", IF(OR(AND($C$98,$A14>30),AND($C$99=1, $A14>14)), "---", 旅綜險簡易版費率表試算!Q7)) -> 194 | D14: =IF(LEN($C$10)>0,"",IF(OR(AND($C$98,$A14>30),AND($C$99=1, $A14>14)),"---",旅綜險簡易版費率表試算!AF7)) -> 194 | E14: =IF(LEN($C$10)>0,"",IF(OR(AND($C$98,$A14>30),AND($C$99=1, $A14>14)),"---",旅綜險簡易版費率表試算!AU7)) -> 317 | F14: =IF(LEN($C$10)>0,"",IF(OR(AND($C$98,$A14>30),AND($C$99=1, $A14>14)),"---",旅綜險簡易版費率表試算!BJ7)) -> 498 | G14: =IF(LEN($C$10)>0,"",IF(OR(AND($C$98,$A14>30),AND($C$99=1, $A14>14)),"---",旅綜險簡易版費率表試算!BY7)) -> 616 | H14: =IF(LEN($C$10)>0,"", IF(OR(AND($D$98,$A14>30),AND($D$99=1, $A14>14)),"---",旅綜險簡易版費率表試算!CN7)) -> 302 | I14: =IF(LEN($C$10)>0,"",IF(OR(AND($D$98,$A14>30),AND($D$99=1, $A14>14)),"---",旅綜險簡易版費率表試算!DC7)) -> 336 | J14: =IF(LEN($C$10)>0,"",IF(OR(AND($D$98,$A14>30),AND($D$99=1, $A14>14)),"---",旅綜險簡易版費率表試算!DR7)) -> 402 | K14: =IF(LEN($C$10)>0,"",IF(OR(AND($D$98,$A14>30),AND($D$99=1, $A14>14)),"---",旅綜險簡易版費率表試算!EG7)) -> 503 | L14: =IF(LEN($C$10)>0,"",IF(OR(AND($D$98,$A14>30),AND($D$99=1, $A14>14)),"---",旅綜險簡易版費率表試算!EV7)) -> 571 | M14: =IF(LEN($C$10)>0,"",IF(OR(AND($E$98,$A14>30),AND($E$99=1, $A14>14)),"---",旅綜險簡易版費率表試算!FK7)) -> 1081 | N14: =IF(LEN($C$10)>0,"",IF(OR(AND($E$98,$A14>30),AND($E$99=1, $A14>14)),"---",旅綜險簡易版費率表試算!FZ7)) -> 651 | O14: =IF(LEN($C$10)>0,"",IF(OR(AND($E$98,$A14>30),AND($E$99=1, $A14>14)),"---",旅綜險簡易版費率表試算!GO7)) -> 842 | P14: =IF(LEN($C$10)>0,"",IF(OR(AND($E$98,$A14>30),AND($E$99=1, $A14>14)),"---",旅綜險簡易版費率表試算!HD7)) -> 796 | Q14: =IF(LEN($C$10)>0,"",IF(OR(AND($E$98,$A14>30),AND($E$99=1, $A14>14)),"---",旅綜險簡易版費率表試算!HS7)) -> 796
A15: 4 | C15: =IF(LEN($C$10)>0, "", IF(OR(AND($C$98,$A15>30),AND($C$99=1, $A15>14)), "---", 旅綜險簡易版費率表試算!Q8)) -> 252 | D15: =IF(LEN($C$10)>0,"",IF(OR(AND($C$98,$A15>30),AND($C$99=1, $A15>14)),"---",旅綜險簡易版費率表試算!AF8)) -> 252 | E15: =IF(LEN($C$10)>0,"",IF(OR(AND($C$98,$A15>30),AND($C$99=1, $A15>14)),"---",旅綜險簡易版費率表試算!AU8)) -> 414 | F15: =IF(LEN($C$10)>0,"",IF(OR(AND($C$98,$A15>30),AND($C$99=1, $A15>14)),"---",旅綜險簡易版費率表試算!BJ8)) -> 649 | G15: =IF(LEN($C$10)>0,"",IF(OR(AND($C$98,$A15>30),AND($C$99=1, $A15>14)),"---",旅綜險簡易版費率表試算!BY8)) -> 804 | H15: =IF(LEN($C$10)>0,"", IF(OR(AND($D$98,$A15>30),AND($D$99=1, $A15>14)),"---",旅綜險簡易版費率表試算!CN8)) -> 393 | I15: =IF(LEN($C$10)>0,"",IF(OR(AND($D$98,$A15>30),AND($D$99=1, $A15>14)),"---",旅綜險簡易版費率表試算!DC8)) -> 437 | J15: =IF(LEN($C$10)>0,"",IF(OR(AND($D$98,$A15>30),AND($D$99=1, $A15>14)),"---",旅綜險簡易版費率表試算!DR8)) -> 524 | K15: =IF(LEN($C$10)>0,"",IF(OR(AND($D$98,$A15>30),AND($D$99=1, $A15>14)),"---",旅綜險簡易版費率表試算!EG8)) -> 654 | L15: =IF(LEN($C$10)>0,"",IF(OR(AND($D$98,$A15>30),AND($D$99=1, $A15>14)),"---",旅綜險簡易版費率表試算!EV8)) -> 743 | M15: =IF(LEN($C$10)>0,"",IF(OR(AND($E$98,$A15>30),AND($E$99=1, $A15>14)),"---",旅綜險簡易版費率表試算!FK8)) -> 1407 | N15: =IF(LEN($C$10)>0,"",IF(OR(AND($E$98,$A15>30),AND($E$99=1, $A15>14)),"---",旅綜險簡易版費率表試算!FZ8)) -> 848 | O15: =IF(LEN($C$10)>0,"",IF(OR(AND($E$98,$A15>30),AND($E$99=1, $A15>14)),"---",旅綜險簡易版費率表試算!GO8)) -> 1099 | P15: =IF(LEN($C$10)>0,"",IF(OR(AND($E$98,$A15>30),AND($E$99=1, $A15>14)),"---",旅綜險簡易版費率表試算!HD8)) -> 1037 | Q15: =IF(LEN($C$10)>0,"",IF(OR(AND($E$98,$A15>30),AND($E$99=1, $A15>14)),"---",旅綜險簡易版費率表試算!HS8)) -> 1037
A16: 5 | C16: =IF(LEN($C$10)>0, "", IF(OR(AND($C$98,$A16>30),AND($C$99=1, $A16>14)), "---", 旅綜險簡易版費率表試算!Q9)) -> 309 | D16: =IF(LEN($C$10)>0,"",IF(OR(AND($C$98,$A16>30),AND($C$99=1, $A16>14)),"---",旅綜險簡易版費率表試算!AF9)) -> 309 | E16: =IF(LEN($C$10)>0,"",IF(OR(AND($C$98,$A16>30),AND($C$99=1, $A16>14)),"---",旅綜險簡易版費率表試算!AU9)) -> 507 | F16: =IF(LEN($C$10)>0,"",IF(OR(AND($C$98,$A16>30),AND($C$99=1, $A16>14)),"---",旅綜險簡易版費率表試算!BJ9)) -> 796 | G16: =IF(LEN($C$10)>0,"",IF(OR(AND($C$98,$A16>30),AND($C$99=1, $A16>14)),"---",旅綜險簡易版費率表試算!BY9)) -> 987 | H16: =IF(LEN($C$10)>0,"", IF(OR(AND($D$98,$A16>30),AND($D$99=1, $A16>14)),"---",旅綜險簡易版費率表試算!CN9)) -> 481 | I16: =IF(LEN($C$10)>0,"",IF(OR(AND($D$98,$A16>30),AND($D$99=1, $A16>14)),"---",旅綜險簡易版費率表試算!DC9)) -> 534 | J16: =IF(LEN($C$10)>0,"",IF(OR(AND($D$98,$A16>30),AND($D$99=1, $A16>14)),"---",旅綜險簡易版費率表試算!DR9)) -> 642 | K16: =IF(LEN($C$10)>0,"",IF(OR(AND($D$98,$A16>30),AND($D$99=1, $A16>14)),"---",旅綜險簡易版費率表試算!EG9)) -> 802 | L16: =IF(LEN($C$10)>0,"",IF(OR(AND($D$98,$A16>30),AND($D$99=1, $A16>14)),"---",旅綜險簡易版費率表試算!EV9)) -> 911 | M16: =IF(LEN($C$10)>0,"",IF(OR(AND($E$98,$A16>30),AND($E$99=1, $A16>14)),"---",旅綜險簡易版費率表試算!FK9)) -> 1723 | N16: =IF(LEN($C$10)>0,"",IF(OR(AND($E$98,$A16>30),AND($E$99=1, $A16>14)),"---",旅綜險簡易版費率表試算!FZ9)) -> 1035 | O16: =IF(LEN($C$10)>0,"",IF(OR(AND($E$98,$A16>30),AND($E$99=1, $A16>14)),"---",旅綜險簡易版費率表試算!GO9)) -> 1345 | P16: =IF(LEN($C$10)>0,"",IF(OR(AND($E$98,$A16>30),AND($E$99=1, $A16>14)),"---",旅綜險簡易版費率表試算!HD9)) -> 1269 | Q16: =IF(LEN($C$10)>0,"",IF(OR(AND($E$98,$A16>30),AND($E$99=1, $A16>14)),"---",旅綜險簡易版費率表試算!HS9)) -> 1269
A17: 6 | C17: =IF(LEN($C$10)>0, "", IF(OR(AND($C$98,$A17>30),AND($C$99=1, $A17>14)), "---", 旅綜險簡易版費率表試算!Q10)) -> 334 | D17: =IF(LEN($C$10)>0,"",IF(OR(AND($C$98,$A17>30),AND($C$99=1, $A17>14)),"---",旅綜險簡易版費率表試算!AF10)) -> 334 | E17: =IF(LEN($C$10)>0,"",IF(OR(AND($C$98,$A17>30),AND($C$99=1, $A17>14)),"---",旅綜險簡易版費率表試算!AU10)) -> 549 | F17: =IF(LEN($C$10)>0,"",IF(OR(AND($C$98,$A17>30),AND($C$99=1, $A17>14)),"---",旅綜險簡易版費率表試算!BJ10)) -> 861 | G17: =IF(LEN($C$10)>0,"",IF(OR(AND($C$98,$A17>30),AND($C$99=1, $A17>14)),"---",旅綜險簡易版費率表試算!BY10)) -> 1065 | H17: =IF(LEN($C$10)>0,"", IF(OR(AND($D$98,$A17>30),AND($D$99=1, $A17>14)),"---",旅綜險簡易版費率表試算!CN10)) -> 521 | I17: =IF(LEN($C$10)>0,"",IF(OR(AND($D$98,$A17>30),AND($D$99=1, $A17>14)),"---",旅綜險簡易版費率表試算!DC10)) -> 578 | J17: =IF(LEN($C$10)>0,"",IF(OR(AND($D$98,$A17>30),AND($D$99=1, $A17>14)),"---",旅綜險簡易版費率表試算!DR10)) -> 694 | K17: =IF(LEN($C$10)>0,"",IF(OR(AND($D$98,$A17>30),AND($D$99=1, $A17>14)),"---",旅綜險簡易版費率表試算!EG10)) -> 868 | L17: =IF(LEN($C$10)>0,"",IF(OR(AND($D$98,$A17>30),AND($D$99=1, $A17>14)),"---",旅綜險簡易版費率表試算!EV10)) -> 984 | M17: =IF(LEN($C$10)>0,"",IF(OR(AND($E$98,$A17>30),AND($E$99=1, $A17>14)),"---",旅綜險簡易版費率表試算!FK10)) -> 1862 | N17: =IF(LEN($C$10)>0,"",IF(OR(AND($E$98,$A17>30),AND($E$99=1, $A17>14)),"---",旅綜險簡易版費率表試算!FZ10)) -> 1122 | O17: =IF(LEN($C$10)>0,"",IF(OR(AND($E$98,$A17>30),AND($E$99=1, $A17>14)),"---",旅綜險簡易版費率表試算!GO10)) -> 1456 | P17: =IF(LEN($C$10)>0,"",IF(OR(AND($E$98,$A17>30),AND($E$99=1, $A17>14)),"---",旅綜險簡易版費率表試算!HD10)) -> 1374 | Q17: =IF(LEN($C$10)>0,"",IF(OR(AND($E$98,$A17>30),AND($E$99=1, $A17>14)),"---",旅綜險簡易版費率表試算!HS10)) -> 1374
A18: 7 | C18: =IF(LEN($C$10)>0, "", IF(OR(AND($C$98,$A18>30),AND($C$99=1, $A18>14)), "---", 旅綜險簡易版費率表試算!Q11)) -> 356 | D18: =IF(LEN($C$10)>0,"",IF(OR(AND($C$98,$A18>30),AND($C$99=1, $A18>14)),"---",旅綜險簡易版費率表試算!AF11)) -> 356 | E18: =IF(LEN($C$10)>0,"",IF(OR(AND($C$98,$A18>30),AND($C$99=1, $A18>14)),"---",旅綜險簡易版費率表試算!AU11)) -> 587 | F18: =IF(LEN($C$10)>0,"",IF(OR(AND($C$98,$A18>30),AND($C$99=1, $A18>14)),"---",旅綜險簡易版費率表試算!BJ11)) -> 924 | G18: =IF(LEN($C$10)>0,"",IF(OR(AND($C$98,$A18>30),AND($C$99=1, $A18>14)),"---",旅綜險簡易版費率表試算!BY11)) -> 1141 | H18: =IF(LEN($C$10)>0,"", IF(OR(AND($D$98,$A18>30),AND($D$99=1, $A18>14)),"---",旅綜險簡易版費率表試算!CN11)) -> 554 | I18: =IF(LEN($C$10)>0,"",IF(OR(AND($D$98,$A18>30),AND($D$99=1, $A18>14)),"---",旅綜險簡易版費率表試算!DC11)) -> 615 | J18: =IF(LEN($C$10)>0,"",IF(OR(AND($D$98,$A18>30),AND($D$99=1, $A18>14)),"---",旅綜險簡易版費率表試算!DR11)) -> 740 | K18: =IF(LEN($C$10)>0,"",IF(OR(AND($D$98,$A18>30),AND($D$99=1, $A18>14)),"---",旅綜險簡易版費率表試算!EG11)) -> 927 | L18: =IF(LEN($C$10)>0,"",IF(OR(AND($D$98,$A18>30),AND($D$99=1, $A18>14)),"---",旅綜險簡易版費率表試算!EV11)) -> 1051 | M18: =IF(LEN($C$10)>0,"",IF(OR(AND($E$98,$A18>30),AND($E$99=1, $A18>14)),"---",旅綜險簡易版費率表試算!FK11)) -> 1993 | N18: =IF(LEN($C$10)>0,"",IF(OR(AND($E$98,$A18>30),AND($E$99=1, $A18>14)),"---",旅綜險簡易版費率表試算!FZ11)) -> 1198 | O18: =IF(LEN($C$10)>0,"",IF(OR(AND($E$98,$A18>30),AND($E$99=1, $A18>14)),"---",旅綜險簡易版費率表試算!GO11)) -> 1558 | P18: =IF(LEN($C$10)>0,"",IF(OR(AND($E$98,$A18>30),AND($E$99=1, $A18>14)),"---",旅綜險簡易版費率表試算!HD11)) -> 1470 | Q18: =IF(LEN($C$10)>0,"",IF(OR(AND($E$98,$A18>30),AND($E$99=1, $A18>14)),"---",旅綜險簡易版費率表試算!HS11)) -> 1470
A19: 8 | C19: =IF(LEN($C$10)>0, "", IF(OR(AND($C$98,$A19>30),AND($C$99=1, $A19>14)), "---", 旅綜險簡易版費率表試算!Q12)) -> 375 | D19: =IF(LEN($C$10)>0,"",IF(OR(AND($C$98,$A19>30),AND($C$99=1, $A19>14)),"---",旅綜險簡易版費率表試算!AF12)) -> 375 | E19: =IF(LEN($C$10)>0,"",IF(OR(AND($C$98,$A19>30),AND($C$99=1, $A19>14)),"---",旅綜險簡易版費率表試算!AU12)) -> 616 | F19: =IF(LEN($C$10)>0,"",IF(OR(AND($C$98,$A19>30),AND($C$99=1, $A19>14)),"---",旅綜險簡易版費率表試算!BJ12)) -> 965 | G19: =IF(LEN($C$10)>0,"",IF(OR(AND($C$98,$A19>30),AND($C$99=1, $A19>14)),"---",旅綜險簡易版費率表試算!BY12)) -> 1190 | H19: =IF(LEN($C$10)>0,"", IF(OR(AND($D$98,$A19>30),AND($D$99=1, $A19>14)),"---",旅綜險簡易版費率表試算!CN12)) -> 584 | I19: =IF(LEN($C$10)>0,"",IF(OR(AND($D$98,$A19>30),AND($D$99=1, $A19>14)),"---",旅綜險簡易版費率表試算!DC12)) -> 648 | J19: =IF(LEN($C$10)>0,"",IF(OR(AND($D$98,$A19>30),AND($D$99=1, $A19>14)),"---",旅綜險簡易版費率表試算!DR12)) -> 778 | K19: =IF(LEN($C$10)>0,"",IF(OR(AND($D$98,$A19>30),AND($D$99=1, $A19>14)),"---",旅綜險簡易版費率表試算!EG12)) -> 971 | L19: =IF(LEN($C$10)>0,"",IF(OR(AND($D$98,$A19>30),AND($D$99=1, $A19>14)),"---",旅綜險簡易版費率表試算!EV12)) -> 1097 | M19: =IF(LEN($C$10)>0,"",IF(OR(AND($E$98,$A19>30),AND($E$99=1, $A19>14)),"---",旅綜險簡易版費率表試算!FK12)) -> 2092 | N19: =IF(LEN($C$10)>0,"",IF(OR(AND($E$98,$A19>30),AND($E$99=1, $A19>14)),"---",旅綜險簡易版費率表試算!FZ12)) -> 1261 | O19: =IF(LEN($C$10)>0,"",IF(OR(AND($E$98,$A19>30),AND($E$99=1, $A19>14)),"---",旅綜險簡易版費率表試算!GO12)) -> 1639 | P19: =IF(LEN($C$10)>0,"",IF(OR(AND($E$98,$A19>30),AND($E$99=1, $A19>14)),"---",旅綜險簡易版費率表試算!HD12)) -> 1542 | Q19: =IF(LEN($C$10)>0,"",IF(OR(AND($E$98,$A19>30),AND($E$99=1, $A19>14)),"---",旅綜險簡易版費率表試算!HS12)) -> 1542
A20: 9 | C20: =IF(LEN($C$10)>0, "", IF(OR(AND($C$98,$A20>30),AND($C$99=1, $A20>14)), "---", 旅綜險簡易版費率表試算!Q13)) -> 393 | D20: =IF(LEN($C$10)>0,"",IF(OR(AND($C$98,$A20>30),AND($C$99=1, $A20>14)),"---",旅綜險簡易版費率表試算!AF13)) -> 393 | E20: =IF(LEN($C$10)>0,"",IF(OR(AND($C$98,$A20>30),AND($C$99=1, $A20>14)),"---",旅綜險簡易版費率表試算!AU13)) -> 644 | F20: =IF(LEN($C$10)>0,"",IF(OR(AND($C$98,$A20>30),AND($C$99=1, $A20>14)),"---",旅綜險簡易版費率表試算!BJ13)) -> 1005 | G20: =IF(LEN($C$10)>0,"",IF(OR(AND($C$98,$A20>30),AND($C$99=1, $A20>14)),"---",旅綜險簡易版費率表試算!BY13)) -> 1238 | H20: =IF(LEN($C$10)>0,"", IF(OR(AND($D$98,$A20>30),AND($D$99=1, $A20>14)),"---",旅綜險簡易版費率表試算!CN13)) -> 612 | I20: =IF(LEN($C$10)>0,"",IF(OR(AND($D$98,$A20>30),AND($D$99=1, $A20>14)),"---",旅綜險簡易版費率表試算!DC13)) -> 679 | J20: =IF(LEN($C$10)>0,"",IF(OR(AND($D$98,$A20>30),AND($D$99=1, $A20>14)),"---",旅綜險簡易版費率表試算!DR13)) -> 814 | K20: =IF(LEN($C$10)>0,"",IF(OR(AND($D$98,$A20>30),AND($D$99=1, $A20>14)),"---",旅綜險簡易版費率表試算!EG13)) -> 1011 | L20: =IF(LEN($C$10)>0,"",IF(OR(AND($D$98,$A20>30),AND($D$99=1, $A20>14)),"---",旅綜險簡易版費率表試算!EV13)) -> 1141 | M20: =IF(LEN($C$10)>0,"",IF(OR(AND($E$98,$A20>30),AND($E$99=1, $A20>14)),"---",旅綜險簡易版費率表試算!FK13)) -> 2179 | N20: =IF(LEN($C$10)>0,"",IF(OR(AND($E$98,$A20>30),AND($E$99=1, $A20>14)),"---",旅綜險簡易版費率表試算!FZ13)) -> 1319 | O20: =IF(LEN($C$10)>0,"",IF(OR(AND($E$98,$A20>30),AND($E$99=1, $A20>14)),"---",旅綜險簡易版費率表試算!GO13)) -> 1712 | P20: =IF(LEN($C$10)>0,"",IF(OR(AND($E$98,$A20>30),AND($E$99=1, $A20>14)),"---",旅綜險簡易版費率表試算!HD13)) -> 1610 | Q20: =IF(LEN($C$10)>0,"",IF(OR(AND($E$98,$A20>30),AND($E$99=1, $A20>14)),"---",旅綜險簡易版費率表試算!HS13)) -> 1610
A21: 10 | C21: =IF(LEN($C$10)>0, "", IF(OR(AND($C$98,$A21>30),AND($C$99=1, $A21>14)), "---", 旅綜險簡易版費率表試算!Q14)) -> 410 | D21: =IF(LEN($C$10)>0,"",IF(OR(AND($C$98,$A21>30),AND($C$99=1, $A21>14)),"---",旅綜險簡易版費率表試算!AF14)) -> 410 | E21: =IF(LEN($C$10)>0,"",IF(OR(AND($C$98,$A21>30),AND($C$99=1, $A21>14)),"---",旅綜險簡易版費率表試算!AU14)) -> 672 | F21: =IF(LEN($C$10)>0,"",IF(OR(AND($C$98,$A21>30),AND($C$99=1, $A21>14)),"---",旅綜險簡易版費率表試算!BJ14)) -> 1048 | G21: =IF(LEN($C$10)>0,"",IF(OR(AND($C$98,$A21>30),AND($C$99=1, $A21>14)),"---",旅綜險簡易版費率表試算!BY14)) -> 1288 | H21: =IF(LEN($C$10)>0,"", IF(OR(AND($D$98,$A21>30),AND($D$99=1, $A21>14)),"---",旅綜險簡易版費率表試算!CN14)) -> 639 | I21: =IF(LEN($C$10)>0,"",IF(OR(AND($D$98,$A21>30),AND($D$99=1, $A21>14)),"---",旅綜險簡易版費率表試算!DC14)) -> 709 | J21: =IF(LEN($C$10)>0,"",IF(OR(AND($D$98,$A21>30),AND($D$99=1, $A21>14)),"---",旅綜險簡易版費率表試算!DR14)) -> 849 | K21: =IF(LEN($C$10)>0,"",IF(OR(AND($D$98,$A21>30),AND($D$99=1, $A21>14)),"---",旅綜險簡易版費率表試算!EG14)) -> 1052 | L21: =IF(LEN($C$10)>0,"",IF(OR(AND($D$98,$A21>30),AND($D$99=1, $A21>14)),"---",旅綜險簡易版費率表試算!EV14)) -> 1184 | M21: =IF(LEN($C$10)>0,"",IF(OR(AND($E$98,$A21>30),AND($E$99=1, $A21>14)),"---",旅綜險簡易版費率表試算!FK14)) -> 2275 | N21: =IF(LEN($C$10)>0,"",IF(OR(AND($E$98,$A21>30),AND($E$99=1, $A21>14)),"---",旅綜險簡易版費率表試算!FZ14)) -> 1382 | O21: =IF(LEN($C$10)>0,"",IF(OR(AND($E$98,$A21>30),AND($E$99=1, $A21>14)),"---",旅綜險簡易版費率表試算!GO14)) -> 1792 | P21: =IF(LEN($C$10)>0,"",IF(OR(AND($E$98,$A21>30),AND($E$99=1, $A21>14)),"---",旅綜險簡易版費率表試算!HD14)) -> 1683 | Q21: =IF(LEN($C$10)>0,"",IF(OR(AND($E$98,$A21>30),AND($E$99=1, $A21>14)),"---",旅綜險簡易版費率表試算!HS14)) -> 1683
A22: 11 | C22: =IF(LEN($C$10)>0, "", IF(OR(AND($C$98,$A22>30),AND($C$99=1, $A22>14)), "---", 旅綜險簡易版費率表試算!Q15)) -> 430 | D22: =IF(LEN($C$10)>0,"",IF(OR(AND($C$98,$A22>30),AND($C$99=1, $A22>14)),"---",旅綜險簡易版費率表試算!AF15)) -> 430 | E22: =IF(LEN($C$10)>0,"",IF(OR(AND($C$98,$A22>30),AND($C$99=1, $A22>14)),"---",旅綜險簡易版費率表試算!AU15)) -> 702 | F22: =IF(LEN($C$10)>0,"",IF(OR(AND($C$98,$A22>30),AND($C$99=1, $A22>14)),"---",旅綜險簡易版費率表試算!BJ15)) -> 1091 | G22: =IF(LEN($C$10)>0,"",IF(OR(AND($C$98,$A22>30),AND($C$99=1, $A22>14)),"---",旅綜險簡易版費率表試算!BY15)) -> 1339 | H22: =IF(LEN($C$10)>0,"", IF(OR(AND($D$98,$A22>30),AND($D$99=1, $A22>14)),"---",旅綜險簡易版費率表試算!CN15)) -> 668 | I22: =IF(LEN($C$10)>0,"",IF(OR(AND($D$98,$A22>30),AND($D$99=1, $A22>14)),"---",旅綜險簡易版費率表試算!DC15)) -> 742 | J22: =IF(LEN($C$10)>0,"",IF(OR(AND($D$98,$A22>30),AND($D$99=1, $A22>14)),"---",旅綜險簡易版費率表試算!DR15)) -> 886 | K22: =IF(LEN($C$10)>0,"",IF(OR(AND($D$98,$A22>30),AND($D$99=1, $A22>14)),"---",旅綜險簡易版費率表試算!EG15)) -> 1095 | L22: =IF(LEN($C$10)>0,"",IF(OR(AND($D$98,$A22>30),AND($D$99=1, $A22>14)),"---",旅綜險簡易版費率表試算!EV15)) -> 1230 | M22: =IF(LEN($C$10)>0,"",IF(OR(AND($E$98,$A22>30),AND($E$99=1, $A22>14)),"---",旅綜險簡易版費率表試算!FK15)) -> 2374 | N22: =IF(LEN($C$10)>0,"",IF(OR(AND($E$98,$A22>30),AND($E$99=1, $A22>14)),"---",旅綜險簡易版費率表試算!FZ15)) -> 1446 | O22: =IF(LEN($C$10)>0,"",IF(OR(AND($E$98,$A22>30),AND($E$99=1, $A22>14)),"---",旅綜險簡易版費率表試算!GO15)) -> 1872 | P22: =IF(LEN($C$10)>0,"",IF(OR(AND($E$98,$A22>30),AND($E$99=1, $A22>14)),"---",旅綜險簡易版費率表試算!HD15)) -> 1754 | Q22: =IF(LEN($C$10)>0,"",IF(OR(AND($E$98,$A22>30),AND($E$99=1, $A22>14)),"---",旅綜險簡易版費率表試算!HS15)) -> 1754
A23: 12 | C23: =IF(LEN($C$10)>0, "", IF(OR(AND($C$98,$A23>30),AND($C$99=1, $A23>14)), "---", 旅綜險簡易版費率表試算!Q16)) -> 448 | D23: =IF(LEN($C$10)>0,"",IF(OR(AND($C$98,$A23>30),AND($C$99=1, $A23>14)),"---",旅綜險簡易版費率表試算!AF16)) -> 448 | E23: =IF(LEN($C$10)>0,"",IF(OR(AND($C$98,$A23>30),AND($C$99=1, $A23>14)),"---",旅綜險簡易版費率表試算!AU16)) -> 730 | F23: =IF(LEN($C$10)>0,"",IF(OR(AND($C$98,$A23>30),AND($C$99=1, $A23>14)),"---",旅綜險簡易版費率表試算!BJ16)) -> 1133 | G23: =IF(LEN($C$10)>0,"",IF(OR(AND($C$98,$A23>30),AND($C$99=1, $A23>14)),"---",旅綜險簡易版費率表試算!BY16)) -> 1388 | H23: =IF(LEN($C$10)>0,"", IF(OR(AND($D$98,$A23>30),AND($D$99=1, $A23>14)),"---",旅綜險簡易版費率表試算!CN16)) -> 697 | I23: =IF(LEN($C$10)>0,"",IF(OR(AND($D$98,$A23>30),AND($D$99=1, $A23>14)),"---",旅綜險簡易版費率表試算!DC16)) -> 774 | J23: =IF(LEN($C$10)>0,"",IF(OR(AND($D$98,$A23>30),AND($D$99=1, $A23>14)),"---",旅綜險簡易版費率表試算!DR16)) -> 923 | K23: =IF(LEN($C$10)>0,"",IF(OR(AND($D$98,$A23>30),AND($D$99=1, $A23>14)),"---",旅綜險簡易版費率表試算!EG16)) -> 1138 | L23: =IF(LEN($C$10)>0,"",IF(OR(AND($D$98,$A23>30),AND($D$99=1, $A23>14)),"---",旅綜險簡易版費率表試算!EV16)) -> 1275 | M23: =IF(LEN($C$10)>0,"",IF(OR(AND($E$98,$A23>30),AND($E$99=1, $A23>14)),"---",旅綜險簡易版費率表試算!FK16)) -> 2470 | N23: =IF(LEN($C$10)>0,"",IF(OR(AND($E$98,$A23>30),AND($E$99=1, $A23>14)),"---",旅綜險簡易版費率表試算!FZ16)) -> 1508 | O23: =IF(LEN($C$10)>0,"",IF(OR(AND($E$98,$A23>30),AND($E$99=1, $A23>14)),"---",旅綜險簡易版費率表試算!GO16)) -> 1951 | P23: =IF(LEN($C$10)>0,"",IF(OR(AND($E$98,$A23>30),AND($E$99=1, $A23>14)),"---",旅綜險簡易版費率表試算!HD16)) -> 1826 | Q23: =IF(LEN($C$10)>0,"",IF(OR(AND($E$98,$A23>30),AND($E$99=1, $A23>14)),"---",旅綜險簡易版費率表試算!HS16)) -> 1826
... A59: 180 | C59: =IF(LEN($C$10)>0, "", IF(OR(AND($C$98,$A59>30),AND($C$99=1, $A59>14)), "---", 旅綜險簡易版費率表試算!Q52)) -> --- | D59: =IF(LEN($C$10)>0,"",IF(OR(AND($C$98,$A59>30),AND($C$99=1, $A59>14)),"---",旅綜險簡易版費率表試算!AF52)) -> --- | E59: =IF(LEN($C$10)>0,"",IF(OR(AND($C$98,$A59>30),AND($C$99=1, $A59>14)),"---",旅綜險簡易版費率表試算!AU52)) -> --- | F59: =IF(LEN($C$10)>0,"",IF(OR(AND($C$98,$A59>30),AND($C$99=1, $A59>14)),"---",旅綜險簡易版費率表試算!BJ52)) -> --- | G59: =IF(LEN($C$10)>0,"",IF(OR(AND($C$98,$A59>30),AND($C$99=1, $A59>14)),"---",旅綜險簡易版費率表試算!BY52)) -> --- | H59: =IF(LEN($C$10)>0,"", IF(OR(AND($D$98,$A59>30),AND($D$99=1, $A59>14)),"---",旅綜險簡易版費率表試算!CN52)) -> 2957 | I59: =IF(LEN($C$10)>0,"",IF(OR(AND($D$98,$A59>30),AND($D$99=1, $A59>14)),"---",旅綜險簡易版費率表試算!DC52)) -> 3269 | J59: =IF(LEN($C$10)>0,"",IF(OR(AND($D$98,$A59>30),AND($D$99=1, $A59>14)),"---",旅綜險簡易版費率表試算!DR52)) -> 3875 | K59: =IF(LEN($C$10)>0,"",IF(OR(AND($D$98,$A59>30),AND($D$99=1, $A59>14)),"---",旅綜險簡易版費率表試算!EG52)) -> 4734 | L59: =IF(LEN($C$10)>0,"",IF(OR(AND($D$98,$A59>30),AND($D$99=1, $A59>14)),"---",旅綜險簡易版費率表試算!EV52)) -> 5273 | M59: =IF(LEN($C$10)>0,"",IF(OR(AND($E$98,$A59>30),AND($E$99=1, $A59>14)),"---",旅綜險簡易版費率表試算!FK52)) -> --- | N59: =IF(LEN($C$10)>0,"",IF(OR(AND($E$98,$A59>30),AND($E$99=1, $A59>14)),"---",旅綜險簡易版費率表試算!FZ52)) -> --- | O59: =IF(LEN($C$10)>0,"",IF(OR(AND($E$98,$A59>30),AND($E$99=1, $A59>14)),"---",旅綜險簡易版費率表試算!GO52)) -> --- | P59: =IF(LEN($C$10)>0,"",IF(OR(AND($E$98,$A59>30),AND($E$99=1, $A59>14)),"---",旅綜險簡易版費率表試算!HD52)) -> --- | Q59: =IF(LEN($C$10)>0,"",IF(OR(AND($E$98,$A59>30),AND($E$99=1, $A59>14)),"---",旅綜險簡易版費率表試算!HS52)) -> ---
A60: ※若欲投保之金額或旅遊天數非上表所列者，請服務同仁至[國泰金控員工入口網站/產險核心系統/旅綜險系統/保費試算]查詢
B98: 乙型且額度>0 | C98: =IF(AND($B$8="(乙型)",MAX(C$8:G$8)>0),TRUE,FALSE) -> TRUE | D98: =IF(AND($B$8="(乙型)",MAX(H$8:L$8)>0),TRUE,FALSE) -> FALSE | E98: =IF(AND($B$8="(乙型)",MAX(M$8:Q$8)>0),TRUE,FALSE) -> TRUE
A99: 海外/國內 | C99: =+費率表參數!U1 -> 2 | D99: =+費率表參數!U8 -> 2 | E99: =+費率表參數!U15 -> 2
A100: 旅遊不便\險別 | C100: =IF(C99=1,C101,C102) -> 費率表參數!V2:V5 | D100: =IF(D99=1,D101,D102) -> 費率表參數!V19:V22 | E100: =IF(E99=1,E101,E102) -> 費率表參數!V36:V39
A101: 1國內 | C101: 費率表參數!V8:V11 | D101: 費率表參數!V25:V28 | E101: 費率表參數!V42:V45
A102: 2國外 | C102: 費率表參數!V2:V5 | D102: 費率表參數!V19:V22 | E102: 費率表參數!V36:V39
A103: 死殘保額 | C103: 費率表彙總!D5:D34 | D103: 費率表彙總!D5:D44 | E103: 費率表彙總!C4:C74 | F103: =IF(AND(C99=1,費率表參數!J1=1),C103,IF(AND(C99=2,費率表參數!J1=1),D103,E103)) -> 費率表彙總!D5:D44 | G103: =IF(AND(D99=1,費率表參數!J1=1),C103,IF(AND(D99=2,費率表參數!J1=1),D103,E103)) -> 費率表彙總!D5:D44 | H103: =IF(AND(E99=1,費率表參數!J1=1),C103,IF(AND(E99=2,費率表參數!J1=1),D103,E103)) -> 費率表彙總!D5:D44
A104: 增購特定事故 | C104: 費率表參數!X3:X4
A105: 恐怖主義買回保額 | C105: 費率表參數!Y3:Y4
A106: 實支保額 | C106: 費率表彙總!J4:J34 | D106: 費率表彙總!J4:J14 | E106: 費率表彙總!J36:J41 | F106: 費率表彙總!J35:J36 | G106: =IF(AND(費率表參數!J1=0,C99=2),E106,(IF(AND(費率表參數!J1=0,C99=1),F106,IF(AND(費率表參數!J1=1,C99=2),C106,D106)))) -> 費率表彙總!J4:J34 | H106: =IF(AND(費率表參數!J1=0,D99=2),E106,(IF(AND(費率表參數!J1=0,D99=1),F106,IF(AND(費率表參數!J1=1,D99=2),C106,D106)))) -> 費率表彙總!J4:J34 | I106: =IF(AND(費率表參數!J1=0,E99=2),E106,(IF(AND(費率表參數!J1=0,E99=1),F106,IF(AND(費率表參數!J1=1,E99=2),C106,D106)))) -> 費率表彙總!J4:J34
A107: 海外突發疾病 | B107: (甲型) | C107: 費率表彙總!L4:L34 | D107: 費率表彙總!L36:L41 | E107: 費率表彙總!L4
B108: (乙型) | C108: 費率表彙總!L4:L26 | D108: 費率表彙總!L36:L41 | E108: 費率表彙總!L4
C109: =IF(C99=1,E107,(IF(AND(C99=2,K11=G115),D107,C107))) -> 費率表彙總!L4:L34 | D109: =IF(D99=1,E107,(IF(AND(D99=2,K11=G115),D107,C107))) -> 費率表彙總!L4:L34 | E109: =IF(E99=1,E107,(IF(AND(E99=2,K11=G115),D107,C107))) -> 費率表彙總!L4:L34
A110: 非台籍人士境內突發 | C110: 費率表彙總!P4:P16 | D110: 費率表彙總!P35:P36 | E110: 費率表彙總!P4
C111: =IF(C99=2,E110,(IF(AND(C99=1,K11=G115),D110,C110))) -> 費率表彙總!P4 | D111: =IF(D99=2,E110,(IF(AND(D99=1,K11=G115),D110,C110))) -> 費率表彙總!P4 | E111: =IF(E99=2,E110,(IF(AND(E99=1,K11=G115),D110,C110))) -> 費率表彙總!P4
A113: 簡易版費率表 | C113: 費率別 | E113: =+總表!F98 -> 6 | G113: =CHOOSE(E113,"費率表參數!H2:H6","費率表參數!H2:H2","費率表參數!H3:H3","費率表參數!H2:H3","費率表參數!H2:H4","費率表參數!H2:H5","費率表參數!H5:H5") -> 費率表參數!H2:H5
G114: (被保險人15足歲以上適用)
G115: (被保險人未滿15足歲適用)

Sheet 訊息提示
A1: 旅綜險檢核 | B1: kyra5662
A2: 訊息欄 | B2: =D3&D4&D5&D6&D7&D8&D9&D10&D11&D12&D13&D14&D15&D16&D17&D18&D19&D20&D21&D22&D23&D24&D25&D26&D27&D28&D29&D30&D31&D32&D33&D34&D35&D36&D37&D38&D39&D40&D41&D42&D44&D50&D51&D52&D53&D45&D46&D43&D47 | K2: 條件1 | L2: 條件2 | M2: 條件3
A3: 檢核版本訊息 | D3: =IF(K3,"請重新上網下載更新版本 ","") | K3: =總表!D100<TODAY() -> FALSE
A4: 死殘保額下限 | D4: =IF(AND(旅綜險!L12<>"是",旅綜險!C103>1,旅綜險!C103<9,旅綜險!D12<100),"身故失能保額最低100萬元 ","")
A5: 死殘保額上限 | D5: =IF(K5,N5&"旅遊地點"&O5&"身故失能保額<="&L5&"萬 ","") | K5: =旅綜險!D$12>L5 -> FALSE | L5: =CHOOSE(旅綜險!C103,69,500,1500,1500,2000,1000,500,100,50,69,200) -> 2000 | N5: =+旅綜險!H11 -> 滿20歲-未滿65歲 | O5: =+旅綜險!H12 -> 海外
A6: 實支保額限制200萬 | D6: =IF(OR(K6,L6),"實支實付保額<=200萬 ","") | K6: =旅綜險!D13>200 -> FALSE | L6: =旅綜險!D13<0 -> FALSE
A7: 國內實支大於10萬 | D7: =IF(AND(K7,L7),"實支實付保額<=10萬 ","") | K7: =AND(+旅綜險!H12="國內",旅綜險!D13>10) -> FALSE | L7: =OR(旅綜險!C104=2,旅綜險!C104=4,旅綜險!C104=6,旅綜險!C104=7,旅綜險!C104=8) -> FALSE
A8: (甲型)突發疾病保額限制200萬 | D8: =IF(OR(K8,L8),"(甲型)突發疾病保額<=200萬 ","") | K8: =+AND(旅綜險!C14="(甲型)",旅綜險!D14>200) -> FALSE | L8: =旅綜險!D14<0 -> FALSE
A9: (乙型)突發疾病保額限制120萬 | D9: =IF(OR(K9,L9),"(乙型)突發疾病保額<=120萬 ","") | K9: =+AND(旅綜險!C14="(乙型)",旅綜險!D14>120) -> FALSE
A10: 國內身故失能與實支比例 | D10: =IF(AND(K10,L10,M10),"醫療實支保額<=身故失能*10% ","") | K10: =IF(旅綜險!D12<=10,IF(ROUNDUP(旅綜險!D12*10%,0)<旅綜險!D13,TRUE,FALSE),IF(旅綜險!D12*10%<旅綜險!D13,TRUE,FALSE)) -> FALSE | L10: =IF(選擇項目!B1=1,TRUE,FALSE) -> FALSE | M10: =旅綜險!H11<>"未滿15歲" -> TRUE
A11: 海外身故失能與實支比例 | D11: =IF(AND(K11,L11,M11),"醫療實支保額<=身故失能*30% ","") | K11: =IF(旅綜險!D12<=10,IF(ROUNDUP(旅綜險!D12*30%,0)<旅綜險!D13,TRUE,FALSE),IF(旅綜險!D12*30%<旅綜險!D13,TRUE,FALSE)) -> FALSE | L11: =IF(選擇項目!B1>1,TRUE,FALSE) -> TRUE | M11: =旅綜險!H11<>"未滿15歲" -> TRUE
A12: 國內身故失能與突疾比例 | D12: =IF(AND(K12,L12,M12),"突疾保額<=身故失能*10% ","") | K12: =IF(旅綜險!D12<=10,IF(ROUNDUP(旅綜險!D12*10%,0)<旅綜險!L13,TRUE,FALSE),IF(旅綜險!D12*10%<旅綜險!L13,TRUE,FALSE)) -> FALSE | L12: =IF(選擇項目!B1=1,TRUE,FALSE) -> FALSE | M12: =旅綜險!H11<>"未滿15歲" -> TRUE
A13: 海外身故失能與突疾比例 | D13: =IF(AND(K13,L13,M13),"突疾保額<=身故失能*30% ","") | K13: =IF(旅綜險!D12<=10,IF(ROUNDUP(旅綜險!D12*30%,0)<旅綜險!D14,TRUE,FALSE),IF(旅綜險!D12*30%<旅綜險!D14,TRUE,FALSE)) -> FALSE | L13: =IF(選擇項目!B1>1,TRUE,FALSE) -> TRUE | M13: =旅綜險!H11<>"未滿15歲" -> TRUE
A14: 未滿15歲海突限0,10,20,30,50,120萬 | D14: =IF(AND(K14,L14),"未滿15歲，海突保額未符規範 ","") | K14: =AND(N14="未滿15歲",O14="海外") -> FALSE | L14: =IF(OR(旅綜險!D14=0,旅綜險!D14=10,旅綜險!D14=20,旅綜險!D14=30,旅綜險!D14=50,旅綜險!D14=120),FALSE,TRUE) -> FALSE | N14: =+旅綜險!H11 -> 滿20歲-未滿65歲 | O14: =+旅綜險!H12 -> 海外
A15: 未滿15歲國內實支限0,6萬 | D15: =IF(AND(K15,L15),"未滿15歲，國內實支超過上限 ","") | K15: =AND(N15="未滿15歲",O15="國內") -> FALSE | L15: =IF(OR(旅綜險!D14=0,旅綜險!D14=6),FALSE,TRUE) -> TRUE | N15: =+旅綜險!H11 -> 滿20歲-未滿65歲 | O15: =+旅綜險!H12 -> 海外
A16: 未滿15歲海外實支限0,10,20,30,50,120萬 | D16: =IF(AND(K16,L16),"未滿15歲，海外實支未符規範 ","") | K16: =AND(N16="未滿15歲",O16="海外") -> FALSE | L16: =IF(OR(旅綜險!D13=0,旅綜險!D13=10,旅綜險!D13=20,旅綜險!D13=30,旅綜險!D13=50,旅綜險!D13=120),FALSE,TRUE) -> FALSE | N16: =+旅綜險!H11 -> 滿20歲-未滿65歲 | O16: =+旅綜險!H12 -> 海外
A17: 未滿15歲海外(0,0),(10,10),(20,20),(30,30),(120,120) | D17: =IF(AND(K17,L17,M17),"實支海突保額須相同 ","") | K17: =IF(旅綜險!H11="未滿15歲",TRUE,FALSE) -> FALSE | L17: =(旅綜險!D13<>旅綜險!D14) -> FALSE | M17: =IF(旅綜險!H12="海外",TRUE,FALSE) -> TRUE
A18: 國內旅遊天數限制14天 | D18: =IF(AND(選擇項目!$B$1=1,旅綜險!$H$13>14),"國內旅遊天數最高<=14天 ","")
A19: 國外旅遊天數限制180天 | D19: =IF(AND(OR(選擇項目!$B$1=2,選擇項目!$B$1=3),旅綜險!$H$13>180),"國外旅遊天數最高<=180天 ","")
A20: 國外乙型旅遊天數限制30天 | D20: =IF(AND(選擇項目!$B$1>1,旅綜險!C14="(乙型)",旅綜險!D14<>0,旅綜險!$H$13>30),"海突(乙型)天數<=30天 ","")
A21: 國內旅遊不得投保突發疾病 | D21: =IF(AND(選擇項目!$B$1=1,旅綜險!$D$14>0),"國內旅遊不得投保海外突疾 ","")
A22: 申根保額限制-實支 | D22: =IF(AND(選擇項目!$B$1=3,旅綜險!$D$13<120),"申根旅遊實支實付>=120萬 ","")
A23: 申根保額限制-突發疾病 | D23: =IF(AND(選擇項目!$B$1=3,旅綜險!$D$14<120),"申根旅遊突發疾病>=120萬 ","")
A24: 申根保額限制-旅遊不便 | D24: =IF(AND(選擇項目!$B$1=3,選擇項目!$D$1=1),"申根旅遊須投保旅遊不便 ","")
A25: 身故失能保額為50的倍數 | D25: =IF(AND(選擇項目!E1>1,MOD(旅綜險!D12,50)<>0),"身故失能保額須以50萬為單位 ","")
A26: 實支保額為萬的倍數 | D26: =IF(MOD(旅綜險!$D$13,1)<>0,"實支實付保額須以萬元為單位 ","")
A27: 突發疾病保額為萬的倍數 | D27: =IF(MOD(旅綜險!$D$14,1)<>0,"突發疾病保額須以萬元為單位 ","")
A28: 增購海陸特定事故死殘 | D28: =IF(AND(選擇項目!E1=1,選擇項目!G1=1),"特定事故身故失能限15歲以上 ","")
A29: 費率別選項 | D29: =IF(ISNA(VLOOKUP(旅綜險!L11,INDIRECT(旅綜險!C108),1,FALSE)),"請調整費率別選項 ","")
A30: 旅遊不便選項 | D30: =IF(ISNA(VLOOKUP(旅綜險!H14,INDIRECT(旅綜險!C109),1,FALSE)),"旅遊地點與旅遊不便選項錯誤 ","")
A31: 台籍旅客與國內非台籍(X1) | D31: =IF(K31,"台籍旅客不應投保非台籍不便險 ","") | K31: =AND(旅綜險!L12="否",旅綜險!H14="國內非台籍(X1)") -> FALSE
A32: 國內非台籍(X1)與實支、突發 | D32: =IF(K32,"國內非台籍(X1)的實支與突疾應為10萬 ","") | K32: =AND(旅綜險!H14="國內非台籍(X1)",OR(旅綜險!D13<>10,旅綜險!L13<>10)) -> FALSE
A33: 台籍旅客與境內突發疾病 | D33: =IF(K33,"台籍旅客不應投保境內突疾 ","") | K33: =AND(旅綜險!L12="否",旅綜險!L13>0) -> FALSE
A34: 陸客來台旅遊與國內非台籍(X1) | N34: =IF(選擇項目!H1=1,IF(旅綜險!H14="國內非台籍(X)","","陸客來台旅遊須購買國內非台籍(X)方案 "),"")
A35: 陸客來台旅遊與境內突發疾病保額限制 | K35: =AND(旅綜險!L12="是",旅綜險!H11<>"未滿15歲",旅綜險!L13<50) -> FALSE | N35: =IF(K35,"陸客來台境內突發疾病保額>=50萬 ","")
A36: 陸客來台旅遊與實支保額限制 | K36: =AND(旅綜險!L12="是",旅綜險!H11<>"未滿15歲",旅綜險!D13<50) -> FALSE | N36: =IF(K36,"陸客來台實支實付保額>=50萬 ","")
A37: 陸客來台旅遊與身故失能保額限制 | D37: =IF(K37,"陸客來台身故失能保額>=200萬 ","") | K37: =AND(旅綜險!L12="是",旅綜險!H11<>"未滿15歲",旅綜險!D12<200) -> FALSE
A38: 小陸客來台旅遊與境內突發疾病保額限制 | K38: =AND(旅綜險!L12="是",旅綜險!H11="未滿15歲",旅綜險!L13<>50) -> FALSE | N38: =IF(K38,"陸客小朋友來台境內突發疾病保額=50萬 ","")
A39: 小陸客來台旅遊與實支保額限制 | K39: =AND(旅綜險!L12="是",旅綜險!H11="未滿15歲",旅綜險!D13<>50) -> FALSE | N39: =IF(K39,"陸客小朋友來台實支實付保額=50萬 ","")
A40: 旅遊地點與境內突發 | D40: =IF(AND(選擇項目!B1<>1,旅綜險!L13>0),"海外旅遊不得投保非台籍境內突疾 ","")
A41: 增購恐怖主義死殘限制 | D41: =IF(AND(選擇項目!E1=1,選擇項目!I1=1),"恐怖主義買回限15歲以上 ","")
A42: 不便險豪華型(U2)控制_15歲以上 | D42: =IF(AND(選擇項目!E1>1,OR(K42,L42)),"投保海外豪華型(U2)專案身故失能>=300萬且實支海突>=身故失能10% ","") | K42: =AND(旅綜險!D12<300,選擇項目!D1=7) -> FALSE | L42: =AND(OR(旅綜險!D13<旅綜險!D12*10%,旅綜險!D14<旅綜險!D12*10%),選擇項目!D1=7) -> FALSE
A43: 不便險豪華型(U2)控制_未滿15歲 | D43: =IF(AND(選擇項目!E1=1,K43),"投保海外豪華型須實支海突>=50萬 ","") | K43: =AND(OR(旅綜險!D13<50,旅綜險!D14<50),選擇項目!D1=7) -> FALSE
A44: 不便險標準型(T2)控制 | D44: =IF(K44,"投保不便海外標準型(T2)專案身故失能保額>=200萬 ","") | K44: =AND(旅綜險!D12<200,選擇項目!D1=6,1<選擇項目!E1,6>選擇項目!E1) -> FALSE
A45: 不便險期間限定型(Z2)控制_大人身故失能 | D45: =IF(K45,"投保不海外不便(Z)系列方案身故失能保額>=500萬 ","") | K45: =AND(旅綜險!D12<500,選擇項目!D1>=8,選擇項目!E1>1) -> FALSE
A46: 不便險期間限定型(Z2)控制_大人實支海突 | D46: =IF(K46,"投保海外不便(Z)系列方案實支及海突>=身故失能10% ","") | K46: =AND(OR(旅綜險!D13<旅綜險!D12*10%,旅綜險!D14<旅綜險!D12*10%),選擇項目!D1>=8,選擇項目!E1>1) -> FALSE
A47: 不便險期間限定型(Z2)控制_小孩實支海突 | D47: =IF(K47,"投保海外不便(Z)系列方案實支及海突>=50萬 ","") | K47: =AND(OR(旅綜險!D13<50,旅綜險!D14<50),選擇項目!D1>=8,選擇項目!E1=1) -> FALSE
A48: 不便險翱翔型(I)控制 | D48: =IF(OR(K48,L48),"限網路投保不便翱翔型(I)專案，且身故失能保額>=300萬 ","") -> 限網路投保不便翱翔型(I)專案，且身故失能保額>=300萬 | K48: =AND(旅綜險!D12<300,選擇項目!D1=7) -> FALSE | L48: =AND(選擇項目!D1=7,NOT(選擇項目!C1=4)) -> TRUE | N48: =IF(OR(K48,L48),"限網路投保不便翱翔型(I)專案，且身故失能保額>=300萬 ","") -> 限網路投保不便翱翔型(I)專案，且身故失能保額>=300萬
A49: 不便險翱翔租車型(IC)控制 | D49: =IF(K49,"投保不便翱翔租車型(IC)專案身故失能保額>=300萬 ","") | K49: =AND(旅綜險!D12<300,選擇項目!D1=8) -> FALSE | N49: =IF(K49,"投保不便翱翔租車型(IC)專案身故失能保額>=300萬 ","")
A50: 滿85歲以上實支檢核 | D50: =IF(K50,"滿85歲以上不可投保實支醫療 ","") | K50: =AND(旅綜險!C103=9,旅綜險!D13>0) -> FALSE
A51: 滿85歲以上突發檢核 | D51: =IF(K51,"滿85歲以上不可投保突發疾病 ","") | K51: =AND(旅綜險!C103=9,旅綜險!D14>0) -> FALSE
A52: 滿85歲以上特定事故檢核 | D52: =IF(K52,"滿85歲以上不可投保特定事故 ","") | K52: =AND(旅綜險!C103=9,旅綜險!E15="是") -> FALSE
A53: 滿85歲以上恐怖主義檢核 | D53: =IF(K53,"滿85歲以上不可投保恐怖主義 ","") | K53: =AND(旅綜險!C103=9,旅綜險!E16="是") -> FALSE
A71: 特定活動檢核
A72: 訊息欄 | B72: =D73&D76&D77&D78&D79&D80&D81&D82
A73: 檢核版本訊息 | D73: =IF(K73,"請重新上網下載更新版本 ","") | K73: =總表!D100<TODAY() -> FALSE
A74: 特定活動檢核 | B74: 死殘限100倍數 | D74: =IF(INT(特定活動!D11/100)*100<>特定活動!D11,"特定活動死殘保額為100萬的倍數 ","")
B75: 死殘最高500萬 | D75: =IF(OR(K75,L75),"特定活動死殘介於100-500萬 ","") | K75: =特定活動!D11>500 -> FALSE | L75: =特定活動!D11<100 -> FALSE
A76: 未滿15足歲身故失能保額限制 | D76: =IF(選擇項目!$E$21=2,"暫停受理未滿15歲者 ","") | N76: 舊函數=IF(AND(選擇項目!$E$21=2,特定活動!$D$11>61.5),"未滿15足歲身故失能保額<=61.5萬元 ","")
A77: 15足歲以上身故失能保額限制 | D77: =IF(AND(K77,L77),"身故失能保額須為100萬、200萬、300萬或500萬 ","") | K77: =IF(特定活動!D11<100,TRUE,FALSE) -> FALSE | L77: =IF(保費試算!B57="未滿15足歲",FALSE,TRUE) -> TRUE | N77: =IF(選擇項目!$E$21=2,"暫停受理未滿15歲者 ","")
B78: 實支為死殘的10% | D78: =IF(AND(特定活動!D12<>0,(ROUND(特定活動!D11*10%,0)<特定活動!D12)),"實支以身故失能10%為限 ","")
A79: 國內旅遊天數限制60天 | D79: =IF(AND(選擇項目!B21=1,特定活動!$H$14>60),"國內旅遊天數最高<=60天 ","")
A80: 國外旅遊天數限制180天 | D80: =IF(AND(選擇項目!B21>=2,特定活動!$H$14>180),"國外旅遊天數最高<=180天 ","")
B81: 旅遊地點與不便險選項 | D81: =IF(ISNA(VLOOKUP(特定活動!H13,INDIRECT(特定活動!C107),1,FALSE)),"旅遊地點與旅遊不便選項錯誤 ","")
A82: 不便險豪華型(L)控制 | D82: =IF(K82,"投保不便海外豪華型(L)專案死亡失能保額>=300萬 ","") | K82: =AND(特定活動!D11<300,選擇項目!D21=2) -> FALSE

Sheet 旅綜險簡易版費率表試算
A1: 欄位位移數 | C1: =+C2-1 -> 0 | F1: =INT((C2-1)/5)*5 -> 0 | G1: =+F1 -> 0 | H1: =+C1 -> 0 | I1: =+C1 -> 0 | J1: =+C1 -> 0 | K1: =+C1 -> 0 | L1: =+C1 -> 0 | M1: =INT((C2-1)/5)*18 -> 0 | N1: =+M1 -> 0 | O1: =+M1 -> 0 | P1: =+M1 -> 0 | R1: =+R2-1 -> 1 | U1: =INT((R2-1)/5)*5 -> 0 | V1: =+U1 -> 0 | W1: =+R1 -> 1 | X1: =+R1 -> 1 | Y1: =+R1 -> 1 | Z1: =+R1 -> 1 | AA1: =+R1 -> 1 | AB1: =INT((R2-1)/5)*18 -> 0 | AC1: =+AB1 -> 0 | AD1: =+AB1 -> 0 | AE1: =+AB1 -> 0 | AG1: =+AG2-1 -> 2 | AJ1: =INT((AG2-1)/5)*5 -> 0 | AK1: =+AJ1 -> 0 | AL1: =+AG1 -> 2 | AM1: =+AG1 -> 2 | AN1: =+AG1 -> 2 | AO1: =+AG1 -> 2 | AP1: =+AG1 -> 2 | AQ1: =INT((AG2-1)/5)*18 -> 0 | AR1: =+AQ1 -> 0 | AS1: =+AQ1 -> 0 | AT1: =+AQ1 -> 0 | AV1: =+AV2-1 -> 3 | AY1: =INT((AV2-1)/5)*5 -> 0 | AZ1: =+AY1 -> 0 | BA1: =+AV1 -> 3 | BB1: =+AV1 -> 3 | BC1: =+AV1 -> 3 | BD1: =+AV1 -> 3 | BE1: =+AV1 -> 3 | BF1: =INT((AV2-1)/5)*18 -> 0 | BG1: =+BF1 -> 0 | BH1: =+BF1 -> 0 | BI1: =+BF1 -> 0 | BK1: =+BK2-1 -> 4 | BN1: =INT((BK2-1)/5)*5 -> 0 | BO1: =+BN1 -> 0 | BP1: =+BK1 -> 4 | BQ1: =+BK1 -> 4 | BR1: =+BK1 -> 4 | BS1: =+BK1 -> 4 | BT1: =+BK1 -> 4 | BU1: =INT((BK2-1)/5)*18 -> 0 | BV1: =+BU1 -> 0 | BW1: =+BU1 -> 0 | BX1: =+BU1 -> 0 | BZ1: =+BZ2-1 -> 5 | CC1: =INT((BZ2-1)/5)*5 -> 5 | CD1: =+CC1 -> 5 | CE1: =+BZ1 -> 5 | CF1: =+BZ1 -> 5 | CG1: =+BZ1 -> 5 | CH1: =+BZ1 -> 5 | CI1: =+BZ1 -> 5 | CJ1: =INT((BZ2-1)/5)*18 -> 18 | CK1: =+CJ1 -> 18 | CL1: =+CJ1 -> 18 | CM1: =+CJ1 -> 18 | CO1: =+CO2-1 -> 6 | CR1: =INT((CO2-1)/5)*5 -> 5 | CS1: =+CR1 -> 5 | CT1: =+CO1 -> 6 | CU1: =+CO1 -> 6 | CV1: =+CO1 -> 6 | CW1: =+CO1 -> 6 | CX1: =+CO1 -> 6 | CY1: =INT((CO2-1)/5)*18 -> 18 | CZ1: =+CY1 -> 18 | DA1: =+CY1 -> 18 | DB1: =+CY1 -> 18 | DD1: =+DD2-1 -> 7 | DG1: =INT((DD2-1)/5)*5 -> 5 | DH1: =+DG1 -> 5 | DI1: =+DD1 -> 7 | DJ1: =+DD1 -> 7 | DK1: =+DD1 -> 7 | DL1: =+DD1 -> 7 | DM1: =+DD1 -> 7 | DN1: =INT((DD2-1)/5)*18 -> 18 | DO1: =+DN1 -> 18 | DP1: =+DN1 -> 18 | DQ1: =+DN1 -> 18 | DS1: =+DS2-1 -> 8 | DV1: =INT((DS2-1)/5)*5 -> 5 | DW1: =+DV1 -> 5 | DX1: =+DS1 -> 8 | DY1: =+DS1 -> 8 | DZ1: =+DS1 -> 8 | EA1: =+DS1 -> 8 | EB1: =+DS1 -> 8 | EC1: =INT((DS2-1)/5)*18 -> 18 | ED1: =+EC1 -> 18 | EE1: =+EC1 -> 18 | EF1: =+EC1 -> 18 | EH1: =+EH2-1 -> 9 | EK1: =INT((EH2-1)/5)*5 -> 5 | EL1: =+EK1 -> 5 | EM1: =+EH1 -> 9 | EN1: =+EH1 -> 9 | EO1: =+EH1 -> 9 | EP1: =+EH1 -> 9 | EQ1: =+EH1 -> 9 | ER1: =INT((EH2-1)/5)*18 -> 18 | ES1: =+ER1 -> 18 | ET1: =+ER1 -> 18 | EU1: =+ER1 -> 18 | EW1: =+EW2-1 -> 10 | EZ1: =INT((EW2-1)/5)*5 -> 10 | FA1: =+EZ1 -> 10 | FB1: =+EW1 -> 10 | FC1: =+EW1 -> 10 | FD1: =+EW1 -> 10 | FE1: =+EW1 -> 10 | FF1: =+EW1 -> 10 | FG1: =INT((EW2-1)/5)*18 -> 36 | FH1: =+FG1 -> 36 | FI1: =+FG1 -> 36 | FJ1: =+FG1 -> 36 | FL1: =+FL2-1 -> 11 | FO1: =INT((FL2-1)/5)*5 -> 10 | FP1: =+FO1 -> 10 | FQ1: =+FL1 -> 11 | FR1: =+FL1 -> 11 | FS1: =+FL1 -> 11 | FT1: =+FL1 -> 11 | FU1: =+FL1 -> 11 | FV1: =INT((FL2-1)/5)*18 -> 36 | FW1: =+FV1 -> 36 | FX1: =+FV1 -> 36 | FY1: =+FV1 -> 36 | GA1: =+GA2-1 -> 12 | GD1: =INT((GA2-1)/5)*5 -> 10 | GE1: =+GD1 -> 10 | GF1: =+GA1 -> 12 | GG1: =+GA1 -> 12 | GH1: =+GA1 -> 12 | GI1: =+GA1 -> 12 | GJ1: =+GA1 -> 12 | GK1: =INT((GA2-1)/5)*18 -> 36 | GL1: =+GK1 -> 36 | GM1: =+GK1 -> 36 | GN1: =+GK1 -> 36 | GP1: =+GP2-1 -> 13 | GS1: =INT((GP2-1)/5)*5 -> 10 | GT1: =+GS1 -> 10 | GU1: =+GP1 -> 13 | GV1: =+GP1 -> 13 | GW1: =+GP1 -> 13 | GX1: =+GP1 -> 13 | GY1: =+GP1 -> 13 | GZ1: =INT((GP2-1)/5)*18 -> 36 | HA1: =+GZ1 -> 36 | HB1: =+GZ1 -> 36 | HC1: =+GZ1 -> 36 | HE1: =+HE2-1 -> 14 | HH1: =INT((HE2-1)/5)*5 -> 10 | HI1: =+HH1 -> 10 | HJ1: =+HE1 -> 14 | HK1: =+HE1 -> 14 | HL1: =+HE1 -> 14 | HM1: =+HE1 -> 14 | HN1: =+HE1 -> 14 | HO1: =INT((HE2-1)/5)*18 -> 36 | HP1: =+HO1 -> 36 | HQ1: =+HO1 -> 36 | HR1: =+HO1 -> 36
A2: =VLOOKUP(旅綜險簡易版費率表!$C$11,費率表參數!$H$2:$I$6,2,FALSE) -> 1 | B2: =VLOOKUP(旅綜險簡易版費率表!K11,費率表參數!J2:K3,2,FALSE) -> 1 | C2: 1 | R2: 2 | AG2: 3 | AV2: 4 | BK2: 5 | BZ2: 6 | CO2: 7 | DD2: 8 | DS2: 9 | EH2: 10 | EW2: 11 | FL2: 12 | GA2: 13 | GP2: 14 | HE2: 15
A3: =VLOOKUP(旅綜險簡易版費率表!$C$11,費率表參數!$H$11:$I$15,2,FALSE) -> 1 | C3: =OFFSET(旅綜險簡易版費率表!$C$4,0,C1) -> 300 | F3: =IF(OFFSET(旅綜險簡易版費率表!$C$5,0,F1)="不加保",0,OFFSET(F3,0,-3,,)) -> 0 | G3: =IF(OFFSET(旅綜險簡易版費率表!$C$6,0,G1)="不加保",0,OFFSET(G3,0,-4,,)+OFFSET(G3,0,-1,,)) -> 0 | H3: =OFFSET(旅綜險簡易版費率表!$C$7,0,H1) -> 0 | I3: =IF($A$2=84.25%,0,H3) -> 0 | J3: =IF(旅綜險簡易版費率表!$B$8="(甲型)",OFFSET(旅綜險簡易版費率表!$C$8,0,J1),0) -> 0 | K3: =IF(旅綜險簡易版費率表!$B$8="(乙型)",OFFSET(旅綜險簡易版費率表!$C$8,0,K1),0) -> 30 | L3: =OFFSET(旅綜險簡易版費率表!$C$9,0,L1) -> 0 | M3: =OFFSET(費率表參數!$C$15,M1,0) -> #N/A | N3: =OFFSET(費率表參數!$D$15,N1,0) -> #N/A | O3: =OFFSET(費率表參數!$E$15,O1,0) -> #N/A | P3: =OFFSET(費率表參數!$F$15,P1,0) -> #N/A | Q3: 保費 小計 | R3: =OFFSET(旅綜險簡易版費率表!$C$4,0,R1) -> 300 | U3: =IF(OFFSET(旅綜險簡易版費率表!$C$5,0,U1)="不加保",0,OFFSET(U3,0,-3,,)) -> 0 | V3: =IF(OFFSET(旅綜險簡易版費率表!$C$6,0,V1)="不加保",0,OFFSET(V3,0,-4,,)+OFFSET(V3,0,-1,,)) -> 0 | W3: =OFFSET(旅綜險簡易版費率表!$C$7,0,W1) -> 0 | X3: =IF($A$2=84.25%,0,W3) -> 0 | Y3: =IF(旅綜險簡易版費率表!$B$8="(甲型)",OFFSET(旅綜險簡易版費率表!$C$8,0,Y1),0) -> 0 | Z3: =IF(旅綜險簡易版費率表!$B$8="(乙型)",OFFSET(旅綜險簡易版費率表!$C$8,0,Z1),0) -> 30 | AA3: =OFFSET(旅綜險簡易版費率表!$C$9,0,AA1) -> 0 | AB3: =OFFSET(費率表參數!$C$15,AB1,0) -> #N/A | AC3: =OFFSET(費率表參數!$D$15,AC1,0) -> #N/A | AD3: =OFFSET(費率表參數!$E$15,AC1,0) -> #N/A | AE3: =OFFSET(費率表參數!$F$15,AE1,0) -> #N/A | AF3: 保費 小計 | AG3: =OFFSET(旅綜險簡易版費率表!$C$4,0,AG1) -> 500 | AJ3: =IF(OFFSET(旅綜險簡易版費率表!$C$5,0,AJ1)="不加保",0,OFFSET(AJ3,0,-3,,)) -> 0 | AK3: =IF(OFFSET(旅綜險簡易版費率表!$C$6,0,AK1)="不加保",0,OFFSET(AK3,0,-4,,)+OFFSET(AK3,0,-1,,)) -> 0 | AL3: =OFFSET(旅綜險簡易版費率表!$C$7,0,AL1) -> 0 | AM3: =IF($A$2=84.25%,0,AL3) -> 0 | AN3: =IF(旅綜險簡易版費率表!$B$8="(甲型)",OFFSET(旅綜險簡易版費率表!$C$8,0,AN1),0) -> 0 | AO3: =IF(旅綜險簡易版費率表!$B$8="(乙型)",OFFSET(旅綜險簡易版費率表!$C$8,0,AO1),0) -> 50 | AP3: =OFFSET(旅綜險簡易版費率表!$C$9,0,AP1) -> 0 | AQ3: =OFFSET(費率表參數!$C$15,AQ1,0) -> #N/A | AR3: =OFFSET(費率表參數!$D$15,AR1,0) -> #N/A | AS3: =OFFSET(費率表參數!$E$15,AS1,0) -> #N/A | AT3: =OFFSET(費率表參數!$F$15,AT1,0) -> #N/A | AU3: 保費 小計 | AV3: =OFFSET(旅綜險簡易版費率表!$C$4,0,AV1) -> 800 | AY3: =IF(OFFSET(旅綜險簡易版費率表!$C$5,0,AY1)="不加保",0,OFFSET(AY3,0,-3,,)) -> 0 | AZ3: =IF(OFFSET(旅綜險簡易版費率表!$C$6,0,AZ1)="不加保",0,OFFSET(AZ3,0,-4,,)+OFFSET(AZ3,0,-1,,)) -> 0 | BA3: =OFFSET(旅綜險簡易版費率表!$C$7,0,BA1) -> 0 | BB3: =IF($A$2=84.25%,0,BA3) -> 0 | BC3: =IF(旅綜險簡易版費率表!$B$8="(甲型)",OFFSET(旅綜險簡易版費率表!$C$8,0,BC1),0) -> 0 | BD3: =IF(旅綜險簡易版費率表!$B$8="(乙型)",OFFSET(旅綜險簡易版費率表!$C$8,0,BD1),0) -> 80 | BE3: =OFFSET(旅綜險簡易版費率表!$C$9,0,BE1) -> 0 | BF3: =OFFSET(費率表參數!$C$15,BF1,0) -> #N/A | BG3: =OFFSET(費率表參數!$D$15,BG1,0) -> #N/A | BH3: =OFFSET(費率表參數!$E$15,BH1,0) -> #N/A | BI3: =OFFSET(費率表參數!$F$15,BI1,0) -> #N/A | BJ3: 保費 小計 | BK3: =OFFSET(旅綜險簡易版費率表!$C$4,0,BK1) -> 1000 | BN3: =IF(OFFSET(旅綜險簡易版費率表!$C$5,0,BN1)="不加保",0,OFFSET(BN3,0,-3,,)) -> 0 | BO3: =IF(OFFSET(旅綜險簡易版費率表!$C$6,0,BO1)="不加保",0,OFFSET(BO3,0,-4,,)+OFFSET(BO3,0,-1,,)) -> 0 | BP3: =OFFSET(旅綜險簡易版費率表!$C$7,0,BP1) -> 0 | BQ3: =IF($A$2=84.25%,0,BP3) -> 0 | BR3: =IF(旅綜險簡易版費率表!$B$8="(甲型)",OFFSET(旅綜險簡易版費率表!$C$8,0,BR1),0) -> 0 | BS3: =IF(旅綜險簡易版費率表!$B$8="(乙型)",OFFSET(旅綜險簡易版費率表!$C$8,0,BS1),0) -> 100 | BT3: =OFFSET(旅綜險簡易版費率表!$C$9,0,BT1) -> 0 | BU3: =OFFSET(費率表參數!$C$15,BU1,0) -> #N/A | BV3: =OFFSET(費率表參數!$D$15,BV1,0) -> #N/A | BW3: =OFFSET(費率表參數!$E$15,BW1,0) -> #N/A | BX3: =OFFSET(費率表參數!$F$15,BX1,0) -> #N/A | BY3: 保費 小計 | BZ3: =OFFSET(旅綜險簡易版費率表!$C$4,0,BZ1) -> 200 | CC3: =IF(OFFSET(旅綜險簡易版費率表!$C$5,0,CC1)="不加保",0,OFFSET(CC3,0,-3,,)) -> 0 | CD3: =IF(OFFSET(旅綜險簡易版費率表!$C$6,0,CD1)="不加保",0,OFFSET(CD3,0,-4,,)+OFFSET(CD3,0,-1,,)) -> 0 | CE3: =OFFSET(旅綜險簡易版費率表!$C$7,0,CE1) -> 10 | CF3: =IF($A$2=84.25%,0,CE3) -> 10 | CG3: =IF(旅綜險簡易版費率表!$B$8="(甲型)",OFFSET(旅綜險簡易版費率表!$C$8,0,CG1),0) -> 0 | CH3: =IF(旅綜險簡易版費率表!$B$8="(乙型)",OFFSET(旅綜險簡易版費率表!$C$8,0,CH1),0) -> 0 | CI3: =OFFSET(旅綜險簡易版費率表!$C$9,0,CI1) -> 0 | CJ3: =OFFSET(費率表參數!$C$15,CJ1,0) -> 61 | CK3: =OFFSET(費率表參數!$D$15,CK1,0) -> 62 | CL3: =OFFSET(費率表參數!$E$15,CL1,0) -> 63 | CM3: =OFFSET(費率表參數!$F$15,CM1,0) -> 64 | CN3: 保費 小計 | CO3: =OFFSET(旅綜險簡易版費率表!$C$4,0,CO1) -> 300 | CR3: =IF(OFFSET(旅綜險簡易版費率表!$C$5,0,CR1)="不加保",0,OFFSET(CR3,0,-3,,)) -> 0 | CS3: =IF(OFFSET(旅綜險簡易版費率表!$C$6,0,CS1)="不加保",0,OFFSET(CS3,0,-4,,)+OFFSET(CS3,0,-1,,)) -> 0 | CT3: =OFFSET(旅綜險簡易版費率表!$C$7,0,CT1) -> 10 | CU3: =IF($A$2=84.25%,0,CT3) -> 10 | CV3: =IF(旅綜險簡易版費率表!$B$8="(甲型)",OFFSET(旅綜險簡易版費率表!$C$8,0,CV1),0) -> 0 | CW3: =IF(旅綜險簡易版費率表!$B$8="(乙型)",OFFSET(旅綜險簡易版費率表!$C$8,0,CW1),0) -> 0 | CX3: =OFFSET(旅綜險簡易版費率表!$C$9,0,CX1) -> 0 | CY3: =OFFSET(費率表參數!$C$15,CY1,0) -> 61 | CZ3: =OFFSET(費率表參數!$D$15,CZ1,0) -> 62 | DA3: =OFFSET(費率表參數!$E$15,DA1,0) -> 63 | DB3: =OFFSET(費率表參數!$F$15,DB1,0) -> 64 | DC3: 保費 小計 | DD3: =OFFSET(旅綜險簡易版費率表!$C$4,0,DD1) -> 500 | DG3: =IF(OFFSET(旅綜險簡易版費率表!$C$5,0,DG1)="不加保",0,OFFSET(DG3,0,-3,,)) -> 0 | DH3: =IF(OFFSET(旅綜險簡易版費率表!$C$6,0,DH1)="不加保",0,OFFSET(DH3,0,-4,,)+OFFSET(DH3,0,-1,,)) -> 0 | DI3: =OFFSET(旅綜險簡易版費率表!$C$7,0,DI1) -> 10 | DJ3: =IF($A$2=84.25%,0,DI3) -> 10 | DK3: =IF(旅綜險簡易版費率表!$B$8="(甲型)",OFFSET(旅綜險簡易版費率表!$C$8,0,DK1),0) -> 0 | DL3: =IF(旅綜險簡易版費率表!$B$8="(乙型)",OFFSET(旅綜險簡易版費率表!$C$8,0,DL1),0) -> 0 | DM3: =OFFSET(旅綜險簡易版費率表!$C$9,0,DM1) -> 0 | DN3: =OFFSET(費率表參數!$C$15,DN1,0) -> 61 | DO3: =OFFSET(費率表參數!$D$15,DO1,0) -> 62 | DP3: =OFFSET(費率表參數!$E$15,DP1,0) -> 63 | DQ3: =OFFSET(費率表參數!$F$15,DQ1,0) -> 64 | DR3: 保費 小計 | DS3: =OFFSET(旅綜險簡易版費率表!$C$4,0,DS1) -> 800 | DV3: =IF(OFFSET(旅綜險簡易版費率表!$C$5,0,DV1)="不加保",0,OFFSET(DV3,0,-3,,)) -> 0 | DW3: =IF(OFFSET(旅綜險簡易版費率表!$C$6,0,DW1)="不加保",0,OFFSET(DW3,0,-4,,)+OFFSET(DW3,0,-1,,)) -> 0 | DX3: =OFFSET(旅綜險簡易版費率表!$C$7,0,DX1) -> 10 | DY3: =IF($A$2=84.25%,0,DX3) -> 10 | DZ3: =IF(旅綜險簡易版費率表!$B$8="(甲型)",OFFSET(旅綜險簡易版費率表!$C$8,0,DZ1),0) -> 0 | EA3: =IF(旅綜險簡易版費率表!$B$8="(乙型)",OFFSET(旅綜險簡易版費率表!$C$8,0,EA1),0) -> 0 | EB3: =OFFSET(旅綜險簡易版費率表!$C$9,0,EB1) -> 0 | EC3: =OFFSET(費率表參數!$C$15,EC1,0) -> 61 | ED3: =OFFSET(費率表參數!$D$15,ED1,0) -> 62 | EE3: =OFFSET(費率表參數!$E$15,EE1,0) -> 63 | EF3: =OFFSET(費率表參數!$F$15,EF1,0) -> 64 | EG3: 保費 小計 | EH3: =OFFSET(旅綜險簡易版費率表!$C$4,0,EH1) -> 1000 | EK3: =IF(OFFSET(旅綜險簡易版費率表!$C$5,0,EK1)="不加保",0,OFFSET(EK3,0,-3,,)) -> 0 | EL3: =IF(OFFSET(旅綜險簡易版費率表!$C$6,0,EL1)="不加保",0,OFFSET(EL3,0,-4,,)+OFFSET(EL3,0,-1,,)) -> 0 | EM3: =OFFSET(旅綜險簡易版費率表!$C$7,0,EM1) -> 10 | EN3: =IF($A$2=84.25%,0,EM3) -> 10 | EO3: =IF(旅綜險簡易版費率表!$B$8="(甲型)",OFFSET(旅綜險簡易版費率表!$C$8,0,EO1),0) -> 0 | EP3: =IF(旅綜險簡易版費率表!$B$8="(乙型)",OFFSET(旅綜險簡易版費率表!$C$8,0,EP1),0) -> 0 | EQ3: =OFFSET(旅綜險簡易版費率表!$C$9,0,EQ1) -> 0 | ER3: =OFFSET(費率表參數!$C$15,ER1,0) -> 61 | ES3: =OFFSET(費率表參數!$D$15,ES1,0) -> 62 | ET3: =OFFSET(費率表參數!$E$15,ET1,0) -> 63 | EU3: =OFFSET(費率表參數!$F$15,EU1,0) -> 64 | EV3: 保費 小計 | EW3: =OFFSET(旅綜險簡易版費率表!$C$4,0,EW1) -> 700 | EZ3: =IF(OFFSET(旅綜險簡易版費率表!$C$5,0,EZ1)="不加保",0,OFFSET(EZ3,0,-3,,)) -> 0 | FA3: =IF(OFFSET(旅綜險簡易版費率表!$C$6,0,FA1)="不加保",0,OFFSET(FA3,0,-4,,)+OFFSET(FA3,0,-1,,)) -> 0 | FB3: =OFFSET(旅綜險簡易版費率表!$C$7,0,FB1) -> 150 | FC3: =IF($A$2=84.25%,0,FB3) -> 150 | FD3: =IF(旅綜險簡易版費率表!$B$8="(甲型)",OFFSET(旅綜險簡易版費率表!$C$8,0,FD1),0) -> 0 | FE3: =IF(旅綜險簡易版費率表!$B$8="(乙型)",OFFSET(旅綜險簡易版費率表!$C$8,0,FE1),0) -> 120 | FF3: =OFFSET(旅綜險簡易版費率表!$C$9,0,FF1) -> 0 | FG3: =OFFSET(費率表參數!$C$15,FG1,0) -> 66 | FH3: =OFFSET(費率表參數!$D$15,FH1,0) -> 67 | FI3: =OFFSET(費率表參數!$E$15,FI1,0) -> 68 | FJ3: =OFFSET(費率表參數!$F$15,FJ1,0) -> 69 | FK3: 保費 小計 | FL3: =OFFSET(旅綜險簡易版費率表!$C$4,0,FL1) -> 300 | FO3: =IF(OFFSET(旅綜險簡易版費率表!$C$5,0,FO1)="不加保",0,OFFSET(FO3,0,-3,,)) -> 0 | FP3: =IF(OFFSET(旅綜險簡易版費率表!$C$6,0,FP1)="不加保",0,OFFSET(FP3,0,-4,,)+OFFSET(FP3,0,-1,,)) -> 0 | FQ3: =OFFSET(旅綜險簡易版費率表!$C$7,0,FQ1) -> 30 | FR3: =IF($A$2=84.25%,0,FQ3) -> 30 | FS3: =IF(旅綜險簡易版費率表!$B$8="(甲型)",OFFSET(旅綜險簡易版費率表!$C$8,0,FS1),0) -> 0 | FT3: =IF(旅綜險簡易版費率表!$B$8="(乙型)",OFFSET(旅綜險簡易版費率表!$C$8,0,FT1),0) -> 60 | FU3: =OFFSET(旅綜險簡易版費率表!$C$9,0,FU1) -> 0 | FV3: =OFFSET(費率表參數!$C$15,FV1,0) -> 66 | FW3: =OFFSET(費率表參數!$D$15,FW1,0) -> 67 | FX3: =OFFSET(費率表參數!$E$15,FX1,0) -> 68 | FY3: =OFFSET(費率表參數!$F$15,FY1,0) -> 69 | FZ3: 保費 小計 | GA3: =OFFSET(旅綜險簡易版費率表!$C$4,0,GA1) -> 500 | GD3: =IF(OFFSET(旅綜險簡易版費率表!$C$5,0,GD1)="不加保",0,OFFSET(GD3,0,-3,,)) -> 0 | GE3: =IF(OFFSET(旅綜險簡易版費率表!$C$6,0,GE1)="不加保",0,OFFSET(GE3,0,-4,,)+OFFSET(GE3,0,-1,,)) -> 0 | GF3: =OFFSET(旅綜險簡易版費率表!$C$7,0,GF1) -> 50 | GG3: =IF($A$2=84.25%,0,GF3) -> 50 | GH3: =IF(旅綜險簡易版費率表!$B$8="(甲型)",OFFSET(旅綜險簡易版費率表!$C$8,0,GH1),0) -> 0 | GI3: =IF(旅綜險簡易版費率表!$B$8="(乙型)",OFFSET(旅綜險簡易版費率表!$C$8,0,GI1),0) -> 100 | GJ3: =OFFSET(旅綜險簡易版費率表!$C$9,0,GJ1) -> 0 | GK3: =OFFSET(費率表參數!$C$15,GK1,0) -> 66 | GL3: =OFFSET(費率表參數!$D$15,GL1,0) -> 67 | GM3: =OFFSET(費率表參數!$E$15,GM1,0) -> 68 | GN3: =OFFSET(費率表參數!$F$15,GN1,0) -> 69 | GO3: 保費 小計 | GP3: =OFFSET(旅綜險簡易版費率表!$C$4,0,GP1) -> 500 | GS3: =IF(OFFSET(旅綜險簡易版費率表!$C$5,0,GS1)="不加保",0,OFFSET(GS3,0,-3,,)) -> 0 | GT3: =IF(OFFSET(旅綜險簡易版費率表!$C$6,0,GT1)="不加保",0,OFFSET(GT3,0,-4,,)+OFFSET(GT3,0,-1,,)) -> 0 | GU3: =OFFSET(旅綜險簡易版費率表!$C$7,0,GU1) -> 100 | GV3: =IF($A$2=84.25%,0,GU3) -> 100 | GW3: =IF(旅綜險簡易版費率表!$B$8="(甲型)",OFFSET(旅綜險簡易版費率表!$C$8,0,GW1),0) -> 0 | GX3: =IF(旅綜險簡易版費率表!$B$8="(乙型)",OFFSET(旅綜險簡易版費率表!$C$8,0,GX1),0) -> 60 | GY3: =OFFSET(旅綜險簡易版費率表!$C$9,0,GY1) -> 0 | GZ3: =OFFSET(費率表參數!$C$15,GZ1,0) -> 66 | HA3: =OFFSET(費率表參數!$D$15,HA1,0) -> 67 | HB3: =OFFSET(費率表參數!$E$15,HB1,0) -> 68 | HC3: =OFFSET(費率表參數!$F$15,HC1,0) -> 69 | HD3: 保費 小計 | HE3: =OFFSET(旅綜險簡易版費率表!$C$4,0,HE1) -> 500 | HH3: =IF(OFFSET(旅綜險簡易版費率表!$C$5,0,HH1)="不加保",0,OFFSET(HH3,0,-3,,)) -> 0 | HI3: =IF(OFFSET(旅綜險簡易版費率表!$C$6,0,HI1)="不加保",0,OFFSET(HI3,0,-4,,)+OFFSET(HI3,0,-1,,)) -> 0 | HJ3: =OFFSET(旅綜險簡易版費率表!$C$7,0,HJ1) -> 100 | HK3: =IF($A$2=84.25%,0,HJ3) -> 100 | HL3: =IF(旅綜險簡易版費率表!$B$8="(甲型)",OFFSET(旅綜險簡易版費率表!$C$8,0,HL1),0) -> 0 | HM3: =IF(旅綜險簡易版費率表!$B$8="(乙型)",OFFSET(旅綜險簡易版費率表!$C$8,0,HM1),0) -> 60 | HN3: =OFFSET(旅綜險簡易版費率表!$C$9,0,HN1) -> 0 | HO3: =OFFSET(費率表參數!$C$15,HO1,0) -> 66 | HP3: =OFFSET(費率表參數!$D$15,HP1,0) -> 67 | HQ3: =OFFSET(費率表參數!$E$15,HQ1,0) -> 68 | HR3: =OFFSET(費率表參數!$F$15,HR1,0) -> 69 | HS3: 保費 小計
A4: 保險天數 | B4: 天數係數 | C4: 身故失能 | F4: 特定 | G4: 恐怖 | H4: 實支 | I4: 燒燙傷 | J4: 海外甲 | K4: 海外乙 | L4: 境內突發 | M4: 不便 | N4: 責任 | O4: 補償 | P4: 急難 | R4: 身故失能 | U4: 特定 | V4: 恐怖 | W4: 實支 | X4: 燒燙傷 | Y4: 海外甲 | Z4: 海外乙 | AA4: 境內突發 | AB4: 不便 | AC4: 責任 | AD4: 補償 | AE4: 急難 | AG4: 身故失能 | AJ4: 特定 | AK4: 恐怖 | AL4: 實支 | AM4: 燒燙傷 | AN4: 海外甲 | AO4: 海外乙 | AP4: 境內突發 | AQ4: 不便 | AR4: 責任 | AS4: 補償 | AT4: 急難 | AV4: 身故失能 | AY4: 特定 | AZ4: 恐怖 | BA4: 實支 | BB4: 燒燙傷 | BC4: 海外甲 | BD4: 海外乙 | BE4: 境內突發 | BF4: 不便 | BG4: 責任 | BH4: 補償 | BI4: 急難 | BK4: 身故失能 | BN4: 特定 | BO4: 恐怖 | BP4: 實支 | BQ4: 燒燙傷 | BR4: 海外甲 | BS4: 海外乙 | BT4: 境內突發 | BU4: 不便 | BV4: 責任 | BW4: 補償 | BX4: 急難 | BZ4: 身故失能 | CC4: 特定 | CD4: 恐怖 | CE4: 實支 | CF4: 燒燙傷 | CG4: 海外甲 | CH4: 海外乙 | CI4: 境內突發 | CJ4: 不便 | CK4: 責任 | CL4: 補償 | CM4: 急難 | CO4: 身故失能 | CR4: 特定 | CS4: 恐怖 | CT4: 實支 | CU4: 燒燙傷 | CV4: 海外甲 | CW4: 海外乙 | CX4: 境內突發 | CY4: 不便 | CZ4: 責任 | DA4: 補償 | DB4: 急難 | DD4: 身故失能 | DG4: 特定 | DH4: 恐怖 | DI4: 實支 | DJ4: 燒燙傷 | DK4: 海外甲 | DL4: 海外乙 | DM4: 境內突發 | DN4: 不便 | DO4: 責任 | DP4: 補償 | DQ4: 急難 | DS4: 身故失能 | DV4: 特定 | DW4: 恐怖 | DX4: 實支 | DY4: 燒燙傷 | DZ4: 海外甲 | EA4: 海外乙 | EB4: 境內突發 | EC4: 不便 | ED4: 責任 | EE4: 補償 | EF4: 急難 | EH4: 身故失能 | EK4: 特定 | EL4: 恐怖 | EM4: 實支 | EN4: 燒燙傷 | EO4: 海外甲 | EP4: 海外乙 | EQ4: 境內突發 | ER4: 不便 | ES4: 責任 | ET4: 補償 | EU4: 急難 | EW4: 身故失能 | EZ4: 特定 | FA4: 恐怖 | FB4: 實支 | FC4: 燒燙傷 | FD4: 海外甲 | FE4: 海外乙 | FF4: 境內突發 | FG4: 不便 | FH4: 責任 | FI4: 補償 | FJ4: 急難 | FL4: 身故失能 | FO4: 特定 | FP4: 恐怖 | FQ4: 實支 | FR4: 燒燙傷 | FS4: 海外甲 | FT4: 海外乙 | FU4: 境內突發 | FV4: 不便 | FW4: 責任 | FX4: 補償 | FY4: 急難 | GA4: 身故失能 | GD4: 特定 | GE4: 恐怖 | GF4: 實支 | GG4: 燒燙傷 | GH4: 海外甲 | GI4: 海外乙 | GJ4: 境內突發 | GK4: 不便 | GL4: 責任 | GM4: 補償 | GN4: 急難 | GP4: 身故失能 | GS4: 特定 | GT4: 恐怖 | GU4: 實支 | GV4: 燒燙傷 | GW4: 海外甲 | GX4: 海外乙 | GY4: 境內突發 | GZ4: 不便 | HA4: 責任 | HB4: 補償 | HC4: 急難 | HE4: 身故失能 | HH4: 特定 | HI4: 恐怖 | HJ4: 實支 | HK4: 燒燙傷 | HL4: 海外甲 | HM4: 海外乙 | HN4: 境內突發 | HO4: 不便 | HP4: 責任 | HQ4: 補償 | HR4: 急難
A5: 1 | B5: =VLOOKUP(A5,費率表彙總!$A$4:$B$183,2,FALSE) -> 0.086 | C5: =IF(ISNA(C$56),0,ROUND(INDEX(INDIRECT(C$55),$A5,C$56)*$A$2,0)) -> 86 | F5: =ROUND(VLOOKUP(F$3,費率表彙總!$F$4:$G$404,2,FALSE)*$B5*$A$2,0) -> 0 | G5: =ROUND(VLOOKUP(G$3,費率表彙總!$H$4:$I$804,2,FALSE)*$B5*$A$2,0) -> 0 | H5: =IF(ISNA(H$56),0,ROUND(INDEX(實支實付_總保費!$B$4:$AE$183,$A5,H$56)*$A$2,0)) -> 0 | I5: =IF(ISNA(I$56),0,ROUND(INDEX(重大燒燙傷_總保費!$B$4:$AE$183,$A5,I$56)*$A$2,0)) -> 0 | J5: =IF(J$3<>0,MAX(1,ROUND(VLOOKUP(J$3,費率表彙總!$L$4:$O$34,2,FALSE)*$B5*$A$2,0))+MAX(1,ROUND(INDEX(海突甲門診_總保費!$B$4:$GS$183,$A5,J$56)*$A$2,0)+MAX(1,ROUND(INDEX(海突甲急診_總保費!$B$4:$GS$183,$A5,J$56)*$A$2,0),0))) -> FALSE | K5: =IF(K$3<>0,MAX(1,ROUND(VLOOKUP(K$3,費率表彙總!$L$4:$R$34,5,FALSE)*$B5*$A$2,0))+MAX(1,ROUND(INDEX(海突乙門診_總保費!$B$4:$GS$183,$A5,K$56)*$A$2,0)+MAX(1,ROUND(INDEX(海突乙急診_總保費!$B$4:$GS$183,$A5,K$56)*$A$2,0),0))) -> 79 | L5: =ROUND(VLOOKUP(L$3,費率表彙總!$S$4:$T$34,2,FALSE)*$B5*$A$2,0) -> 0 | M5: =IF(ISNA(M$3),0,ROUND(INDEX(旅遊不便費率!$B$5:$CA$184,$A5,M$3)*$A$3,0)) -> 0 | N5: =IF(ISNA(N$3),0,ROUND(INDEX(旅遊不便費率!$B$5:$CA$184,$A5,N$3)*$A$3,0)) -> 0 | O5: =IF(ISNA(O$3),0,ROUND(INDEX(旅遊不便費率!$B$5:$CA$184,$A5,O$3)*$A$3,0)) -> 0 | P5: =IF(ISNA(P$3),0,ROUND(INDEX(旅遊不便費率!$B$5:$CA$184,$A5,P$3)*$A$3,0)) -> 0 | Q5: =SUM(C5:P5) -> 165 | R5: =IF(ISNA(R$56),0,ROUND(INDEX(INDIRECT(R$55),$A5,R$56)*$A$2,0)) -> 86 | U5: =ROUND(VLOOKUP(U$3,費率表彙總!$F$4:$G$404,2,FALSE)*$B5*$A$2,0) -> 0 | V5: =ROUND(VLOOKUP(V$3,費率表彙總!$H$4:$I$804,2,FALSE)*$B5*$A$2,0) -> 0 | W5: =IF(ISNA(W$56),0,ROUND(INDEX(實支實付_總保費!$B$4:$AE$183,$A5,W$56)*$A$2,0)) -> 0 | X5: =IF(ISNA(X$56),0,ROUND(INDEX(重大燒燙傷_總保費!$B$4:$AE$183,$A5,X$56)*$A$2,0)) -> 0 | Y5: =IF(Y$3<>0,MAX(1,ROUND(VLOOKUP(Y$3,費率表彙總!$L$4:$O$34,2,FALSE)*$B5*$A$2,0))+MAX(1,ROUND(INDEX(海突甲門診_總保費!$B$4:$GS$183,$A5,Y$56)*$A$2,0)+MAX(1,ROUND(INDEX(海突甲急診_總保費!$B$4:$GS$183,$A5,Y$56)*$A$2,0),0))) -> FALSE | Z5: =IF(Z$3<>0,MAX(1,ROUND(VLOOKUP(Z$3,費率表彙總!$L$4:$R$34,5,FALSE)*$B5*$A$2,0))+MAX(1,ROUND(INDEX(海突乙門診_總保費!$B$4:$GS$183,$A5,Z$56)*$A$2,0)+MAX(1,ROUND(INDEX(海突乙急診_總保費!$B$4:$GS$183,$A5,Z$56)*$A$2,0),0))) -> 79 | AA5: =ROUND(VLOOKUP(AA$3,費率表彙總!$S$4:$T$34,2,FALSE)*$B5*$A$2,0) -> 0 | AB5: =IF(ISNA(AB$3),0,ROUND(INDEX(旅遊不便費率!$B$5:$CA$184,$A5,AB$3)*$A$3,0)) -> 0 | AC5: =IF(ISNA(AC$3),0,ROUND(INDEX(旅遊不便費率!$B$5:$CA$184,$A5,AC$3)*$A$3,0)) -> 0 | AD5: =IF(ISNA(AD$3),0,ROUND(INDEX(旅遊不便費率!$B$5:$CA$184,$A5,AD$3)*$A$3,0)) -> 0 | AE5: =IF(ISNA(AE$3),0,ROUND(INDEX(旅遊不便費率!$B$5:$CA$184,$A5,AE$3)*$A$3,0)) -> 0 | AF5: =SUM(R5:AE5) -> 165 | AG5: =IF(ISNA(AG$56),0,ROUND(INDEX(INDIRECT(AG$55),$A5,AG$56)*$A$2,0)) -> 142 | AJ5: =ROUND(VLOOKUP(AJ$3,費率表彙總!$F$4:$G$404,2,FALSE)*$B5*$A$2,0) -> 0 | AK5: =ROUND(VLOOKUP(AK$3,費率表彙總!$H$4:$I$804,2,FALSE)*$B5*$A$2,0) -> 0 | AL5: =IF(ISNA(AL$56),0,ROUND(INDEX(實支實付_總保費!$B$4:$AE$183,$A5,AL$56)*$A$2,0)) -> 0 | AM5: =IF(ISNA(AM$56),0,ROUND(INDEX(重大燒燙傷_總保費!$B$4:$AE$183,$A5,AM$56)*$A$2,0)) -> 0 | AN5: =IF(AN$3<>0,MAX(1,ROUND(VLOOKUP(AN$3,費率表彙總!$L$4:$O$34,2,FALSE)*$B5*$A$2,0))+MAX(1,ROUND(INDEX(海突甲門診_總保費!$B$4:$GS$183,$A5,AN$56)*$A$2,0)+MAX(1,ROUND(INDEX(海突甲急診_總保費!$B$4:$GS$183,$A5,AN$56)*$A$2,0),0))) -> FALSE | AO5: =IF(AO$3<>0,MAX(1,ROUND(VLOOKUP(AO$3,費率表彙總!$L$4:$R$34,5,FALSE)*$B5*$A$2,0))+MAX(1,ROUND(INDEX(海突乙門診_總保費!$B$4:$GS$183,$A5,AO$56)*$A$2,0)+MAX(1,ROUND(INDEX(海突乙急診_總保費!$B$4:$GS$183,$A5,AO$56)*$A$2,0),0))) -> 127 | AP5: =ROUND(VLOOKUP(AP$3,費率表彙總!$S$4:$T$34,2,FALSE)*$B5*$A$2,0) -> 0 | AQ5: =IF(ISNA(AQ$3),0,ROUND(INDEX(旅遊不便費率!$B$5:$CA$184,$A5,AQ$3)*$A$3,0)) -> 0 | AR5: =IF(ISNA(AR$3),0,ROUND(INDEX(旅遊不便費率!$B$5:$CA$184,$A5,AR$3)*$A$3,0)) -> 0 | AS5: =IF(ISNA(AS$3),0,ROUND(INDEX(旅遊不便費率!$B$5:$CA$184,$A5,AS$3)*$A$3,0)) -> 0 | AT5: =IF(ISNA(AT$3),0,ROUND(INDEX(旅遊不便費率!$B$5:$CA$184,$A5,AT$3)*$A$3,0)) -> 0 | AU5: =SUM(AG5:AT5) -> 269 | AV5: =IF(ISNA(AV$56),0,ROUND(INDEX(INDIRECT(AV$55),$A5,AV$56)*$A$2,0)) -> 228 | AY5: =ROUND(VLOOKUP(AY$3,費率表彙總!$F$4:$G$404,2,FALSE)*$B5*$A$2,0) -> 0 | AZ5: =ROUND(VLOOKUP(AZ$3,費率表彙總!$H$4:$I$804,2,FALSE)*$B5*$A$2,0) -> 0 | BA5: =IF(ISNA(BA$56),0,ROUND(INDEX(實支實付_總保費!$B$4:$AE$183,$A5,BA$56)*$A$2,0)) -> 0 | BB5: =IF(ISNA(BB$56),0,ROUND(INDEX(重大燒燙傷_總保費!$B$4:$AE$183,$A5,BB$56)*$A$2,0)) -> 0 | BC5: =IF(BC$3<>0,MAX(1,ROUND(VLOOKUP(BC$3,費率表彙總!$L$4:$O$34,2,FALSE)*$B5*$A$2,0))+MAX(1,ROUND(INDEX(海突甲門診_總保費!$B$4:$GS$183,$A5,BC$56)*$A$2,0)+MAX(1,ROUND(INDEX(海突甲急診_總保費!$B$4:$GS$183,$A5,BC$56)*$A$2,0),0))) -> FALSE | BD5: =IF(BD$3<>0,MAX(1,ROUND(VLOOKUP(BD$3,費率表彙總!$L$4:$R$34,5,FALSE)*$B5*$A$2,0))+MAX(1,ROUND(INDEX(海突乙門診_總保費!$B$4:$GS$183,$A5,BD$56)*$A$2,0)+MAX(1,ROUND(INDEX(海突乙急診_總保費!$B$4:$GS$183,$A5,BD$56)*$A$2,0),0))) -> 195 | BE5: =ROUND(VLOOKUP(BE$3,費率表彙總!$S$4:$T$34,2,FALSE)*$B5*$A$2,0) -> 0 | BF5: =IF(ISNA(BF$3),0,ROUND(INDEX(旅遊不便費率!$B$5:$CA$184,$A5,BF$3)*$A$3,0)) -> 0 | BG5: =IF(ISNA(BG$3),0,ROUND(INDEX(旅遊不便費率!$B$5:$CA$184,$A5,BG$3)*$A$3,0)) -> 0 | BH5: =IF(ISNA(BH$3),0,ROUND(INDEX(旅遊不便費率!$B$5:$CA$184,$A5,BH$3)*$A$3,0)) -> 0 | BI5: =IF(ISNA(BI$3),0,ROUND(INDEX(旅遊不便費率!$B$5:$CA$184,$A5,BI$3)*$A$3,0)) -> 0 | BJ5: =SUM(AV5:BI5) -> 423 | BK5: =IF(ISNA(BK$56),0,ROUND(INDEX(INDIRECT(BK$55),$A5,BK$56)*$A$2,0)) -> 286 | BN5: =ROUND(VLOOKUP(BN$3,費率表彙總!$F$4:$G$404,2,FALSE)*$B5*$A$2,0) -> 0 | BO5: =ROUND(VLOOKUP(BO$3,費率表彙總!$H$4:$I$804,2,FALSE)*$B5*$A$2,0) -> 0 | BP5: =IF(ISNA(BP$56),0,ROUND(INDEX(實支實付_總保費!$B$4:$AE$183,$A5,BP$56)*$A$2,0)) -> 0 | BQ5: =IF(ISNA(BQ$56),0,ROUND(INDEX(重大燒燙傷_總保費!$B$4:$AE$183,$A5,BQ$56)*$A$2,0)) -> 0 | BR5: =IF(BR$3<>0,MAX(1,ROUND(VLOOKUP(BR$3,費率表彙總!$L$4:$O$34,2,FALSE)*$B5*$A$2,0))+MAX(1,ROUND(INDEX(海突甲門診_總保費!$B$4:$GS$183,$A5,BR$56)*$A$2,0)+MAX(1,ROUND(INDEX(海突甲急診_總保費!$B$4:$GS$183,$A5,BR$56)*$A$2,0),0))) -> FALSE | BS5: =IF(BS$3<>0,MAX(1,ROUND(VLOOKUP(BS$3,費率表彙總!$L$4:$R$34,5,FALSE)*$B5*$A$2,0))+MAX(1,ROUND(INDEX(海突乙門診_總保費!$B$4:$GS$183,$A5,BS$56)*$A$2,0)+MAX(1,ROUND(INDEX(海突乙急診_總保費!$B$4:$GS$183,$A5,BS$56)*$A$2,0),0))) -> 238 | BT5: =ROUND(VLOOKUP(BT$3,費率表彙總!$S$4:$T$34,2,FALSE)*$B5*$A$2,0) -> 0 | BU5: =IF(ISNA(BU$3),0,ROUND(INDEX(旅遊不便費率!$B$5:$CA$184,$A5,BU$3)*$A$3,0)) -> 0 | BV5: =IF(ISNA(BV$3),0,ROUND(INDEX(旅遊不便費率!$B$5:$CA$184,$A5,BV$3)*$A$3,0)) -> 0 | BW5: =IF(ISNA(BW$3),0,ROUND(INDEX(旅遊不便費率!$B$5:$CA$184,$A5,BW$3)*$A$3,0)) -> 0 | BX5: =IF(ISNA(BX$3),0,ROUND(INDEX(旅遊不便費率!$B$5:$CA$184,$A5,BX$3)*$A$3,0)) -> 0 | BY5: =SUM(BK5:BX5) -> 524 | BZ5: =IF(ISNA(BZ$56),0,ROUND(INDEX(INDIRECT(BZ$55),$A5,BZ$56)*$A$2,0)) -> 58 | CC5: =ROUND(VLOOKUP(CC$3,費率表彙總!$F$4:$G$404,2,FALSE)*$B5*$A$2,0) -> 0 | CD5: =ROUND(VLOOKUP(CD$3,費率表彙總!$H$4:$I$804,2,FALSE)*$B5*$A$2,0) -> 0 | CE5: =IF(ISNA(CE$56),0,ROUND(INDEX(實支實付_總保費!$B$4:$AE$183,$A5,CE$56)*$A$2,0)) -> 8 | CF5: =IF(ISNA(CF$56),0,ROUND(INDEX(重大燒燙傷_總保費!$B$4:$AE$183,$A5,CF$56)*$A$2,0)) -> 1 | CG5: =IF(CG$3<>0,MAX(1,ROUND(VLOOKUP(CG$3,費率表彙總!$L$4:$O$34,2,FALSE)*$B5*$A$2,0))+MAX(1,ROUND(INDEX(海突甲門診_總保費!$B$4:$GS$183,$A5,CG$56)*$A$2,0)+MAX(1,ROUND(INDEX(海突甲急診_總保費!$B$4:$GS$183,$A5,CG$56)*$A$2,0),0))) -> FALSE | CH5: =IF(CH$3<>0,MAX(1,ROUND(VLOOKUP(CH$3,費率表彙總!$L$4:$R$34,5,FALSE)*$B5*$A$2,0))+MAX(1,ROUND(INDEX(海突乙門診_總保費!$B$4:$GS$183,$A5,CH$56)*$A$2,0)+MAX(1,ROUND(INDEX(海突乙急診_總保費!$B$4:$GS$183,$A5,CH$56)*$A$2,0),0))) -> FALSE | CI5: =ROUND(VLOOKUP(CI$3,費率表彙總!$S$4:$T$34,2,FALSE)*$B5*$A$2,0) -> 0 | CJ5: =IF(ISNA(CJ$3),0,ROUND(INDEX(旅遊不便費率!$B$5:$CA$184,$A5,CJ$3)*$A$3,0)) -> 27 | CK5: =IF(ISNA(CK$3),0,ROUND(INDEX(旅遊不便費率!$B$5:$CA$184,$A5,CK$3)*$A$3,0)) -> 139 | CL5: =IF(ISNA(CL$3),0,ROUND(INDEX(旅遊不便費率!$B$5:$CA$184,$A5,CL$3)*$A$3,0)) -> 6 | CM5: =IF(ISNA(CM$3),0,ROUND(INDEX(旅遊不便費率!$B$5:$CA$184,$A5,CM$3)*$A$3,0)) -> 19 | CN5: =SUM(BZ5:CM5) -> 258 | CO5: =IF(ISNA(CO$56),0,ROUND(INDEX(INDIRECT(CO$55),$A5,CO$56)*$A$2,0)) -> 86 | CR5: =ROUND(VLOOKUP(CR$3,費率表彙總!$F$4:$G$404,2,FALSE)*$B5*$A$2,0) -> 0 | CS5: =ROUND(VLOOKUP(CS$3,費率表彙總!$H$4:$I$804,2,FALSE)*$B5*$A$2,0) -> 0 | CT5: =IF(ISNA(CT$56),0,ROUND(INDEX(實支實付_總保費!$B$4:$AE$183,$A5,CT$56)*$A$2,0)) -> 8 | CU5: =IF(ISNA(CU$56),0,ROUND(INDEX(重大燒燙傷_總保費!$B$4:$AE$183,$A5,CU$56)*$A$2,0)) -> 1 | CV5: =IF(CV$3<>0,MAX(1,ROUND(VLOOKUP(CV$3,費率表彙總!$L$4:$O$34,2,FALSE)*$B5*$A$2,0))+MAX(1,ROUND(INDEX(海突甲門診_總保費!$B$4:$GS$183,$A5,CV$56)*$A$2,0)+MAX(1,ROUND(INDEX(海突甲急診_總保費!$B$4:$GS$183,$A5,CV$56)*$A$2,0),0))) -> FALSE | CW5: =IF(CW$3<>0,MAX(1,ROUND(VLOOKUP(CW$3,費率表彙總!$L$4:$R$34,5,FALSE)*$B5*$A$2,0))+MAX(1,ROUND(INDEX(海突乙門診_總保費!$B$4:$GS$183,$A5,CW$56)*$A$2,0)+MAX(1,ROUND(INDEX(海突乙急診_總保費!$B$4:$GS$183,$A5,CW$56)*$A$2,0),0))) -> FALSE | CX5: =ROUND(VLOOKUP(CX$3,費率表彙總!$S$4:$T$34,2,FALSE)*$B5*$A$2,0) -> 0 | CY5: =IF(ISNA(CY$3),0,ROUND(INDEX(旅遊不便費率!$B$5:$CA$184,$A5,CY$3)*$A$3,0)) -> 27 | CZ5: =IF(ISNA(CZ$3),0,ROUND(INDEX(旅遊不便費率!$B$5:$CA$184,$A5,CZ$3)*$A$3,0)) -> 139 | DA5: =IF(ISNA(DA$3),0,ROUND(INDEX(旅遊不便費率!$B$5:$CA$184,$A5,DA$3)*$A$3,0)) -> 6 | DB5: =IF(ISNA(DB$3),0,ROUND(INDEX(旅遊不便費率!$B$5:$CA$184,$A5,DB$3)*$A$3,0)) -> 19 | DC5: =SUM(CO5:DB5) -> 286 | DD5: =IF(ISNA(DD$56),0,ROUND(INDEX(INDIRECT(DD$55),$A5,DD$56)*$A$2,0)) -> 142 | DG5: =ROUND(VLOOKUP(DG$3,費率表彙總!$F$4:$G$404,2,FALSE)*$B5*$A$2,0) -> 0 | DH5: =ROUND(VLOOKUP(DH$3,費率表彙總!$H$4:$I$804,2,FALSE)*$B5*$A$2,0) -> 0 | DI5: =IF(ISNA(DI$56),0,ROUND(INDEX(實支實付_總保費!$B$4:$AE$183,$A5,DI$56)*$A$2,0)) -> 8 | DJ5: =IF(ISNA(DJ$56),0,ROUND(INDEX(重大燒燙傷_總保費!$B$4:$AE$183,$A5,DJ$56)*$A$2,0)) -> 1 | DK5: =IF(DK$3<>0,MAX(1,ROUND(VLOOKUP(DK$3,費率表彙總!$L$4:$O$34,2,FALSE)*$B5*$A$2,0))+MAX(1,ROUND(INDEX(海突甲門診_總保費!$B$4:$GS$183,$A5,DK$56)*$A$2,0)+MAX(1,ROUND(INDEX(海突甲急診_總保費!$B$4:$GS$183,$A5,DK$56)*$A$2,0),0))) -> FALSE | DL5: =IF(DL$3<>0,MAX(1,ROUND(VLOOKUP(DL$3,費率表彙總!$L$4:$R$34,5,FALSE)*$B5*$A$2,0))+MAX(1,ROUND(INDEX(海突乙門診_總保費!$B$4:$GS$183,$A5,DL$56)*$A$2,0)+MAX(1,ROUND(INDEX(海突乙急診_總保費!$B$4:$GS$183,$A5,DL$56)*$A$2,0),0))) -> FALSE | DM5: =ROUND(VLOOKUP(DM$3,費率表彙總!$S$4:$T$34,2,FALSE)*$B5*$A$2,0) -> 0 | DN5: =IF(ISNA(DN$3),0,ROUND(INDEX(旅遊不便費率!$B$5:$CA$184,$A5,DN$3)*$A$3,0)) -> 27 | DO5: =IF(ISNA(DO$3),0,ROUND(INDEX(旅遊不便費率!$B$5:$CA$184,$A5,DO$3)*$A$3,0)) -> 139 | DP5: =IF(ISNA(DP$3),0,ROUND(INDEX(旅遊不便費率!$B$5:$CA$184,$A5,DP$3)*$A$3,0)) -> 6 | DQ5: =IF(ISNA(DQ$3),0,ROUND(INDEX(旅遊不便費率!$B$5:$CA$184,$A5,DQ$3)*$A$3,0)) -> 19 | DR5: =SUM(DD5:DQ5) -> 342 | DS5: =IF(ISNA(DS$56),0,ROUND(INDEX(INDIRECT(DS$55),$A5,DS$56)*$A$2,0)) -> 228 | DV5: =ROUND(VLOOKUP(DV$3,費率表彙總!$F$4:$G$404,2,FALSE)*$B5*$A$2,0) -> 0 | DW5: =ROUND(VLOOKUP(DW$3,費率表彙總!$H$4:$I$804,2,FALSE)*$B5*$A$2,0) -> 0 | DX5: =IF(ISNA(DX$56),0,ROUND(INDEX(實支實付_總保費!$B$4:$AE$183,$A5,DX$56)*$A$2,0)) -> 8 | DY5: =IF(ISNA(DY$56),0,ROUND(INDEX(重大燒燙傷_總保費!$B$4:$AE$183,$A5,DY$56)*$A$2,0)) -> 1 | DZ5: =IF(DZ$3<>0,MAX(1,ROUND(VLOOKUP(DZ$3,費率表彙總!$L$4:$O$34,2,FALSE)*$B5*$A$2,0))+MAX(1,ROUND(INDEX(海突甲門診_總保費!$B$4:$GS$183,$A5,DZ$56)*$A$2,0)+MAX(1,ROUND(INDEX(海突甲急診_總保費!$B$4:$GS$183,$A5,DZ$56)*$A$2,0),0))) -> FALSE | EA5: =IF(EA$3<>0,MAX(1,ROUND(VLOOKUP(EA$3,費率表彙總!$L$4:$R$34,5,FALSE)*$B5*$A$2,0))+MAX(1,ROUND(INDEX(海突乙門診_總保費!$B$4:$GS$183,$A5,EA$56)*$A$2,0)+MAX(1,ROUND(INDEX(海突乙急診_總保費!$B$4:$GS$183,$A5,EA$56)*$A$2,0),0))) -> FALSE | EB5: =ROUND(VLOOKUP(EB$3,費率表彙總!$S$4:$T$34,2,FALSE)*$B5*$A$2,0) -> 0 | EC5: =IF(ISNA(EC$3),0,ROUND(INDEX(旅遊不便費率!$B$5:$CA$184,$A5,EC$3)*$A$3,0)) -> 27 | ED5: =IF(ISNA(ED$3),0,ROUND(INDEX(旅遊不便費率!$B$5:$CA$184,$A5,ED$3)*$A$3,0)) -> 139 | EE5: =IF(ISNA(EE$3),0,ROUND(INDEX(旅遊不便費率!$B$5:$CA$184,$A5,EE$3)*$A$3,0)) -> 6 | EF5: =IF(ISNA(EF$3),0,ROUND(INDEX(旅遊不便費率!$B$5:$CA$184,$A5,EF$3)*$A$3,0)) -> 19 | EG5: =SUM(DS5:EF5) -> 428 | EH5: =IF(ISNA(EH$56),0,ROUND(INDEX(INDIRECT(EH$55),$A5,EH$56)*$A$2,0)) -> 286 | EK5: =ROUND(VLOOKUP(EK$3,費率表彙總!$F$4:$G$404,2,FALSE)*$B5*$A$2,0) -> 0 | EL5: =ROUND(VLOOKUP(EL$3,費率表彙總!$H$4:$I$804,2,FALSE)*$B5*$A$2,0) -> 0 | EM5: =IF(ISNA(EM$56),0,ROUND(INDEX(實支實付_總保費!$B$4:$AE$183,$A5,EM$56)*$A$2,0)) -> 8 | EN5: =IF(ISNA(EN$56),0,ROUND(INDEX(重大燒燙傷_總保費!$B$4:$AE$183,$A5,EN$56)*$A$2,0)) -> 1 | EO5: =IF(EO$3<>0,MAX(1,ROUND(VLOOKUP(EO$3,費率表彙總!$L$4:$O$34,2,FALSE)*$B5*$A$2,0))+MAX(1,ROUND(INDEX(海突甲門診_總保費!$B$4:$GS$183,$A5,EO$56)*$A$2,0)+MAX(1,ROUND(INDEX(海突甲急診_總保費!$B$4:$GS$183,$A5,EO$56)*$A$2,0),0))) -> FALSE | EP5: =IF(EP$3<>0,MAX(1,ROUND(VLOOKUP(EP$3,費率表彙總!$L$4:$R$34,5,FALSE)*$B5*$A$2,0))+MAX(1,ROUND(INDEX(海突乙門診_總保費!$B$4:$GS$183,$A5,EP$56)*$A$2,0)+MAX(1,ROUND(INDEX(海突乙急診_總保費!$B$4:$GS$183,$A5,EP$56)*$A$2,0),0))) -> FALSE | EQ5: =ROUND(VLOOKUP(EQ$3,費率表彙總!$S$4:$T$34,2,FALSE)*$B5*$A$2,0) -> 0 | ER5: =IF(ISNA(ER$3),0,ROUND(INDEX(旅遊不便費率!$B$5:$CA$184,$A5,ER$3)*$A$3,0)) -> 27 | ES5: =IF(ISNA(ES$3),0,ROUND(INDEX(旅遊不便費率!$B$5:$CA$184,$A5,ES$3)*$A$3,0)) -> 139 | ET5: =IF(ISNA(ET$3),0,ROUND(INDEX(旅遊不便費率!$B$5:$CA$184,$A5,ET$3)*$A$3,0)) -> 6 | EU5: =IF(ISNA(EU$3),0,ROUND(INDEX(旅遊不便費率!$B$5:$CA$184,$A5,EU$3)*$A$3,0)) -> 19 | EV5: =SUM(EH5:EU5) -> 486 | EW5: =IF(ISNA(EW$56),0,ROUND(INDEX(INDIRECT(EW$55),$A5,EW$56)*$A$2,0)) -> 200 | EZ5: =ROUND(VLOOKUP(EZ$3,費率表彙總!$F$4:$G$404,2,FALSE)*$B5*$A$2,0) -> 0 | FA5: =ROUND(VLOOKUP(FA$3,費率表彙總!$H$4:$I$804,2,FALSE)*$B5*$A$2,0) -> 0 | FB5: =IF(ISNA(FB$56),0,ROUND(INDEX(實支實付_總保費!$B$4:$AE$183,$A5,FB$56)*$A$2,0)) -> 136 | FC5: =IF(ISNA(FC$56),0,ROUND(INDEX(重大燒燙傷_總保費!$B$4:$AE$183,$A5,FC$56)*$A$2,0)) -> 8 | FD5: =IF(FD$3<>0,MAX(1,ROUND(VLOOKUP(FD$3,費率表彙總!$L$4:$O$34,2,FALSE)*$B5*$A$2,0))+MAX(1,ROUND(INDEX(海突甲門診_總保費!$B$4:$GS$183,$A5,FD$56)*$A$2,0)+MAX(1,ROUND(INDEX(海突甲急診_總保費!$B$4:$GS$183,$A5,FD$56)*$A$2,0),0))) -> FALSE | FE5: =IF(FE$3<>0,MAX(1,ROUND(VLOOKUP(FE$3,費率表彙總!$L$4:$R$34,5,FALSE)*$B5*$A$2,0))+MAX(1,ROUND(INDEX(海突乙門診_總保費!$B$4:$GS$183,$A5,FE$56)*$A$2,0)+MAX(1,ROUND(INDEX(海突乙急診_總保費!$B$4:$GS$183,$A5,FE$56)*$A$2,0),0))) -> 285 | FF5: =ROUND(VLOOKUP(FF$3,費率表彙總!$S$4:$T$34,2,FALSE)*$B5*$A$2,0) -> 0 | FG5: =IF(ISNA(FG$3),0,ROUND(INDEX(旅遊不便費率!$B$5:$CA$184,$A5,FG$3)*$A$3,0)) -> 27 | FH5: =IF(ISNA(FH$3),0,ROUND(INDEX(旅遊不便費率!$B$5:$CA$184,$A5,FH$3)*$A$3,0)) -> 215 | FI5: =IF(ISNA(FI$3),0,ROUND(INDEX(旅遊不便費率!$B$5:$CA$184,$A5,FI$3)*$A$3,0)) -> 12 | FJ5: =IF(ISNA(FJ$3),0,ROUND(INDEX(旅遊不便費率!$B$5:$CA$184,$A5,FJ$3)*$A$3,0)) -> 34 | FK5: =SUM(EW5:FJ5) -> 917 | FL5: =IF(ISNA(FL$56),0,ROUND(INDEX(INDIRECT(FL$55),$A5,FL$56)*$A$2,0)) -> 86 | FO5: =ROUND(VLOOKUP(FO$3,費率表彙總!$F$4:$G$404,2,FALSE)*$B5*$A$2,0) -> 0 | FP5: =ROUND(VLOOKUP(FP$3,費率表彙總!$H$4:$I$804,2,FALSE)*$B5*$A$2,0) -> 0 | FQ5: =IF(ISNA(FQ$56),0,ROUND(INDEX(實支實付_總保費!$B$4:$AE$183,$A5,FQ$56)*$A$2,0)) -> 27 | FR5: =IF(ISNA(FR$56),0,ROUND(INDEX(重大燒燙傷_總保費!$B$4:$AE$183,$A5,FR$56)*$A$2,0)) -> 2 | FS5: =IF(FS$3<>0,MAX(1,ROUND(VLOOKUP(FS$3,費率表彙總!$L$4:$O$34,2,FALSE)*$B5*$A$2,0))+MAX(1,ROUND(INDEX(海突甲門診_總保費!$B$4:$GS$183,$A5,FS$56)*$A$2,0)+MAX(1,ROUND(INDEX(海突甲急診_總保費!$B$4:$GS$183,$A5,FS$56)*$A$2,0),0))) -> FALSE | FT5: =IF(FT$3<>0,MAX(1,ROUND(VLOOKUP(FT$3,費率表彙總!$L$4:$R$34,5,FALSE)*$B5*$A$2,0))+MAX(1,ROUND(INDEX(海突乙門診_總保費!$B$4:$GS$183,$A5,FT$56)*$A$2,0)+MAX(1,ROUND(INDEX(海突乙急診_總保費!$B$4:$GS$183,$A5,FT$56)*$A$2,0),0))) -> 150 | FU5: =ROUND(VLOOKUP(FU$3,費率表彙總!$S$4:$T$34,2,FALSE)*$B5*$A$2,0) -> 0 | FV5: =IF(ISNA(FV$3),0,ROUND(INDEX(旅遊不便費率!$B$5:$CA$184,$A5,FV$3)*$A$3,0)) -> 27 | FW5: =IF(ISNA(FW$3),0,ROUND(INDEX(旅遊不便費率!$B$5:$CA$184,$A5,FW$3)*$A$3,0)) -> 215 | FX5: =IF(ISNA(FX$3),0,ROUND(INDEX(旅遊不便費率!$B$5:$CA$184,$A5,FX$3)*$A$3,0)) -> 12 | FY5: =IF(ISNA(FY$3),0,ROUND(INDEX(旅遊不便費率!$B$5:$CA$184,$A5,FY$3)*$A$3,0)) -> 34 | FZ5: =SUM(FL5:FY5) -> 553 | GA5: =IF(ISNA(GA$56),0,ROUND(INDEX(INDIRECT(GA$55),$A5,GA$56)*$A$2,0)) -> 142 | GD5: =ROUND(VLOOKUP(GD$3,費率表彙總!$F$4:$G$404,2,FALSE)*$B5*$A$2,0) -> 0 | GE5: =ROUND(VLOOKUP(GE$3,費率表彙總!$H$4:$I$804,2,FALSE)*$B5*$A$2,0) -> 0 | GF5: =IF(ISNA(GF$56),0,ROUND(INDEX(實支實付_總保費!$B$4:$AE$183,$A5,GF$56)*$A$2,0)) -> 45 | GG5: =IF(ISNA(GG$56),0,ROUND(INDEX(重大燒燙傷_總保費!$B$4:$AE$183,$A5,GG$56)*$A$2,0)) -> 3 | GH5: =IF(GH$3<>0,MAX(1,ROUND(VLOOKUP(GH$3,費率表彙總!$L$4:$O$34,2,FALSE)*$B5*$A$2,0))+MAX(1,ROUND(INDEX(海突甲門診_總保費!$B$4:$GS$183,$A5,GH$56)*$A$2,0)+MAX(1,ROUND(INDEX(海突甲急診_總保費!$B$4:$GS$183,$A5,GH$56)*$A$2,0),0))) -> FALSE | GI5: =IF(GI$3<>0,MAX(1,ROUND(VLOOKUP(GI$3,費率表彙總!$L$4:$R$34,5,FALSE)*$B5*$A$2,0))+MAX(1,ROUND(INDEX(海突乙門診_總保費!$B$4:$GS$183,$A5,GI$56)*$A$2,0)+MAX(1,ROUND(INDEX(海突乙急診_總保費!$B$4:$GS$183,$A5,GI$56)*$A$2,0),0))) -> 238 | GJ5: =ROUND(VLOOKUP(GJ$3,費率表彙總!$S$4:$T$34,2,FALSE)*$B5*$A$2,0) -> 0 | GK5: =IF(ISNA(GK$3),0,ROUND(INDEX(旅遊不便費率!$B$5:$CA$184,$A5,GK$3)*$A$3,0)) -> 27 | GL5: =IF(ISNA(GL$3),0,ROUND(INDEX(旅遊不便費率!$B$5:$CA$184,$A5,GL$3)*$A$3,0)) -> 215 | GM5: =IF(ISNA(GM$3),0,ROUND(INDEX(旅遊不便費率!$B$5:$CA$184,$A5,GM$3)*$A$3,0)) -> 12 | GN5: =IF(ISNA(GN$3),0,ROUND(INDEX(旅遊不便費率!$B$5:$CA$184,$A5,GN$3)*$A$3,0)) -> 34 | GO5: =SUM(GA5:GN5) -> 716 | GP5: =IF(ISNA(GP$56),0,ROUND(INDEX(INDIRECT(GP$55),$A5,GP$56)*$A$2,0)) -> 142 | GS5: =ROUND(VLOOKUP(GS$3,費率表彙總!$F$4:$G$404,2,FALSE)*$B5*$A$2,0) -> 0 | GT5: =ROUND(VLOOKUP(GT$3,費率表彙總!$H$4:$I$804,2,FALSE)*$B5*$A$2,0) -> 0 | GU5: =IF(ISNA(GU$56),0,ROUND(INDEX(實支實付_總保費!$B$4:$AE$183,$A5,GU$56)*$A$2,0)) -> 90 | GV5: =IF(ISNA(GV$56),0,ROUND(INDEX(重大燒燙傷_總保費!$B$4:$AE$183,$A5,GV$56)*$A$2,0)) -> 5 | GW5: =IF(GW$3<>0,MAX(1,ROUND(VLOOKUP(GW$3,費率表彙總!$L$4:$O$34,2,FALSE)*$B5*$A$2,0))+MAX(1,ROUND(INDEX(海突甲門診_總保費!$B$4:$GS$183,$A5,GW$56)*$A$2,0)+MAX(1,ROUND(INDEX(海突甲急診_總保費!$B$4:$GS$183,$A5,GW$56)*$A$2,0),0))) -> FALSE | GX5: =IF(GX$3<>0,MAX(1,ROUND(VLOOKUP(GX$3,費率表彙總!$L$4:$R$34,5,FALSE)*$B5*$A$2,0))+MAX(1,ROUND(INDEX(海突乙門診_總保費!$B$4:$GS$183,$A5,GX$56)*$A$2,0)+MAX(1,ROUND(INDEX(海突乙急診_總保費!$B$4:$GS$183,$A5,GX$56)*$A$2,0),0))) -> 150 | GY5: =ROUND(VLOOKUP(GY$3,費率表彙總!$S$4:$T$34,2,FALSE)*$B5*$A$2,0) -> 0 | GZ5: =IF(ISNA(GZ$3),0,ROUND(INDEX(旅遊不便費率!$B$5:$CA$184,$A5,GZ$3)*$A$3,0)) -> 27 | HA5: =IF(ISNA(HA$3),0,ROUND(INDEX(旅遊不便費率!$B$5:$CA$184,$A5,HA$3)*$A$3,0)) -> 215 | HB5: =IF(ISNA(HB$3),0,ROUND(INDEX(旅遊不便費率!$B$5:$CA$184,$A5,HB$3)*$A$3,0)) -> 12 | HC5: =IF(ISNA(HC$3),0,ROUND(INDEX(旅遊不便費率!$B$5:$CA$184,$A5,HC$3)*$A$3,0)) -> 34 | HD5: =SUM(GP5:HC5) -> 675 | HE5: =IF(ISNA(HE$56),0,ROUND(INDEX(INDIRECT(HE$55),$A5,HE$56)*$A$2,0)) -> 142 | HH5: =ROUND(VLOOKUP(HH$3,費率表彙總!$F$4:$G$404,2,FALSE)*$B5*$A$2,0) -> 0 | HI5: =ROUND(VLOOKUP(HI$3,費率表彙總!$H$4:$I$804,2,FALSE)*$B5*$A$2,0) -> 0 | HJ5: =IF(ISNA(HJ$56),0,ROUND(INDEX(實支實付_總保費!$B$4:$AE$183,$A5,HJ$56)*$A$2,0)) -> 90 | HK5: =IF(ISNA(HK$56),0,ROUND(INDEX(重大燒燙傷_總保費!$B$4:$AE$183,$A5,HK$56)*$A$2,0)) -> 5 | HL5: =IF(HL$3<>0,MAX(1,ROUND(VLOOKUP(HL$3,費率表彙總!$L$4:$O$34,2,FALSE)*$B5*$A$2,0))+MAX(1,ROUND(INDEX(海突甲門診_總保費!$B$4:$GS$183,$A5,HL$56)*$A$2,0)+MAX(1,ROUND(INDEX(海突甲急診_總保費!$B$4:$GS$183,$A5,HL$56)*$A$2,0),0))) -> FALSE | HM5: =IF(HM$3<>0,MAX(1,ROUND(VLOOKUP(HM$3,費率表彙總!$L$4:$R$34,5,FALSE)*$B5*$A$2,0))+MAX(1,ROUND(INDEX(海突乙門診_總保費!$B$4:$GS$183,$A5,HM$56)*$A$2,0)+MAX(1,ROUND(INDEX(海突乙急診_總保費!$B$4:$GS$183,$A5,HM$56)*$A$2,0),0))) -> 150 | HN5: =ROUND(VLOOKUP(HN$3,費率表彙總!$S$4:$T$34,2,FALSE)*$B5*$A$2,0) -> 0 | HO5: =IF(ISNA(HO$3),0,ROUND(INDEX(旅遊不便費率!$B$5:$CA$184,$A5,HO$3)*$A$3,0)) -> 27 | HP5: =IF(ISNA(HP$3),0,ROUND(INDEX(旅遊不便費率!$B$5:$CA$184,$A5,HP$3)*$A$3,0)) -> 215 | HQ5: =IF(ISNA(HQ$3),0,ROUND(INDEX(旅遊不便費率!$B$5:$CA$184,$A5,HQ$3)*$A$3,0)) -> 12 | HR5: =IF(ISNA(HR$3),0,ROUND(INDEX(旅遊不便費率!$B$5:$CA$184,$A5,HR$3)*$A$3,0)) -> 34 | HS5: =SUM(HE5:HR5) -> 675
A6: 2 | B6: =VLOOKUP(A6,費率表彙總!$A$4:$B$183,2,FALSE) -> 0.094 | C6: =IF(ISNA(C$56),0,ROUND(INDEX(INDIRECT(C$55),$A6,C$56)*$A$2,0)) -> 94 | F6: =ROUND(VLOOKUP(F$3,費率表彙總!$F$4:$G$404,2,FALSE)*$B6*$A$2,0) -> 0 | G6: =ROUND(VLOOKUP(G$3,費率表彙總!$H$4:$I$804,2,FALSE)*$B6*$A$2,0) -> 0 | H6: =IF(ISNA(H$56),0,ROUND(INDEX(實支實付_總保費!$B$4:$AE$183,$A6,H$56)*$A$2,0)) -> 0 | I6: =IF(ISNA(I$56),0,ROUND(INDEX(重大燒燙傷_總保費!$B$4:$AE$183,$A6,I$56)*$A$2,0)) -> 0 | J6: =IF(J$3<>0,MAX(1,ROUND(VLOOKUP(J$3,費率表彙總!$L$4:$O$34,2,FALSE)*$B6*$A$2,0))+MAX(1,ROUND(INDEX(海突甲門診_總保費!$B$4:$GS$183,$A6,J$56)*$A$2,0)+MAX(1,ROUND(INDEX(海突甲急診_總保費!$B$4:$GS$183,$A6,J$56)*$A$2,0),0))) -> FALSE | K6: =IF(K$3<>0,MAX(1,ROUND(VLOOKUP(K$3,費率表彙總!$L$4:$R$34,5,FALSE)*$B6*$A$2,0))+MAX(1,ROUND(INDEX(海突乙門診_總保費!$B$4:$GS$183,$A6,K$56)*$A$2,0)+MAX(1,ROUND(INDEX(海突乙急診_總保費!$B$4:$GS$183,$A6,K$56)*$A$2,0),0))) -> 86 | L6: =ROUND(VLOOKUP(L$3,費率表彙總!$S$4:$T$34,2,FALSE)*$B6*$A$2,0) -> 0 | M6: =IF(ISNA(M$3),0,ROUND(INDEX(旅遊不便費率!$B$5:$CA$184,$A6,M$3)*$A$3,0)) -> 0 | N6: =IF(ISNA(N$3),0,ROUND(INDEX(旅遊不便費率!$B$5:$CA$184,$A6,N$3)*$A$3,0)) -> 0 | O6: =IF(ISNA(O$3),0,ROUND(INDEX(旅遊不便費率!$B$5:$CA$184,$A6,O$3)*$A$3,0)) -> 0 | P6: =IF(ISNA(P$3),0,ROUND(INDEX(旅遊不便費率!$B$5:$CA$184,$A6,P$3)*$A$3,0)) -> 0 | Q6: =SUM(C6:P6) -> 180 | R6: =IF(ISNA(R$56),0,ROUND(INDEX(INDIRECT(R$55),$A6,R$56)*$A$2,0)) -> 94 | U6: =ROUND(VLOOKUP(U$3,費率表彙總!$F$4:$G$404,2,FALSE)*$B6*$A$2,0) -> 0 | V6: =ROUND(VLOOKUP(V$3,費率表彙總!$H$4:$I$804,2,FALSE)*$B6*$A$2,0) -> 0 | W6: =IF(ISNA(W$56),0,ROUND(INDEX(實支實付_總保費!$B$4:$AE$183,$A6,W$56)*$A$2,0)) -> 0 | X6: =IF(ISNA(X$56),0,ROUND(INDEX(重大燒燙傷_總保費!$B$4:$AE$183,$A6,X$56)*$A$2,0)) -> 0 | Y6: =IF(Y$3<>0,MAX(1,ROUND(VLOOKUP(Y$3,費率表彙總!$L$4:$O$34,2,FALSE)*$B6*$A$2,0))+MAX(1,ROUND(INDEX(海突甲門診_總保費!$B$4:$GS$183,$A6,Y$56)*$A$2,0)+MAX(1,ROUND(INDEX(海突甲急診_總保費!$B$4:$GS$183,$A6,Y$56)*$A$2,0),0))) -> FALSE | Z6: =IF(Z$3<>0,MAX(1,ROUND(VLOOKUP(Z$3,費率表彙總!$L$4:$R$34,5,FALSE)*$B6*$A$2,0))+MAX(1,ROUND(INDEX(海突乙門診_總保費!$B$4:$GS$183,$A6,Z$56)*$A$2,0)+MAX(1,ROUND(INDEX(海突乙急診_總保費!$B$4:$GS$183,$A6,Z$56)*$A$2,0),0))) -> 86 | AA6: =ROUND(VLOOKUP(AA$3,費率表彙總!$S$4:$T$34,2,FALSE)*$B6*$A$2,0) -> 0 | AB6: =IF(ISNA(AB$3),0,ROUND(INDEX(旅遊不便費率!$B$5:$CA$184,$A6,AB$3)*$A$3,0)) -> 0 | AC6: =IF(ISNA(AC$3),0,ROUND(INDEX(旅遊不便費率!$B$5:$CA$184,$A6,AC$3)*$A$3,0)) -> 0 | AD6: =IF(ISNA(AD$3),0,ROUND(INDEX(旅遊不便費率!$B$5:$CA$184,$A6,AD$3)*$A$3,0)) -> 0 | AE6: =IF(ISNA(AE$3),0,ROUND(INDEX(旅遊不便費率!$B$5:$CA$184,$A6,AE$3)*$A$3,0)) -> 0 | AF6: =SUM(R6:AE6) -> 180 | AG6: =IF(ISNA(AG$56),0,ROUND(INDEX(INDIRECT(AG$55),$A6,AG$56)*$A$2,0)) -> 155 | AJ6: =ROUND(VLOOKUP(AJ$3,費率表彙總!$F$4:$G$404,2,FALSE)*$B6*$A$2,0) -> 0 | AK6: =ROUND(VLOOKUP(AK$3,費率表彙總!$H$4:$I$804,2,FALSE)*$B6*$A$2,0) -> 0 | AL6: =IF(ISNA(AL$56),0,ROUND(INDEX(實支實付_總保費!$B$4:$AE$183,$A6,AL$56)*$A$2,0)) -> 0 | AM6: =IF(ISNA(AM$56),0,ROUND(INDEX(重大燒燙傷_總保費!$B$4:$AE$183,$A6,AM$56)*$A$2,0)) -> 0 | AN6: =IF(AN$3<>0,MAX(1,ROUND(VLOOKUP(AN$3,費率表彙總!$L$4:$O$34,2,FALSE)*$B6*$A$2,0))+MAX(1,ROUND(INDEX(海突甲門診_總保費!$B$4:$GS$183,$A6,AN$56)*$A$2,0)+MAX(1,ROUND(INDEX(海突甲急診_總保費!$B$4:$GS$183,$A6,AN$56)*$A$2,0),0))) -> FALSE | AO6: =IF(AO$3<>0,MAX(1,ROUND(VLOOKUP(AO$3,費率表彙總!$L$4:$R$34,5,FALSE)*$B6*$A$2,0))+MAX(1,ROUND(INDEX(海突乙門診_總保費!$B$4:$GS$183,$A6,AO$56)*$A$2,0)+MAX(1,ROUND(INDEX(海突乙急診_總保費!$B$4:$GS$183,$A6,AO$56)*$A$2,0),0))) -> 138 | AP6: =ROUND(VLOOKUP(AP$3,費率表彙總!$S$4:$T$34,2,FALSE)*$B6*$A$2,0) -> 0 | AQ6: =IF(ISNA(AQ$3),0,ROUND(INDEX(旅遊不便費率!$B$5:$CA$184,$A6,AQ$3)*$A$3,0)) -> 0 | AR6: =IF(ISNA(AR$3),0,ROUND(INDEX(旅遊不便費率!$B$5:$CA$184,$A6,AR$3)*$A$3,0)) -> 0 | AS6: =IF(ISNA(AS$3),0,ROUND(INDEX(旅遊不便費率!$B$5:$CA$184,$A6,AS$3)*$A$3,0)) -> 0 | AT6: =IF(ISNA(AT$3),0,ROUND(INDEX(旅遊不便費率!$B$5:$CA$184,$A6,AT$3)*$A$3,0)) -> 0 | AU6: =SUM(AG6:AT6) -> 293 | AV6: =IF(ISNA(AV$56),0,ROUND(INDEX(INDIRECT(AV$55),$A6,AV$56)*$A$2,0)) -> 249 | AY6: =ROUND(VLOOKUP(AY$3,費率表彙總!$F$4:$G$404,2,FALSE)*$B6*$A$2,0) -> 0 | AZ6: =ROUND(VLOOKUP(AZ$3,費率表彙總!$H$4:$I$804,2,FALSE)*$B6*$A$2,0) -> 0 | BA6: =IF(ISNA(BA$56),0,ROUND(INDEX(實支實付_總保費!$B$4:$AE$183,$A6,BA$56)*$A$2,0)) -> 0 | BB6: =IF(ISNA(BB$56),0,ROUND(INDEX(重大燒燙傷_總保費!$B$4:$AE$183,$A6,BB$56)*$A$2,0)) -> 0 | BC6: =IF(BC$3<>0,MAX(1,ROUND(VLOOKUP(BC$3,費率表彙總!$L$4:$O$34,2,FALSE)*$B6*$A$2,0))+MAX(1,ROUND(INDEX(海突甲門診_總保費!$B$4:$GS$183,$A6,BC$56)*$A$2,0)+MAX(1,ROUND(INDEX(海突甲急診_總保費!$B$4:$GS$183,$A6,BC$56)*$A$2,0),0))) -> FALSE | BD6: =IF(BD$3<>0,MAX(1,ROUND(VLOOKUP(BD$3,費率表彙總!$L$4:$R$34,5,FALSE)*$B6*$A$2,0))+MAX(1,ROUND(INDEX(海突乙門診_總保費!$B$4:$GS$183,$A6,BD$56)*$A$2,0)+MAX(1,ROUND(INDEX(海突乙急診_總保費!$B$4:$GS$183,$A6,BD$56)*$A$2,0),0))) -> 214 | BE6: =ROUND(VLOOKUP(BE$3,費率表彙總!$S$4:$T$34,2,FALSE)*$B6*$A$2,0) -> 0 | BF6: =IF(ISNA(BF$3),0,ROUND(INDEX(旅遊不便費率!$B$5:$CA$184,$A6,BF$3)*$A$3,0)) -> 0 | BG6: =IF(ISNA(BG$3),0,ROUND(INDEX(旅遊不便費率!$B$5:$CA$184,$A6,BG$3)*$A$3,0)) -> 0 | BH6: =IF(ISNA(BH$3),0,ROUND(INDEX(旅遊不便費率!$B$5:$CA$184,$A6,BH$3)*$A$3,0)) -> 0 | BI6: =IF(ISNA(BI$3),0,ROUND(INDEX(旅遊不便費率!$B$5:$CA$184,$A6,BI$3)*$A$3,0)) -> 0 | BJ6: =SUM(AV6:BI6) -> 463 | BK6: =IF(ISNA(BK$56),0,ROUND(INDEX(INDIRECT(BK$55),$A6,BK$56)*$A$2,0)) -> 312 | BN6: =ROUND(VLOOKUP(BN$3,費率表彙總!$F$4:$G$404,2,FALSE)*$B6*$A$2,0) -> 0 | BO6: =ROUND(VLOOKUP(BO$3,費率表彙總!$H$4:$I$804,2,FALSE)*$B6*$A$2,0) -> 0 | BP6: =IF(ISNA(BP$56),0,ROUND(INDEX(實支實付_總保費!$B$4:$AE$183,$A6,BP$56)*$A$2,0)) -> 0 | BQ6: =IF(ISNA(BQ$56),0,ROUND(INDEX(重大燒燙傷_總保費!$B$4:$AE$183,$A6,BQ$56)*$A$2,0)) -> 0 | BR6: =IF(BR$3<>0,MAX(1,ROUND(VLOOKUP(BR$3,費率表彙總!$L$4:$O$34,2,FALSE)*$B6*$A$2,0))+MAX(1,ROUND(INDEX(海突甲門診_總保費!$B$4:$GS$183,$A6,BR$56)*$A$2,0)+MAX(1,ROUND(INDEX(海突甲急診_總保費!$B$4:$GS$183,$A6,BR$56)*$A$2,0),0))) -> FALSE | BS6: =IF(BS$3<>0,MAX(1,ROUND(VLOOKUP(BS$3,費率表彙總!$L$4:$R$34,5,FALSE)*$B6*$A$2,0))+MAX(1,ROUND(INDEX(海突乙門診_總保費!$B$4:$GS$183,$A6,BS$56)*$A$2,0)+MAX(1,ROUND(INDEX(海突乙急診_總保費!$B$4:$GS$183,$A6,BS$56)*$A$2,0),0))) -> 261 | BT6: =ROUND(VLOOKUP(BT$3,費率表彙總!$S$4:$T$34,2,FALSE)*$B6*$A$2,0) -> 0 | BU6: =IF(ISNA(BU$3),0,ROUND(INDEX(旅遊不便費率!$B$5:$CA$184,$A6,BU$3)*$A$3,0)) -> 0 | BV6: =IF(ISNA(BV$3),0,ROUND(INDEX(旅遊不便費率!$B$5:$CA$184,$A6,BV$3)*$A$3,0)) -> 0 | BW6: =IF(ISNA(BW$3),0,ROUND(INDEX(旅遊不便費率!$B$5:$CA$184,$A6,BW$3)*$A$3,0)) -> 0 | BX6: =IF(ISNA(BX$3),0,ROUND(INDEX(旅遊不便費率!$B$5:$CA$184,$A6,BX$3)*$A$3,0)) -> 0 | BY6: =SUM(BK6:BX6) -> 573 | BZ6: =IF(ISNA(BZ$56),0,ROUND(INDEX(INDIRECT(BZ$55),$A6,BZ$56)*$A$2,0)) -> 63 | CC6: =ROUND(VLOOKUP(CC$3,費率表彙總!$F$4:$G$404,2,FALSE)*$B6*$A$2,0) -> 0 | CD6: =ROUND(VLOOKUP(CD$3,費率表彙總!$H$4:$I$804,2,FALSE)*$B6*$A$2,0) -> 0 | CE6: =IF(ISNA(CE$56),0,ROUND(INDEX(實支實付_總保費!$B$4:$AE$183,$A6,CE$56)*$A$2,0)) -> 9 | CF6: =IF(ISNA(CF$56),0,ROUND(INDEX(重大燒燙傷_總保費!$B$4:$AE$183,$A6,CF$56)*$A$2,0)) -> 1 | CG6: =IF(CG$3<>0,MAX(1,ROUND(VLOOKUP(CG$3,費率表彙總!$L$4:$O$34,2,FALSE)*$B6*$A$2,0))+MAX(1,ROUND(INDEX(海突甲門診_總保費!$B$4:$GS$183,$A6,CG$56)*$A$2,0)+MAX(1,ROUND(INDEX(海突甲急診_總保費!$B$4:$GS$183,$A6,CG$56)*$A$2,0),0))) -> FALSE | CH6: =IF(CH$3<>0,MAX(1,ROUND(VLOOKUP(CH$3,費率表彙總!$L$4:$R$34,5,FALSE)*$B6*$A$2,0))+MAX(1,ROUND(INDEX(海突乙門診_總保費!$B$4:$GS$183,$A6,CH$56)*$A$2,0)+MAX(1,ROUND(INDEX(海突乙急診_總保費!$B$4:$GS$183,$A6,CH$56)*$A$2,0),0))) -> FALSE | CI6: =ROUND(VLOOKUP(CI$3,費率表彙總!$S$4:$T$34,2,FALSE)*$B6*$A$2,0) -> 0 | CJ6: =IF(ISNA(CJ$3),0,ROUND(INDEX(旅遊不便費率!$B$5:$CA$184,$A6,CJ$3)*$A$3,0)) -> 30 | CK6: =IF(ISNA(CK$3),0,ROUND(INDEX(旅遊不便費率!$B$5:$CA$184,$A6,CK$3)*$A$3,0)) -> 151 | CL6: =IF(ISNA(CL$3),0,ROUND(INDEX(旅遊不便費率!$B$5:$CA$184,$A6,CL$3)*$A$3,0)) -> 7 | CM6: =IF(ISNA(CM$3),0,ROUND(INDEX(旅遊不便費率!$B$5:$CA$184,$A6,CM$3)*$A$3,0)) -> 21 | CN6: =SUM(BZ6:CM6) -> 282 | CO6: =IF(ISNA(CO$56),0,ROUND(INDEX(INDIRECT(CO$55),$A6,CO$56)*$A$2,0)) -> 94 | CR6: =ROUND(VLOOKUP(CR$3,費率表彙總!$F$4:$G$404,2,FALSE)*$B6*$A$2,0) -> 0 | CS6: =ROUND(VLOOKUP(CS$3,費率表彙總!$H$4:$I$804,2,FALSE)*$B6*$A$2,0) -> 0 | CT6: =IF(ISNA(CT$56),0,ROUND(INDEX(實支實付_總保費!$B$4:$AE$183,$A6,CT$56)*$A$2,0)) -> 9 | CU6: =IF(ISNA(CU$56),0,ROUND(INDEX(重大燒燙傷_總保費!$B$4:$AE$183,$A6,CU$56)*$A$2,0)) -> 1 | CV6: =IF(CV$3<>0,MAX(1,ROUND(VLOOKUP(CV$3,費率表彙總!$L$4:$O$34,2,FALSE)*$B6*$A$2,0))+MAX(1,ROUND(INDEX(海突甲門診_總保費!$B$4:$GS$183,$A6,CV$56)*$A$2,0)+MAX(1,ROUND(INDEX(海突甲急診_總保費!$B$4:$GS$183,$A6,CV$56)*$A$2,0),0))) -> FALSE | CW6: =IF(CW$3<>0,MAX(1,ROUND(VLOOKUP(CW$3,費率表彙總!$L$4:$R$34,5,FALSE)*$B6*$A$2,0))+MAX(1,ROUND(INDEX(海突乙門診_總保費!$B$4:$GS$183,$A6,CW$56)*$A$2,0)+MAX(1,ROUND(INDEX(海突乙急診_總保費!$B$4:$GS$183,$A6,CW$56)*$A$2,0),0))) -> FALSE | CX6: =ROUND(VLOOKUP(CX$3,費率表彙總!$S$4:$T$34,2,FALSE)*$B6*$A$2,0) -> 0 | CY6: =IF(ISNA(CY$3),0,ROUND(INDEX(旅遊不便費率!$B$5:$CA$184,$A6,CY$3)*$A$3,0)) -> 30 | CZ6: =IF(ISNA(CZ$3),0,ROUND(INDEX(旅遊不便費率!$B$5:$CA$184,$A6,CZ$3)*$A$3,0)) -> 151 | DA6: =IF(ISNA(DA$3),0,ROUND(INDEX(旅遊不便費率!$B$5:$CA$184,$A6,DA$3)*$A$3,0)) -> 7 | DB6: =IF(ISNA(DB$3),0,ROUND(INDEX(旅遊不便費率!$B$5:$CA$184,$A6,DB$3)*$A$3,0)) -> 21 | DC6: =SUM(CO6:DB6) -> 313 | DD6: =IF(ISNA(DD$56),0,ROUND(INDEX(INDIRECT(DD$55),$A6,DD$56)*$A$2,0)) -> 155 | DG6: =ROUND(VLOOKUP(DG$3,費率表彙總!$F$4:$G$404,2,FALSE)*$B6*$A$2,0) -> 0 | DH6: =ROUND(VLOOKUP(DH$3,費率表彙總!$H$4:$I$804,2,FALSE)*$B6*$A$2,0) -> 0 | DI6: =IF(ISNA(DI$56),0,ROUND(INDEX(實支實付_總保費!$B$4:$AE$183,$A6,DI$56)*$A$2,0)) -> 9 | DJ6: =IF(ISNA(DJ$56),0,ROUND(INDEX(重大燒燙傷_總保費!$B$4:$AE$183,$A6,DJ$56)*$A$2,0)) -> 1 | DK6: =IF(DK$3<>0,MAX(1,ROUND(VLOOKUP(DK$3,費率表彙總!$L$4:$O$34,2,FALSE)*$B6*$A$2,0))+MAX(1,ROUND(INDEX(海突甲門診_總保費!$B$4:$GS$183,$A6,DK$56)*$A$2,0)+MAX(1,ROUND(INDEX(海突甲急診_總保費!$B$4:$GS$183,$A6,DK$56)*$A$2,0),0))) -> FALSE | DL6: =IF(DL$3<>0,MAX(1,ROUND(VLOOKUP(DL$3,費率表彙總!$L$4:$R$34,5,FALSE)*$B6*$A$2,0))+MAX(1,ROUND(INDEX(海突乙門診_總保費!$B$4:$GS$183,$A6,DL$56)*$A$2,0)+MAX(1,ROUND(INDEX(海突乙急診_總保費!$B$4:$GS$183,$A6,DL$56)*$A$2,0),0))) -> FALSE | DM6: =ROUND(VLOOKUP(DM$3,費率表彙總!$S$4:$T$34,2,FALSE)*$B6*$A$2,0) -> 0 | DN6: =IF(ISNA(DN$3),0,ROUND(INDEX(旅遊不便費率!$B$5:$CA$184,$A6,DN$3)*$A$3,0)) -> 30 | DO6: =IF(ISNA(DO$3),0,ROUND(INDEX(旅遊不便費率!$B$5:$CA$184,$A6,DO$3)*$A$3,0)) -> 151 | DP6: =IF(ISNA(DP$3),0,ROUND(INDEX(旅遊不便費率!$B$5:$CA$184,$A6,DP$3)*$A$3,0)) -> 7 | DQ6: =IF(ISNA(DQ$3),0,ROUND(INDEX(旅遊不便費率!$B$5:$CA$184,$A6,DQ$3)*$A$3,0)) -> 21 | DR6: =SUM(DD6:DQ6) -> 374 | DS6: =IF(ISNA(DS$56),0,ROUND(INDEX(INDIRECT(DS$55),$A6,DS$56)*$A$2,0)) -> 249 | DV6: =ROUND(VLOOKUP(DV$3,費率表彙總!$F$4:$G$404,2,FALSE)*$B6*$A$2,0) -> 0 | DW6: =ROUND(VLOOKUP(DW$3,費率表彙總!$H$4:$I$804,2,FALSE)*$B6*$A$2,0) -> 0 | DX6: =IF(ISNA(DX$56),0,ROUND(INDEX(實支實付_總保費!$B$4:$AE$183,$A6,DX$56)*$A$2,0)) -> 9 | DY6: =IF(ISNA(DY$56),0,ROUND(INDEX(重大燒燙傷_總保費!$B$4:$AE$183,$A6,DY$56)*$A$2,0)) -> 1 | DZ6: =IF(DZ$3<>0,MAX(1,ROUND(VLOOKUP(DZ$3,費率表彙總!$L$4:$O$34,2,FALSE)*$B6*$A$2,0))+MAX(1,ROUND(INDEX(海突甲門診_總保費!$B$4:$GS$183,$A6,DZ$56)*$A$2,0)+MAX(1,ROUND(INDEX(海突甲急診_總保費!$B$4:$GS$183,$A6,DZ$56)*$A$2,0),0))) -> FALSE | EA6: =IF(EA$3<>0,MAX(1,ROUND(VLOOKUP(EA$3,費率表彙總!$L$4:$R$34,5,FALSE)*$B6*$A$2,0))+MAX(1,ROUND(INDEX(海突乙門診_總保費!$B$4:$GS$183,$A6,EA$56)*$A$2,0)+MAX(1,ROUND(INDEX(海突乙急診_總保費!$B$4:$GS$183,$A6,EA$56)*$A$2,0),0))) -> FALSE | EB6: =ROUND(VLOOKUP(EB$3,費率表彙總!$S$4:$T$34,2,FALSE)*$B6*$A$2,0) -> 0 | EC6: =IF(ISNA(EC$3),0,ROUND(INDEX(旅遊不便費率!$B$5:$CA$184,$A6,EC$3)*$A$3,0)) -> 30 | ED6: =IF(ISNA(ED$3),0,ROUND(INDEX(旅遊不便費率!$B$5:$CA$184,$A6,ED$3)*$A$3,0)) -> 151 | EE6: =IF(ISNA(EE$3),0,ROUND(INDEX(旅遊不便費率!$B$5:$CA$184,$A6,EE$3)*$A$3,0)) -> 7 | EF6: =IF(ISNA(EF$3),0,ROUND(INDEX(旅遊不便費率!$B$5:$CA$184,$A6,EF$3)*$A$3,0)) -> 21 | EG6: =SUM(DS6:EF6) -> 468 | EH6: =IF(ISNA(EH$56),0,ROUND(INDEX(INDIRECT(EH$55),$A6,EH$56)*$A$2,0)) -> 312 | EK6: =ROUND(VLOOKUP(EK$3,費率表彙總!$F$4:$G$404,2,FALSE)*$B6*$A$2,0) -> 0 | EL6: =ROUND(VLOOKUP(EL$3,費率表彙總!$H$4:$I$804,2,FALSE)*$B6*$A$2,0) -> 0 | EM6: =IF(ISNA(EM$56),0,ROUND(INDEX(實支實付_總保費!$B$4:$AE$183,$A6,EM$56)*$A$2,0)) -> 9 | EN6: =IF(ISNA(EN$56),0,ROUND(INDEX(重大燒燙傷_總保費!$B$4:$AE$183,$A6,EN$56)*$A$2,0)) -> 1 | EO6: =IF(EO$3<>0,MAX(1,ROUND(VLOOKUP(EO$3,費率表彙總!$L$4:$O$34,2,FALSE)*$B6*$A$2,0))+MAX(1,ROUND(INDEX(海突甲門診_總保費!$B$4:$GS$183,$A6,EO$56)*$A$2,0)+MAX(1,ROUND(INDEX(海突甲急診_總保費!$B$4:$GS$183,$A6,EO$56)*$A$2,0),0))) -> FALSE | EP6: =IF(EP$3<>0,MAX(1,ROUND(VLOOKUP(EP$3,費率表彙總!$L$4:$R$34,5,FALSE)*$B6*$A$2,0))+MAX(1,ROUND(INDEX(海突乙門診_總保費!$B$4:$GS$183,$A6,EP$56)*$A$2,0)+MAX(1,ROUND(INDEX(海突乙急診_總保費!$B$4:$GS$183,$A6,EP$56)*$A$2,0),0))) -> FALSE | EQ6: =ROUND(VLOOKUP(EQ$3,費率表彙總!$S$4:$T$34,2,FALSE)*$B6*$A$2,0) -> 0 | ER6: =IF(ISNA(ER$3),0,ROUND(INDEX(旅遊不便費率!$B$5:$CA$184,$A6,ER$3)*$A$3,0)) -> 30 | ES6: =IF(ISNA(ES$3),0,ROUND(INDEX(旅遊不便費率!$B$5:$CA$184,$A6,ES$3)*$A$3,0)) -> 151 | ET6: =IF(ISNA(ET$3),0,ROUND(INDEX(旅遊不便費率!$B$5:$CA$184,$A6,ET$3)*$A$3,0)) -> 7 | EU6: =IF(ISNA(EU$3),0,ROUND(INDEX(旅遊不便費率!$B$5:$CA$184,$A6,EU$3)*$A$3,0)) -> 21 | EV6: =SUM(EH6:EU6) -> 531 | EW6: =IF(ISNA(EW$56),0,ROUND(INDEX(INDIRECT(EW$55),$A6,EW$56)*$A$2,0)) -> 218 | EZ6: =ROUND(VLOOKUP(EZ$3,費率表彙總!$F$4:$G$404,2,FALSE)*$B6*$A$2,0) -> 0 | FA6: =ROUND(VLOOKUP(FA$3,費率表彙總!$H$4:$I$804,2,FALSE)*$B6*$A$2,0) -> 0 | FB6: =IF(ISNA(FB$56),0,ROUND(INDEX(實支實付_總保費!$B$4:$AE$183,$A6,FB$56)*$A$2,0)) -> 148 | FC6: =IF(ISNA(FC$56),0,ROUND(INDEX(重大燒燙傷_總保費!$B$4:$AE$183,$A6,FC$56)*$A$2,0)) -> 9 | FD6: =IF(FD$3<>0,MAX(1,ROUND(VLOOKUP(FD$3,費率表彙總!$L$4:$O$34,2,FALSE)*$B6*$A$2,0))+MAX(1,ROUND(INDEX(海突甲門診_總保費!$B$4:$GS$183,$A6,FD$56)*$A$2,0)+MAX(1,ROUND(INDEX(海突甲急診_總保費!$B$4:$GS$183,$A6,FD$56)*$A$2,0),0))) -> FALSE | FE6: =IF(FE$3<>0,MAX(1,ROUND(VLOOKUP(FE$3,費率表彙總!$L$4:$R$34,5,FALSE)*$B6*$A$2,0))+MAX(1,ROUND(INDEX(海突乙門診_總保費!$B$4:$GS$183,$A6,FE$56)*$A$2,0)+MAX(1,ROUND(INDEX(海突乙急診_總保費!$B$4:$GS$183,$A6,FE$56)*$A$2,0),0))) -> 312 | FF6: =ROUND(VLOOKUP(FF$3,費率表彙總!$S$4:$T$34,2,FALSE)*$B6*$A$2,0) -> 0 | FG6: =IF(ISNA(FG$3),0,ROUND(INDEX(旅遊不便費率!$B$5:$CA$184,$A6,FG$3)*$A$3,0)) -> 30 | FH6: =IF(ISNA(FH$3),0,ROUND(INDEX(旅遊不便費率!$B$5:$CA$184,$A6,FH$3)*$A$3,0)) -> 235 | FI6: =IF(ISNA(FI$3),0,ROUND(INDEX(旅遊不便費率!$B$5:$CA$184,$A6,FI$3)*$A$3,0)) -> 12 | FJ6: =IF(ISNA(FJ$3),0,ROUND(INDEX(旅遊不便費率!$B$5:$CA$184,$A6,FJ$3)*$A$3,0)) -> 38 | FK6: =SUM(EW6:FJ6) -> 1002 | FL6: =IF(ISNA(FL$56),0,ROUND(INDEX(INDIRECT(FL$55),$A6,FL$56)*$A$2,0)) -> 94 | FO6: =ROUND(VLOOKUP(FO$3,費率表彙總!$F$4:$G$404,2,FALSE)*$B6*$A$2,0) -> 0 | FP6: =ROUND(VLOOKUP(FP$3,費率表彙總!$H$4:$I$804,2,FALSE)*$B6*$A$2,0) -> 0 | FQ6: =IF(ISNA(FQ$56),0,ROUND(INDEX(實支實付_總保費!$B$4:$AE$183,$A6,FQ$56)*$A$2,0)) -> 30 | FR6: =IF(ISNA(FR$56),0,ROUND(INDEX(重大燒燙傷_總保費!$B$4:$AE$183,$A6,FR$56)*$A$2,0)) -> 2 | FS6: =IF(FS$3<>0,MAX(1,ROUND(VLOOKUP(FS$3,費率表彙總!$L$4:$O$34,2,FALSE)*$B6*$A$2,0))+MAX(1,ROUND(INDEX(海突甲門診_總保費!$B$4:$GS$183,$A6,FS$56)*$A$2,0)+MAX(1,ROUND(INDEX(海突甲急診_總保費!$B$4:$GS$183,$A6,FS$56)*$A$2,0),0))) -> FALSE | FT6: =IF(FT$3<>0,MAX(1,ROUND(VLOOKUP(FT$3,費率表彙總!$L$4:$R$34,5,FALSE)*$B6*$A$2,0))+MAX(1,ROUND(INDEX(海突乙門診_總保費!$B$4:$GS$183,$A6,FT$56)*$A$2,0)+MAX(1,ROUND(INDEX(海突乙急診_總保費!$B$4:$GS$183,$A6,FT$56)*$A$2,0),0))) -> 164 | FU6: =ROUND(VLOOKUP(FU$3,費率表彙總!$S$4:$T$34,2,FALSE)*$B6*$A$2,0) -> 0 | FV6: =IF(ISNA(FV$3),0,ROUND(INDEX(旅遊不便費率!$B$5:$CA$184,$A6,FV$3)*$A$3,0)) -> 30 | FW6: =IF(ISNA(FW$3),0,ROUND(INDEX(旅遊不便費率!$B$5:$CA$184,$A6,FW$3)*$A$3,0)) -> 235 | FX6: =IF(ISNA(FX$3),0,ROUND(INDEX(旅遊不便費率!$B$5:$CA$184,$A6,FX$3)*$A$3,0)) -> 12 | FY6: =IF(ISNA(FY$3),0,ROUND(INDEX(旅遊不便費率!$B$5:$CA$184,$A6,FY$3)*$A$3,0)) -> 38 | FZ6: =SUM(FL6:FY6) -> 605 | GA6: =IF(ISNA(GA$56),0,ROUND(INDEX(INDIRECT(GA$55),$A6,GA$56)*$A$2,0)) -> 155 | GD6: =ROUND(VLOOKUP(GD$3,費率表彙總!$F$4:$G$404,2,FALSE)*$B6*$A$2,0) -> 0 | GE6: =ROUND(VLOOKUP(GE$3,費率表彙總!$H$4:$I$804,2,FALSE)*$B6*$A$2,0) -> 0 | GF6: =IF(ISNA(GF$56),0,ROUND(INDEX(實支實付_總保費!$B$4:$AE$183,$A6,GF$56)*$A$2,0)) -> 49 | GG6: =IF(ISNA(GG$56),0,ROUND(INDEX(重大燒燙傷_總保費!$B$4:$AE$183,$A6,GG$56)*$A$2,0)) -> 3 | GH6: =IF(GH$3<>0,MAX(1,ROUND(VLOOKUP(GH$3,費率表彙總!$L$4:$O$34,2,FALSE)*$B6*$A$2,0))+MAX(1,ROUND(INDEX(海突甲門診_總保費!$B$4:$GS$183,$A6,GH$56)*$A$2,0)+MAX(1,ROUND(INDEX(海突甲急診_總保費!$B$4:$GS$183,$A6,GH$56)*$A$2,0),0))) -> FALSE | GI6: =IF(GI$3<>0,MAX(1,ROUND(VLOOKUP(GI$3,費率表彙總!$L$4:$R$34,5,FALSE)*$B6*$A$2,0))+MAX(1,ROUND(INDEX(海突乙門診_總保費!$B$4:$GS$183,$A6,GI$56)*$A$2,0)+MAX(1,ROUND(INDEX(海突乙急診_總保費!$B$4:$GS$183,$A6,GI$56)*$A$2,0),0))) -> 261 | GJ6: =ROUND(VLOOKUP(GJ$3,費率表彙總!$S$4:$T$34,2,FALSE)*$B6*$A$2,0) -> 0 | GK6: =IF(ISNA(GK$3),0,ROUND(INDEX(旅遊不便費率!$B$5:$CA$184,$A6,GK$3)*$A$3,0)) -> 30 | GL6: =IF(ISNA(GL$3),0,ROUND(INDEX(旅遊不便費率!$B$5:$CA$184,$A6,GL$3)*$A$3,0)) -> 235 | GM6: =IF(ISNA(GM$3),0,ROUND(INDEX(旅遊不便費率!$B$5:$CA$184,$A6,GM$3)*$A$3,0)) -> 12 | GN6: =IF(ISNA(GN$3),0,ROUND(INDEX(旅遊不便費率!$B$5:$CA$184,$A6,GN$3)*$A$3,0)) -> 38 | GO6: =SUM(GA6:GN6) -> 783 | GP6: =IF(ISNA(GP$56),0,ROUND(INDEX(INDIRECT(GP$55),$A6,GP$56)*$A$2,0)) -> 155 | GS6: =ROUND(VLOOKUP(GS$3,費率表彙總!$F$4:$G$404,2,FALSE)*$B6*$A$2,0) -> 0 | GT6: =ROUND(VLOOKUP(GT$3,費率表彙總!$H$4:$I$804,2,FALSE)*$B6*$A$2,0) -> 0 | GU6: =IF(ISNA(GU$56),0,ROUND(INDEX(實支實付_總保費!$B$4:$AE$183,$A6,GU$56)*$A$2,0)) -> 99 | GV6: =IF(ISNA(GV$56),0,ROUND(INDEX(重大燒燙傷_總保費!$B$4:$AE$183,$A6,GV$56)*$A$2,0)) -> 6 | GW6: =IF(GW$3<>0,MAX(1,ROUND(VLOOKUP(GW$3,費率表彙總!$L$4:$O$34,2,FALSE)*$B6*$A$2,0))+MAX(1,ROUND(INDEX(海突甲門診_總保費!$B$4:$GS$183,$A6,GW$56)*$A$2,0)+MAX(1,ROUND(INDEX(海突甲急診_總保費!$B$4:$GS$183,$A6,GW$56)*$A$2,0),0))) -> FALSE | GX6: =IF(GX$3<>0,MAX(1,ROUND(VLOOKUP(GX$3,費率表彙總!$L$4:$R$34,5,FALSE)*$B6*$A$2,0))+MAX(1,ROUND(INDEX(海突乙門診_總保費!$B$4:$GS$183,$A6,GX$56)*$A$2,0)+MAX(1,ROUND(INDEX(海突乙急診_總保費!$B$4:$GS$183,$A6,GX$56)*$A$2,0),0))) -> 164 | GY6: =ROUND(VLOOKUP(GY$3,費率表彙總!$S$4:$T$34,2,FALSE)*$B6*$A$2,0) -> 0 | GZ6: =IF(ISNA(GZ$3),0,ROUND(INDEX(旅遊不便費率!$B$5:$CA$184,$A6,GZ$3)*$A$3,0)) -> 30 | HA6: =IF(ISNA(HA$3),0,ROUND(INDEX(旅遊不便費率!$B$5:$CA$184,$A6,HA$3)*$A$3,0)) -> 235 | HB6: =IF(ISNA(HB$3),0,ROUND(INDEX(旅遊不便費率!$B$5:$CA$184,$A6,HB$3)*$A$3,0)) -> 12 | HC6: =IF(ISNA(HC$3),0,ROUND(INDEX(旅遊不便費率!$B$5:$CA$184,$A6,HC$3)*$A$3,0)) -> 38 | HD6: =SUM(GP6:HC6) -> 739 | HE6: =IF(ISNA(HE$56),0,ROUND(INDEX(INDIRECT(HE$55),$A6,HE$56)*$A$2,0)) -> 155 | HH6: =ROUND(VLOOKUP(HH$3,費率表彙總!$F$4:$G$404,2,FALSE)*$B6*$A$2,0) -> 0 | HI6: =ROUND(VLOOKUP(HI$3,費率表彙總!$H$4:$I$804,2,FALSE)*$B6*$A$2,0) -> 0 | HJ6: =IF(ISNA(HJ$56),0,ROUND(INDEX(實支實付_總保費!$B$4:$AE$183,$A6,HJ$56)*$A$2,0)) -> 99 | HK6: =IF(ISNA(HK$56),0,ROUND(INDEX(重大燒燙傷_總保費!$B$4:$AE$183,$A6,HK$56)*$A$2,0)) -> 6 | HL6: =IF(HL$3<>0,MAX(1,ROUND(VLOOKUP(HL$3,費率表彙總!$L$4:$O$34,2,FALSE)*$B6*$A$2,0))+MAX(1,ROUND(INDEX(海突甲門診_總保費!$B$4:$GS$183,$A6,HL$56)*$A$2,0)+MAX(1,ROUND(INDEX(海突甲急診_總保費!$B$4:$GS$183,$A6,HL$56)*$A$2,0),0))) -> FALSE | HM6: =IF(HM$3<>0,MAX(1,ROUND(VLOOKUP(HM$3,費率表彙總!$L$4:$R$34,5,FALSE)*$B6*$A$2,0))+MAX(1,ROUND(INDEX(海突乙門診_總保費!$B$4:$GS$183,$A6,HM$56)*$A$2,0)+MAX(1,ROUND(INDEX(海突乙急診_總保費!$B$4:$GS$183,$A6,HM$56)*$A$2,0),0))) -> 164 | HN6: =ROUND(VLOOKUP(HN$3,費率表彙總!$S$4:$T$34,2,FALSE)*$B6*$A$2,0) -> 0 | HO6: =IF(ISNA(HO$3),0,ROUND(INDEX(旅遊不便費率!$B$5:$CA$184,$A6,HO$3)*$A$3,0)) -> 30 | HP6: =IF(ISNA(HP$3),0,ROUND(INDEX(旅遊不便費率!$B$5:$CA$184,$A6,HP$3)*$A$3,0)) -> 235 | HQ6: =IF(ISNA(HQ$3),0,ROUND(INDEX(旅遊不便費率!$B$5:$CA$184,$A6,HQ$3)*$A$3,0)) -> 12 | HR6: =IF(ISNA(HR$3),0,ROUND(INDEX(旅遊不便費率!$B$5:$CA$184,$A6,HR$3)*$A$3,0)) -> 38 | HS6: =SUM(HE6:HR6) -> 739
A7: 3 | B7: =VLOOKUP(A7,費率表彙總!$A$4:$B$183,2,FALSE) -> 0.101 | C7: =IF(ISNA(C$56),0,ROUND(INDEX(INDIRECT(C$55),$A7,C$56)*$A$2,0)) -> 102 | F7: =ROUND(VLOOKUP(F$3,費率表彙總!$F$4:$G$404,2,FALSE)*$B7*$A$2,0) -> 0 | G7: =ROUND(VLOOKUP(G$3,費率表彙總!$H$4:$I$804,2,FALSE)*$B7*$A$2,0) -> 0 | H7: =IF(ISNA(H$56),0,ROUND(INDEX(實支實付_總保費!$B$4:$AE$183,$A7,H$56)*$A$2,0)) -> 0 | I7: =IF(ISNA(I$56),0,ROUND(INDEX(重大燒燙傷_總保費!$B$4:$AE$183,$A7,I$56)*$A$2,0)) -> 0 | J7: =IF(J$3<>0,MAX(1,ROUND(VLOOKUP(J$3,費率表彙總!$L$4:$O$34,2,FALSE)*$B7*$A$2,0))+MAX(1,ROUND(INDEX(海突甲門診_總保費!$B$4:$GS$183,$A7,J$56)*$A$2,0)+MAX(1,ROUND(INDEX(海突甲急診_總保費!$B$4:$GS$183,$A7,J$56)*$A$2,0),0))) -> FALSE | K7: =IF(K$3<>0,MAX(1,ROUND(VLOOKUP(K$3,費率表彙總!$L$4:$R$34,5,FALSE)*$B7*$A$2,0))+MAX(1,ROUND(INDEX(海突乙門診_總保費!$B$4:$GS$183,$A7,K$56)*$A$2,0)+MAX(1,ROUND(INDEX(海突乙急診_總保費!$B$4:$GS$183,$A7,K$56)*$A$2,0),0))) -> 92 | L7: =ROUND(VLOOKUP(L$3,費率表彙總!$S$4:$T$34,2,FALSE)*$B7*$A$2,0) -> 0 | M7: =IF(ISNA(M$3),0,ROUND(INDEX(旅遊不便費率!$B$5:$CA$184,$A7,M$3)*$A$3,0)) -> 0 | N7: =IF(ISNA(N$3),0,ROUND(INDEX(旅遊不便費率!$B$5:$CA$184,$A7,N$3)*$A$3,0)) -> 0 | O7: =IF(ISNA(O$3),0,ROUND(INDEX(旅遊不便費率!$B$5:$CA$184,$A7,O$3)*$A$3,0)) -> 0 | P7: =IF(ISNA(P$3),0,ROUND(INDEX(旅遊不便費率!$B$5:$CA$184,$A7,P$3)*$A$3,0)) -> 0 | Q7: =SUM(C7:P7) -> 194 | R7: =IF(ISNA(R$56),0,ROUND(INDEX(INDIRECT(R$55),$A7,R$56)*$A$2,0)) -> 102 | U7: =ROUND(VLOOKUP(U$3,費率表彙總!$F$4:$G$404,2,FALSE)*$B7*$A$2,0) -> 0 | V7: =ROUND(VLOOKUP(V$3,費率表彙總!$H$4:$I$804,2,FALSE)*$B7*$A$2,0) -> 0 | W7: =IF(ISNA(W$56),0,ROUND(INDEX(實支實付_總保費!$B$4:$AE$183,$A7,W$56)*$A$2,0)) -> 0 | X7: =IF(ISNA(X$56),0,ROUND(INDEX(重大燒燙傷_總保費!$B$4:$AE$183,$A7,X$56)*$A$2,0)) -> 0 | Y7: =IF(Y$3<>0,MAX(1,ROUND(VLOOKUP(Y$3,費率表彙總!$L$4:$O$34,2,FALSE)*$B7*$A$2,0))+MAX(1,ROUND(INDEX(海突甲門診_總保費!$B$4:$GS$183,$A7,Y$56)*$A$2,0)+MAX(1,ROUND(INDEX(海突甲急診_總保費!$B$4:$GS$183,$A7,Y$56)*$A$2,0),0))) -> FALSE | Z7: =IF(Z$3<>0,MAX(1,ROUND(VLOOKUP(Z$3,費率表彙總!$L$4:$R$34,5,FALSE)*$B7*$A$2,0))+MAX(1,ROUND(INDEX(海突乙門診_總保費!$B$4:$GS$183,$A7,Z$56)*$A$2,0)+MAX(1,ROUND(INDEX(海突乙急診_總保費!$B$4:$GS$183,$A7,Z$56)*$A$2,0),0))) -> 92 | AA7: =ROUND(VLOOKUP(AA$3,費率表彙總!$S$4:$T$34,2,FALSE)*$B7*$A$2,0) -> 0 | AB7: =IF(ISNA(AB$3),0,ROUND(INDEX(旅遊不便費率!$B$5:$CA$184,$A7,AB$3)*$A$3,0)) -> 0 | AC7: =IF(ISNA(AC$3),0,ROUND(INDEX(旅遊不便費率!$B$5:$CA$184,$A7,AC$3)*$A$3,0)) -> 0 | AD7: =IF(ISNA(AD$3),0,ROUND(INDEX(旅遊不便費率!$B$5:$CA$184,$A7,AD$3)*$A$3,0)) -> 0 | AE7: =IF(ISNA(AE$3),0,ROUND(INDEX(旅遊不便費率!$B$5:$CA$184,$A7,AE$3)*$A$3,0)) -> 0 | AF7: =SUM(R7:AE7) -> 194 | AG7: =IF(ISNA(AG$56),0,ROUND(INDEX(INDIRECT(AG$55),$A7,AG$56)*$A$2,0)) -> 168 | AJ7: =ROUND(VLOOKUP(AJ$3,費率表彙總!$F$4:$G$404,2,FALSE)*$B7*$A$2,0) -> 0 | AK7: =ROUND(VLOOKUP(AK$3,費率表彙總!$H$4:$I$804,2,FALSE)*$B7*$A$2,0) -> 0 | AL7: =IF(ISNA(AL$56),0,ROUND(INDEX(實支實付_總保費!$B$4:$AE$183,$A7,AL$56)*$A$2,0)) -> 0 | AM7: =IF(ISNA(AM$56),0,ROUND(INDEX(重大燒燙傷_總保費!$B$4:$AE$183,$A7,AM$56)*$A$2,0)) -> 0 | AN7: =IF(AN$3<>0,MAX(1,ROUND(VLOOKUP(AN$3,費率表彙總!$L$4:$O$34,2,FALSE)*$B7*$A$2,0))+MAX(1,ROUND(INDEX(海突甲門診_總保費!$B$4:$GS$183,$A7,AN$56)*$A$2,0)+MAX(1,ROUND(INDEX(海突甲急診_總保費!$B$4:$GS$183,$A7,AN$56)*$A$2,0),0))) -> FALSE | AO7: =IF(AO$3<>0,MAX(1,ROUND(VLOOKUP(AO$3,費率表彙總!$L$4:$R$34,5,FALSE)*$B7*$A$2,0))+MAX(1,ROUND(INDEX(海突乙門診_總保費!$B$4:$GS$183,$A7,AO$56)*$A$2,0)+MAX(1,ROUND(INDEX(海突乙急診_總保費!$B$4:$GS$183,$A7,AO$56)*$A$2,0),0))) -> 149 | AP7: =ROUND(VLOOKUP(AP$3,費率表彙總!$S$4:$T$34,2,FALSE)*$B7*$A$2,0) -> 0 | AQ7: =IF(ISNA(AQ$3),0,ROUND(INDEX(旅遊不便費率!$B$5:$CA$184,$A7,AQ$3)*$A$3,0)) -> 0 | AR7: =IF(ISNA(AR$3),0,ROUND(INDEX(旅遊不便費率!$B$5:$CA$184,$A7,AR$3)*$A$3,0)) -> 0 | AS7: =IF(ISNA(AS$3),0,ROUND(INDEX(旅遊不便費率!$B$5:$CA$184,$A7,AS$3)*$A$3,0)) -> 0 | AT7: =IF(ISNA(AT$3),0,ROUND(INDEX(旅遊不便費率!$B$5:$CA$184,$A7,AT$3)*$A$3,0)) -> 0 | AU7: =SUM(AG7:AT7) -> 317 | AV7: =IF(ISNA(AV$56),0,ROUND(INDEX(INDIRECT(AV$55),$A7,AV$56)*$A$2,0)) -> 269 | AY7: =ROUND(VLOOKUP(AY$3,費率表彙總!$F$4:$G$404,2,FALSE)*$B7*$A$2,0) -> 0 | AZ7: =ROUND(VLOOKUP(AZ$3,費率表彙總!$H$4:$I$804,2,FALSE)*$B7*$A$2,0) -> 0 | BA7: =IF(ISNA(BA$56),0,ROUND(INDEX(實支實付_總保費!$B$4:$AE$183,$A7,BA$56)*$A$2,0)) -> 0 | BB7: =IF(ISNA(BB$56),0,ROUND(INDEX(重大燒燙傷_總保費!$B$4:$AE$183,$A7,BB$56)*$A$2,0)) -> 0 | BC7: =IF(BC$3<>0,MAX(1,ROUND(VLOOKUP(BC$3,費率表彙總!$L$4:$O$34,2,FALSE)*$B7*$A$2,0))+MAX(1,ROUND(INDEX(海突甲門診_總保費!$B$4:$GS$183,$A7,BC$56)*$A$2,0)+MAX(1,ROUND(INDEX(海突甲急診_總保費!$B$4:$GS$183,$A7,BC$56)*$A$2,0),0))) -> FALSE | BD7: =IF(BD$3<>0,MAX(1,ROUND(VLOOKUP(BD$3,費率表彙總!$L$4:$R$34,5,FALSE)*$B7*$A$2,0))+MAX(1,ROUND(INDEX(海突乙門診_總保費!$B$4:$GS$183,$A7,BD$56)*$A$2,0)+MAX(1,ROUND(INDEX(海突乙急診_總保費!$B$4:$GS$183,$A7,BD$56)*$A$2,0),0))) -> 229 | BE7: =ROUND(VLOOKUP(BE$3,費率表彙總!$S$4:$T$34,2,FALSE)*$B7*$A$2,0) -> 0 | BF7: =IF(ISNA(BF$3),0,ROUND(INDEX(旅遊不便費率!$B$5:$CA$184,$A7,BF$3)*$A$3,0)) -> 0 | BG7: =IF(ISNA(BG$3),0,ROUND(INDEX(旅遊不便費率!$B$5:$CA$184,$A7,BG$3)*$A$3,0)) -> 0 | BH7: =IF(ISNA(BH$3),0,ROUND(INDEX(旅遊不便費率!$B$5:$CA$184,$A7,BH$3)*$A$3,0)) -> 0 | BI7: =IF(ISNA(BI$3),0,ROUND(INDEX(旅遊不便費率!$B$5:$CA$184,$A7,BI$3)*$A$3,0)) -> 0 | BJ7: =SUM(AV7:BI7) -> 498 | BK7: =IF(ISNA(BK$56),0,ROUND(INDEX(INDIRECT(BK$55),$A7,BK$56)*$A$2,0)) -> 337 | BN7: =ROUND(VLOOKUP(BN$3,費率表彙總!$F$4:$G$404,2,FALSE)*$B7*$A$2,0) -> 0 | BO7: =ROUND(VLOOKUP(BO$3,費率表彙總!$H$4:$I$804,2,FALSE)*$B7*$A$2,0) -> 0 | BP7: =IF(ISNA(BP$56),0,ROUND(INDEX(實支實付_總保費!$B$4:$AE$183,$A7,BP$56)*$A$2,0)) -> 0 | BQ7: =IF(ISNA(BQ$56),0,ROUND(INDEX(重大燒燙傷_總保費!$B$4:$AE$183,$A7,BQ$56)*$A$2,0)) -> 0 | BR7: =IF(BR$3<>0,MAX(1,ROUND(VLOOKUP(BR$3,費率表彙總!$L$4:$O$34,2,FALSE)*$B7*$A$2,0))+MAX(1,ROUND(INDEX(海突甲門診_總保費!$B$4:$GS$183,$A7,BR$56)*$A$2,0)+MAX(1,ROUND(INDEX(海突甲急診_總保費!$B$4:$GS$183,$A7,BR$56)*$A$2,0),0))) -> FALSE | BS7: =IF(BS$3<>0,MAX(1,ROUND(VLOOKUP(BS$3,費率表彙總!$L$4:$R$34,5,FALSE)*$B7*$A$2,0))+MAX(1,ROUND(INDEX(海突乙門診_總保費!$B$4:$GS$183,$A7,BS$56)*$A$2,0)+MAX(1,ROUND(INDEX(海突乙急診_總保費!$B$4:$GS$183,$A7,BS$56)*$A$2,0),0))) -> 279 | BT7: =ROUND(VLOOKUP(BT$3,費率表彙總!$S$4:$T$34,2,FALSE)*$B7*$A$2,0) -> 0 | BU7: =IF(ISNA(BU$3),0,ROUND(INDEX(旅遊不便費率!$B$5:$CA$184,$A7,BU$3)*$A$3,0)) -> 0 | BV7: =IF(ISNA(BV$3),0,ROUND(INDEX(旅遊不便費率!$B$5:$CA$184,$A7,BV$3)*$A$3,0)) -> 0 | BW7: =IF(ISNA(BW$3),0,ROUND(INDEX(旅遊不便費率!$B$5:$CA$184,$A7,BW$3)*$A$3,0)) -> 0 | BX7: =IF(ISNA(BX$3),0,ROUND(INDEX(旅遊不便費率!$B$5:$CA$184,$A7,BX$3)*$A$3,0)) -> 0 | BY7: =SUM(BK7:BX7) -> 616 | BZ7: =IF(ISNA(BZ$56),0,ROUND(INDEX(INDIRECT(BZ$55),$A7,BZ$56)*$A$2,0)) -> 68 | CC7: =ROUND(VLOOKUP(CC$3,費率表彙總!$F$4:$G$404,2,FALSE)*$B7*$A$2,0) -> 0 | CD7: =ROUND(VLOOKUP(CD$3,費率表彙總!$H$4:$I$804,2,FALSE)*$B7*$A$2,0) -> 0 | CE7: =IF(ISNA(CE$56),0,ROUND(INDEX(實支實付_總保費!$B$4:$AE$183,$A7,CE$56)*$A$2,0)) -> 10 | CF7: =IF(ISNA(CF$56),0,ROUND(INDEX(重大燒燙傷_總保費!$B$4:$AE$183,$A7,CF$56)*$A$2,0)) -> 1 | CG7: =IF(CG$3<>0,MAX(1,ROUND(VLOOKUP(CG$3,費率表彙總!$L$4:$O$34,2,FALSE)*$B7*$A$2,0))+MAX(1,ROUND(INDEX(海突甲門診_總保費!$B$4:$GS$183,$A7,CG$56)*$A$2,0)+MAX(1,ROUND(INDEX(海突甲急診_總保費!$B$4:$GS$183,$A7,CG$56)*$A$2,0),0))) -> FALSE | CH7: =IF(CH$3<>0,MAX(1,ROUND(VLOOKUP(CH$3,費率表彙總!$L$4:$R$34,5,FALSE)*$B7*$A$2,0))+MAX(1,ROUND(INDEX(海突乙門診_總保費!$B$4:$GS$183,$A7,CH$56)*$A$2,0)+MAX(1,ROUND(INDEX(海突乙急診_總保費!$B$4:$GS$183,$A7,CH$56)*$A$2,0),0))) -> FALSE | CI7: =ROUND(VLOOKUP(CI$3,費率表彙總!$S$4:$T$34,2,FALSE)*$B7*$A$2,0) -> 0 | CJ7: =IF(ISNA(CJ$3),0,ROUND(INDEX(旅遊不便費率!$B$5:$CA$184,$A7,CJ$3)*$A$3,0)) -> 32 | CK7: =IF(ISNA(CK$3),0,ROUND(INDEX(旅遊不便費率!$B$5:$CA$184,$A7,CK$3)*$A$3,0)) -> 162 | CL7: =IF(ISNA(CL$3),0,ROUND(INDEX(旅遊不便費率!$B$5:$CA$184,$A7,CL$3)*$A$3,0)) -> 7 | CM7: =IF(ISNA(CM$3),0,ROUND(INDEX(旅遊不便費率!$B$5:$CA$184,$A7,CM$3)*$A$3,0)) -> 22 | CN7: =SUM(BZ7:CM7) -> 302 | CO7: =IF(ISNA(CO$56),0,ROUND(INDEX(INDIRECT(CO$55),$A7,CO$56)*$A$2,0)) -> 102 | CR7: =ROUND(VLOOKUP(CR$3,費率表彙總!$F$4:$G$404,2,FALSE)*$B7*$A$2,0) -> 0 | CS7: =ROUND(VLOOKUP(CS$3,費率表彙總!$H$4:$I$804,2,FALSE)*$B7*$A$2,0) -> 0 | CT7: =IF(ISNA(CT$56),0,ROUND(INDEX(實支實付_總保費!$B$4:$AE$183,$A7,CT$56)*$A$2,0)) -> 10 | CU7: =IF(ISNA(CU$56),0,ROUND(INDEX(重大燒燙傷_總保費!$B$4:$AE$183,$A7,CU$56)*$A$2,0)) -> 1 | CV7: =IF(CV$3<>0,MAX(1,ROUND(VLOOKUP(CV$3,費率表彙總!$L$4:$O$34,2,FALSE)*$B7*$A$2,0))+MAX(1,ROUND(INDEX(海突甲門診_總保費!$B$4:$GS$183,$A7,CV$56)*$A$2,0)+MAX(1,ROUND(INDEX(海突甲急診_總保費!$B$4:$GS$183,$A7,CV$56)*$A$2,0),0))) -> FALSE | CW7: =IF(CW$3<>0,MAX(1,ROUND(VLOOKUP(CW$3,費率表彙總!$L$4:$R$34,5,FALSE)*$B7*$A$2,0))+MAX(1,ROUND(INDEX(海突乙門診_總保費!$B$4:$GS$183,$A7,CW$56)*$A$2,0)+MAX(1,ROUND(INDEX(海突乙急診_總保費!$B$4:$GS$183,$A7,CW$56)*$A$2,0),0))) -> FALSE | CX7: =ROUND(VLOOKUP(CX$3,費率表彙總!$S$4:$T$34,2,FALSE)*$B7*$A$2,0) -> 0 | CY7: =IF(ISNA(CY$3),0,ROUND(INDEX(旅遊不便費率!$B$5:$CA$184,$A7,CY$3)*$A$3,0)) -> 32 | CZ7: =IF(ISNA(CZ$3),0,ROUND(INDEX(旅遊不便費率!$B$5:$CA$184,$A7,CZ$3)*$A$3,0)) -> 162 | DA7: =IF(ISNA(DA$3),0,ROUND(INDEX(旅遊不便費率!$B$5:$CA$184,$A7,DA$3)*$A$3,0)) -> 7 | DB7: =IF(ISNA(DB$3),0,ROUND(INDEX(旅遊不便費率!$B$5:$CA$184,$A7,DB$3)*$A$3,0)) -> 22 | DC7: =SUM(CO7:DB7) -> 336 | DD7: =IF(ISNA(DD$56),0,ROUND(INDEX(INDIRECT(DD$55),$A7,DD$56)*$A$2,0)) -> 168 | DG7: =ROUND(VLOOKUP(DG$3,費率表彙總!$F$4:$G$404,2,FALSE)*$B7*$A$2,0) -> 0 | DH7: =ROUND(VLOOKUP(DH$3,費率表彙總!$H$4:$I$804,2,FALSE)*$B7*$A$2,0) -> 0 | DI7: =IF(ISNA(DI$56),0,ROUND(INDEX(實支實付_總保費!$B$4:$AE$183,$A7,DI$56)*$A$2,0)) -> 10 | DJ7: =IF(ISNA(DJ$56),0,ROUND(INDEX(重大燒燙傷_總保費!$B$4:$AE$183,$A7,DJ$56)*$A$2,0)) -> 1 | DK7: =IF(DK$3<>0,MAX(1,ROUND(VLOOKUP(DK$3,費率表彙總!$L$4:$O$34,2,FALSE)*$B7*$A$2,0))+MAX(1,ROUND(INDEX(海突甲門診_總保費!$B$4:$GS$183,$A7,DK$56)*$A$2,0)+MAX(1,ROUND(INDEX(海突甲急診_總保費!$B$4:$GS$183,$A7,DK$56)*$A$2,0),0))) -> FALSE | DL7: =IF(DL$3<>0,MAX(1,ROUND(VLOOKUP(DL$3,費率表彙總!$L$4:$R$34,5,FALSE)*$B7*$A$2,0))+MAX(1,ROUND(INDEX(海突乙門診_總保費!$B$4:$GS$183,$A7,DL$56)*$A$2,0)+MAX(1,ROUND(INDEX(海突乙急診_總保費!$B$4:$GS$183,$A7,DL$56)*$A$2,0),0))) -> FALSE | DM7: =ROUND(VLOOKUP(DM$3,費率表彙總!$S$4:$T$34,2,FALSE)*$B7*$A$2,0) -> 0 | DN7: =IF(ISNA(DN$3),0,ROUND(INDEX(旅遊不便費率!$B$5:$CA$184,$A7,DN$3)*$A$3,0)) -> 32 | DO7: =IF(ISNA(DO$3),0,ROUND(INDEX(旅遊不便費率!$B$5:$CA$184,$A7,DO$3)*$A$3,0)) -> 162 | DP7: =IF(ISNA(DP$3),0,ROUND(INDEX(旅遊不便費率!$B$5:$CA$184,$A7,DP$3)*$A$3,0)) -> 7 | DQ7: =IF(ISNA(DQ$3),0,ROUND(INDEX(旅遊不便費率!$B$5:$CA$184,$A7,DQ$3)*$A$3,0)) -> 22 | DR7: =SUM(DD7:DQ7) -> 402 | DS7: =IF(ISNA(DS$56),0,ROUND(INDEX(INDIRECT(DS$55),$A7,DS$56)*$A$2,0)) -> 269 | DV7: =ROUND(VLOOKUP(DV$3,費率表彙總!$F$4:$G$404,2,FALSE)*$B7*$A$2,0) -> 0 | DW7: =ROUND(VLOOKUP(DW$3,費率表彙總!$H$4:$I$804,2,FALSE)*$B7*$A$2,0) -> 0 | DX7: =IF(ISNA(DX$56),0,ROUND(INDEX(實支實付_總保費!$B$4:$AE$183,$A7,DX$56)*$A$2,0)) -> 10 | DY7: =IF(ISNA(DY$56),0,ROUND(INDEX(重大燒燙傷_總保費!$B$4:$AE$183,$A7,DY$56)*$A$2,0)) -> 1 | DZ7: =IF(DZ$3<>0,MAX(1,ROUND(VLOOKUP(DZ$3,費率表彙總!$L$4:$O$34,2,FALSE)*$B7*$A$2,0))+MAX(1,ROUND(INDEX(海突甲門診_總保費!$B$4:$GS$183,$A7,DZ$56)*$A$2,0)+MAX(1,ROUND(INDEX(海突甲急診_總保費!$B$4:$GS$183,$A7,DZ$56)*$A$2,0),0))) -> FALSE | EA7: =IF(EA$3<>0,MAX(1,ROUND(VLOOKUP(EA$3,費率表彙總!$L$4:$R$34,5,FALSE)*$B7*$A$2,0))+MAX(1,ROUND(INDEX(海突乙門診_總保費!$B$4:$GS$183,$A7,EA$56)*$A$2,0)+MAX(1,ROUND(INDEX(海突乙急診_總保費!$B$4:$GS$183,$A7,EA$56)*$A$2,0),0))) -> FALSE | EB7: =ROUND(VLOOKUP(EB$3,費率表彙總!$S$4:$T$34,2,FALSE)*$B7*$A$2,0) -> 0 | EC7: =IF(ISNA(EC$3),0,ROUND(INDEX(旅遊不便費率!$B$5:$CA$184,$A7,EC$3)*$A$3,0)) -> 32 | ED7: =IF(ISNA(ED$3),0,ROUND(INDEX(旅遊不便費率!$B$5:$CA$184,$A7,ED$3)*$A$3,0)) -> 162 | EE7: =IF(ISNA(EE$3),0,ROUND(INDEX(旅遊不便費率!$B$5:$CA$184,$A7,EE$3)*$A$3,0)) -> 7 | EF7: =IF(ISNA(EF$3),0,ROUND(INDEX(旅遊不便費率!$B$5:$CA$184,$A7,EF$3)*$A$3,0)) -> 22 | EG7: =SUM(DS7:EF7) -> 503 | EH7: =IF(ISNA(EH$56),0,ROUND(INDEX(INDIRECT(EH$55),$A7,EH$56)*$A$2,0)) -> 337 | EK7: =ROUND(VLOOKUP(EK$3,費率表彙總!$F$4:$G$404,2,FALSE)*$B7*$A$2,0) -> 0 | EL7: =ROUND(VLOOKUP(EL$3,費率表彙總!$H$4:$I$804,2,FALSE)*$B7*$A$2,0) -> 0 | EM7: =IF(ISNA(EM$56),0,ROUND(INDEX(實支實付_總保費!$B$4:$AE$183,$A7,EM$56)*$A$2,0)) -> 10 | EN7: =IF(ISNA(EN$56),0,ROUND(INDEX(重大燒燙傷_總保費!$B$4:$AE$183,$A7,EN$56)*$A$2,0)) -> 1 | EO7: =IF(EO$3<>0,MAX(1,ROUND(VLOOKUP(EO$3,費率表彙總!$L$4:$O$34,2,FALSE)*$B7*$A$2,0))+MAX(1,ROUND(INDEX(海突甲門診_總保費!$B$4:$GS$183,$A7,EO$56)*$A$2,0)+MAX(1,ROUND(INDEX(海突甲急診_總保費!$B$4:$GS$183,$A7,EO$56)*$A$2,0),0))) -> FALSE | EP7: =IF(EP$3<>0,MAX(1,ROUND(VLOOKUP(EP$3,費率表彙總!$L$4:$R$34,5,FALSE)*$B7*$A$2,0))+MAX(1,ROUND(INDEX(海突乙門診_總保費!$B$4:$GS$183,$A7,EP$56)*$A$2,0)+MAX(1,ROUND(INDEX(海突乙急診_總保費!$B$4:$GS$183,$A7,EP$56)*$A$2,0),0))) -> FALSE | EQ7: =ROUND(VLOOKUP(EQ$3,費率表彙總!$S$4:$T$34,2,FALSE)*$B7*$A$2,0) -> 0 | ER7: =IF(ISNA(ER$3),0,ROUND(INDEX(旅遊不便費率!$B$5:$CA$184,$A7,ER$3)*$A$3,0)) -> 32 | ES7: =IF(ISNA(ES$3),0,ROUND(INDEX(旅遊不便費率!$B$5:$CA$184,$A7,ES$3)*$A$3,0)) -> 162 | ET7: =IF(ISNA(ET$3),0,ROUND(INDEX(旅遊不便費率!$B$5:$CA$184,$A7,ET$3)*$A$3,0)) -> 7 | EU7: =IF(ISNA(EU$3),0,ROUND(INDEX(旅遊不便費率!$B$5:$CA$184,$A7,EU$3)*$A$3,0)) -> 22 | EV7: =SUM(EH7:EU7) -> 571 | EW7: =IF(ISNA(EW$56),0,ROUND(INDEX(INDIRECT(EW$55),$A7,EW$56)*$A$2,0)) -> 236 | EZ7: =ROUND(VLOOKUP(EZ$3,費率表彙總!$F$4:$G$404,2,FALSE)*$B7*$A$2,0) -> 0 | FA7: =ROUND(VLOOKUP(FA$3,費率表彙總!$H$4:$I$804,2,FALSE)*$B7*$A$2,0) -> 0 | FB7: =IF(ISNA(FB$56),0,ROUND(INDEX(實支實付_總保費!$B$4:$AE$183,$A7,FB$56)*$A$2,0)) -> 160 | FC7: =IF(ISNA(FC$56),0,ROUND(INDEX(重大燒燙傷_總保費!$B$4:$AE$183,$A7,FC$56)*$A$2,0)) -> 10 | FD7: =IF(FD$3<>0,MAX(1,ROUND(VLOOKUP(FD$3,費率表彙總!$L$4:$O$34,2,FALSE)*$B7*$A$2,0))+MAX(1,ROUND(INDEX(海突甲門診_總保費!$B$4:$GS$183,$A7,FD$56)*$A$2,0)+MAX(1,ROUND(INDEX(海突甲急診_總保費!$B$4:$GS$183,$A7,FD$56)*$A$2,0),0))) -> FALSE | FE7: =IF(FE$3<>0,MAX(1,ROUND(VLOOKUP(FE$3,費率表彙總!$L$4:$R$34,5,FALSE)*$B7*$A$2,0))+MAX(1,ROUND(INDEX(海突乙門診_總保費!$B$4:$GS$183,$A7,FE$56)*$A$2,0)+MAX(1,ROUND(INDEX(海突乙急診_總保費!$B$4:$GS$183,$A7,FE$56)*$A$2,0),0))) -> 336 | FF7: =ROUND(VLOOKUP(FF$3,費率表彙總!$S$4:$T$34,2,FALSE)*$B7*$A$2,0) -> 0 | FG7: =IF(ISNA(FG$3),0,ROUND(INDEX(旅遊不便費率!$B$5:$CA$184,$A7,FG$3)*$A$3,0)) -> 32 | FH7: =IF(ISNA(FH$3),0,ROUND(INDEX(旅遊不便費率!$B$5:$CA$184,$A7,FH$3)*$A$3,0)) -> 253 | FI7: =IF(ISNA(FI$3),0,ROUND(INDEX(旅遊不便費率!$B$5:$CA$184,$A7,FI$3)*$A$3,0)) -> 14 | FJ7: =IF(ISNA(FJ$3),0,ROUND(INDEX(旅遊不便費率!$B$5:$CA$184,$A7,FJ$3)*$A$3,0)) -> 40 | FK7: =SUM(EW7:FJ7) -> 1081 | FL7: =IF(ISNA(FL$56),0,ROUND(INDEX(INDIRECT(FL$55),$A7,FL$56)*$A$2,0)) -> 102 | FO7: =ROUND(VLOOKUP(FO$3,費率表彙總!$F$4:$G$404,2,FALSE)*$B7*$A$2,0) -> 0 | FP7: =ROUND(VLOOKUP(FP$3,費率表彙總!$H$4:$I$804,2,FALSE)*$B7*$A$2,0) -> 0 | FQ7: =IF(ISNA(FQ$56),0,ROUND(INDEX(實支實付_總保費!$B$4:$AE$183,$A7,FQ$56)*$A$2,0)) -> 32 | FR7: =IF(ISNA(FR$56),0,ROUND(INDEX(重大燒燙傷_總保費!$B$4:$AE$183,$A7,FR$56)*$A$2,0)) -> 2 | FS7: =IF(FS$3<>0,MAX(1,ROUND(VLOOKUP(FS$3,費率表彙總!$L$4:$O$34,2,FALSE)*$B7*$A$2,0))+MAX(1,ROUND(INDEX(海突甲門診_總保費!$B$4:$GS$183,$A7,FS$56)*$A$2,0)+MAX(1,ROUND(INDEX(海突甲急診_總保費!$B$4:$GS$183,$A7,FS$56)*$A$2,0),0))) -> FALSE | FT7: =IF(FT$3<>0,MAX(1,ROUND(VLOOKUP(FT$3,費率表彙總!$L$4:$R$34,5,FALSE)*$B7*$A$2,0))+MAX(1,ROUND(INDEX(海突乙門診_總保費!$B$4:$GS$183,$A7,FT$56)*$A$2,0)+MAX(1,ROUND(INDEX(海突乙急診_總保費!$B$4:$GS$183,$A7,FT$56)*$A$2,0),0))) -> 176 | FU7: =ROUND(VLOOKUP(FU$3,費率表彙總!$S$4:$T$34,2,FALSE)*$B7*$A$2,0) -> 0 | FV7: =IF(ISNA(FV$3),0,ROUND(INDEX(旅遊不便費率!$B$5:$CA$184,$A7,FV$3)*$A$3,0)) -> 32 | FW7: =IF(ISNA(FW$3),0,ROUND(INDEX(旅遊不便費率!$B$5:$CA$184,$A7,FW$3)*$A$3,0)) -> 253 | FX7: =IF(ISNA(FX$3),0,ROUND(INDEX(旅遊不便費率!$B$5:$CA$184,$A7,FX$3)*$A$3,0)) -> 14 | FY7: =IF(ISNA(FY$3),0,ROUND(INDEX(旅遊不便費率!$B$5:$CA$184,$A7,FY$3)*$A$3,0)) -> 40 | FZ7: =SUM(FL7:FY7) -> 651 | GA7: =IF(ISNA(GA$56),0,ROUND(INDEX(INDIRECT(GA$55),$A7,GA$56)*$A$2,0)) -> 168 | GD7: =ROUND(VLOOKUP(GD$3,費率表彙總!$F$4:$G$404,2,FALSE)*$B7*$A$2,0) -> 0 | GE7: =ROUND(VLOOKUP(GE$3,費率表彙總!$H$4:$I$804,2,FALSE)*$B7*$A$2,0) -> 0 | GF7: =IF(ISNA(GF$56),0,ROUND(INDEX(實支實付_總保費!$B$4:$AE$183,$A7,GF$56)*$A$2,0)) -> 53 | GG7: =IF(ISNA(GG$56),0,ROUND(INDEX(重大燒燙傷_總保費!$B$4:$AE$183,$A7,GG$56)*$A$2,0)) -> 3 | GH7: =IF(GH$3<>0,MAX(1,ROUND(VLOOKUP(GH$3,費率表彙總!$L$4:$O$34,2,FALSE)*$B7*$A$2,0))+MAX(1,ROUND(INDEX(海突甲門診_總保費!$B$4:$GS$183,$A7,GH$56)*$A$2,0)+MAX(1,ROUND(INDEX(海突甲急診_總保費!$B$4:$GS$183,$A7,GH$56)*$A$2,0),0))) -> FALSE | GI7: =IF(GI$3<>0,MAX(1,ROUND(VLOOKUP(GI$3,費率表彙總!$L$4:$R$34,5,FALSE)*$B7*$A$2,0))+MAX(1,ROUND(INDEX(海突乙門診_總保費!$B$4:$GS$183,$A7,GI$56)*$A$2,0)+MAX(1,ROUND(INDEX(海突乙急診_總保費!$B$4:$GS$183,$A7,GI$56)*$A$2,0),0))) -> 279 | GJ7: =ROUND(VLOOKUP(GJ$3,費率表彙總!$S$4:$T$34,2,FALSE)*$B7*$A$2,0) -> 0 | GK7: =IF(ISNA(GK$3),0,ROUND(INDEX(旅遊不便費率!$B$5:$CA$184,$A7,GK$3)*$A$3,0)) -> 32 | GL7: =IF(ISNA(GL$3),0,ROUND(INDEX(旅遊不便費率!$B$5:$CA$184,$A7,GL$3)*$A$3,0)) -> 253 | GM7: =IF(ISNA(GM$3),0,ROUND(INDEX(旅遊不便費率!$B$5:$CA$184,$A7,GM$3)*$A$3,0)) -> 14 | GN7: =IF(ISNA(GN$3),0,ROUND(INDEX(旅遊不便費率!$B$5:$CA$184,$A7,GN$3)*$A$3,0)) -> 40 | GO7: =SUM(GA7:GN7) -> 842 | GP7: =IF(ISNA(GP$56),0,ROUND(INDEX(INDIRECT(GP$55),$A7,GP$56)*$A$2,0)) -> 168 | GS7: =ROUND(VLOOKUP(GS$3,費率表彙總!$F$4:$G$404,2,FALSE)*$B7*$A$2,0) -> 0 | GT7: =ROUND(VLOOKUP(GT$3,費率表彙總!$H$4:$I$804,2,FALSE)*$B7*$A$2,0) -> 0 | GU7: =IF(ISNA(GU$56),0,ROUND(INDEX(實支實付_總保費!$B$4:$AE$183,$A7,GU$56)*$A$2,0)) -> 107 | GV7: =IF(ISNA(GV$56),0,ROUND(INDEX(重大燒燙傷_總保費!$B$4:$AE$183,$A7,GV$56)*$A$2,0)) -> 6 | GW7: =IF(GW$3<>0,MAX(1,ROUND(VLOOKUP(GW$3,費率表彙總!$L$4:$O$34,2,FALSE)*$B7*$A$2,0))+MAX(1,ROUND(INDEX(海突甲門診_總保費!$B$4:$GS$183,$A7,GW$56)*$A$2,0)+MAX(1,ROUND(INDEX(海突甲急診_總保費!$B$4:$GS$183,$A7,GW$56)*$A$2,0),0))) -> FALSE | GX7: =IF(GX$3<>0,MAX(1,ROUND(VLOOKUP(GX$3,費率表彙總!$L$4:$R$34,5,FALSE)*$B7*$A$2,0))+MAX(1,ROUND(INDEX(海突乙門診_總保費!$B$4:$GS$183,$A7,GX$56)*$A$2,0)+MAX(1,ROUND(INDEX(海突乙急診_總保費!$B$4:$GS$183,$A7,GX$56)*$A$2,0),0))) -> 176 | GY7: =ROUND(VLOOKUP(GY$3,費率表彙總!$S$4:$T$34,2,FALSE)*$B7*$A$2,0) -> 0 | GZ7: =IF(ISNA(GZ$3),0,ROUND(INDEX(旅遊不便費率!$B$5:$CA$184,$A7,GZ$3)*$A$3,0)) -> 32 | HA7: =IF(ISNA(HA$3),0,ROUND(INDEX(旅遊不便費率!$B$5:$CA$184,$A7,HA$3)*$A$3,0)) -> 253 | HB7: =IF(ISNA(HB$3),0,ROUND(INDEX(旅遊不便費率!$B$5:$CA$184,$A7,HB$3)*$A$3,0)) -> 14 | HC7: =IF(ISNA(HC$3),0,ROUND(INDEX(旅遊不便費率!$B$5:$CA$184,$A7,HC$3)*$A$3,0)) -> 40 | HD7: =SUM(GP7:HC7) -> 796 | HE7: =IF(ISNA(HE$56),0,ROUND(INDEX(INDIRECT(HE$55),$A7,HE$56)*$A$2,0)) -> 168 | HH7: =ROUND(VLOOKUP(HH$3,費率表彙總!$F$4:$G$404,2,FALSE)*$B7*$A$2,0) -> 0 | HI7: =ROUND(VLOOKUP(HI$3,費率表彙總!$H$4:$I$804,2,FALSE)*$B7*$A$2,0) -> 0 | HJ7: =IF(ISNA(HJ$56),0,ROUND(INDEX(實支實付_總保費!$B$4:$AE$183,$A7,HJ$56)*$A$2,0)) -> 107 | HK7: =IF(ISNA(HK$56),0,ROUND(INDEX(重大燒燙傷_總保費!$B$4:$AE$183,$A7,HK$56)*$A$2,0)) -> 6 | HL7: =IF(HL$3<>0,MAX(1,ROUND(VLOOKUP(HL$3,費率表彙總!$L$4:$O$34,2,FALSE)*$B7*$A$2,0))+MAX(1,ROUND(INDEX(海突甲門診_總保費!$B$4:$GS$183,$A7,HL$56)*$A$2,0)+MAX(1,ROUND(INDEX(海突甲急診_總保費!$B$4:$GS$183,$A7,HL$56)*$A$2,0),0))) -> FALSE | HM7: =IF(HM$3<>0,MAX(1,ROUND(VLOOKUP(HM$3,費率表彙總!$L$4:$R$34,5,FALSE)*$B7*$A$2,0))+MAX(1,ROUND(INDEX(海突乙門診_總保費!$B$4:$GS$183,$A7,HM$56)*$A$2,0)+MAX(1,ROUND(INDEX(海突乙急診_總保費!$B$4:$GS$183,$A7,HM$56)*$A$2,0),0))) -> 176 | HN7: =ROUND(VLOOKUP(HN$3,費率表彙總!$S$4:$T$34,2,FALSE)*$B7*$A$2,0) -> 0 | HO7: =IF(ISNA(HO$3),0,ROUND(INDEX(旅遊不便費率!$B$5:$CA$184,$A7,HO$3)*$A$3,0)) -> 32 | HP7: =IF(ISNA(HP$3),0,ROUND(INDEX(旅遊不便費率!$B$5:$CA$184,$A7,HP$3)*$A$3,0)) -> 253 | HQ7: =IF(ISNA(HQ$3),0,ROUND(INDEX(旅遊不便費率!$B$5:$CA$184,$A7,HQ$3)*$A$3,0)) -> 14 | HR7: =IF(ISNA(HR$3),0,ROUND(INDEX(旅遊不便費率!$B$5:$CA$184,$A7,HR$3)*$A$3,0)) -> 40 | HS7: =SUM(HE7:HR7) -> 796
A8: 4 | B8: =VLOOKUP(A8,費率表彙總!$A$4:$B$183,2,FALSE) -> 0.132 | C8: =IF(ISNA(C$56),0,ROUND(INDEX(INDIRECT(C$55),$A8,C$56)*$A$2,0)) -> 132 | F8: =ROUND(VLOOKUP(F$3,費率表彙總!$F$4:$G$404,2,FALSE)*$B8*$A$2,0) -> 0 | G8: =ROUND(VLOOKUP(G$3,費率表彙總!$H$4:$I$804,2,FALSE)*$B8*$A$2,0) -> 0 | H8: =IF(ISNA(H$56),0,ROUND(INDEX(實支實付_總保費!$B$4:$AE$183,$A8,H$56)*$A$2,0)) -> 0 | I8: =IF(ISNA(I$56),0,ROUND(INDEX(重大燒燙傷_總保費!$B$4:$AE$183,$A8,I$56)*$A$2,0)) -> 0 | J8: =IF(J$3<>0,MAX(1,ROUND(VLOOKUP(J$3,費率表彙總!$L$4:$O$34,2,FALSE)*$B8*$A$2,0))+MAX(1,ROUND(INDEX(海突甲門診_總保費!$B$4:$GS$183,$A8,J$56)*$A$2,0)+MAX(1,ROUND(INDEX(海突甲急診_總保費!$B$4:$GS$183,$A8,J$56)*$A$2,0),0))) -> FALSE | K8: =IF(K$3<>0,MAX(1,ROUND(VLOOKUP(K$3,費率表彙總!$L$4:$R$34,5,FALSE)*$B8*$A$2,0))+MAX(1,ROUND(INDEX(海突乙門診_總保費!$B$4:$GS$183,$A8,K$56)*$A$2,0)+MAX(1,ROUND(INDEX(海突乙急診_總保費!$B$4:$GS$183,$A8,K$56)*$A$2,0),0))) -> 120 | L8: =ROUND(VLOOKUP(L$3,費率表彙總!$S$4:$T$34,2,FALSE)*$B8*$A$2,0) -> 0 | M8: =IF(ISNA(M$3),0,ROUND(INDEX(旅遊不便費率!$B$5:$CA$184,$A8,M$3)*$A$3,0)) -> 0 | N8: =IF(ISNA(N$3),0,ROUND(INDEX(旅遊不便費率!$B$5:$CA$184,$A8,N$3)*$A$3,0)) -> 0 | O8: =IF(ISNA(O$3),0,ROUND(INDEX(旅遊不便費率!$B$5:$CA$184,$A8,O$3)*$A$3,0)) -> 0 | P8: =IF(ISNA(P$3),0,ROUND(INDEX(旅遊不便費率!$B$5:$CA$184,$A8,P$3)*$A$3,0)) -> 0 | Q8: =SUM(C8:P8) -> 252 | R8: =IF(ISNA(R$56),0,ROUND(INDEX(INDIRECT(R$55),$A8,R$56)*$A$2,0)) -> 132 | U8: =ROUND(VLOOKUP(U$3,費率表彙總!$F$4:$G$404,2,FALSE)*$B8*$A$2,0) -> 0 | V8: =ROUND(VLOOKUP(V$3,費率表彙總!$H$4:$I$804,2,FALSE)*$B8*$A$2,0) -> 0 | W8: =IF(ISNA(W$56),0,ROUND(INDEX(實支實付_總保費!$B$4:$AE$183,$A8,W$56)*$A$2,0)) -> 0 | X8: =IF(ISNA(X$56),0,ROUND(INDEX(重大燒燙傷_總保費!$B$4:$AE$183,$A8,X$56)*$A$2,0)) -> 0 | Y8: =IF(Y$3<>0,MAX(1,ROUND(VLOOKUP(Y$3,費率表彙總!$L$4:$O$34,2,FALSE)*$B8*$A$2,0))+MAX(1,ROUND(INDEX(海突甲門診_總保費!$B$4:$GS$183,$A8,Y$56)*$A$2,0)+MAX(1,ROUND(INDEX(海突甲急診_總保費!$B$4:$GS$183,$A8,Y$56)*$A$2,0),0))) -> FALSE | Z8: =IF(Z$3<>0,MAX(1,ROUND(VLOOKUP(Z$3,費率表彙總!$L$4:$R$34,5,FALSE)*$B8*$A$2,0))+MAX(1,ROUND(INDEX(海突乙門診_總保費!$B$4:$GS$183,$A8,Z$56)*$A$2,0)+MAX(1,ROUND(INDEX(海突乙急診_總保費!$B$4:$GS$183,$A8,Z$56)*$A$2,0),0))) -> 120 | AA8: =ROUND(VLOOKUP(AA$3,費率表彙總!$S$4:$T$34,2,FALSE)*$B8*$A$2,0) -> 0 | AB8: =IF(ISNA(AB$3),0,ROUND(INDEX(旅遊不便費率!$B$5:$CA$184,$A8,AB$3)*$A$3,0)) -> 0 | AC8: =IF(ISNA(AC$3),0,ROUND(INDEX(旅遊不便費率!$B$5:$CA$184,$A8,AC$3)*$A$3,0)) -> 0 | AD8: =IF(ISNA(AD$3),0,ROUND(INDEX(旅遊不便費率!$B$5:$CA$184,$A8,AD$3)*$A$3,0)) -> 0 | AE8: =IF(ISNA(AE$3),0,ROUND(INDEX(旅遊不便費率!$B$5:$CA$184,$A8,AE$3)*$A$3,0)) -> 0 | AF8: =SUM(R8:AE8) -> 252 | AG8: =IF(ISNA(AG$56),0,ROUND(INDEX(INDIRECT(AG$55),$A8,AG$56)*$A$2,0)) -> 219 | AJ8: =ROUND(VLOOKUP(AJ$3,費率表彙總!$F$4:$G$404,2,FALSE)*$B8*$A$2,0) -> 0 | AK8: =ROUND(VLOOKUP(AK$3,費率表彙總!$H$4:$I$804,2,FALSE)*$B8*$A$2,0) -> 0 | AL8: =IF(ISNA(AL$56),0,ROUND(INDEX(實支實付_總保費!$B$4:$AE$183,$A8,AL$56)*$A$2,0)) -> 0 | AM8: =IF(ISNA(AM$56),0,ROUND(INDEX(重大燒燙傷_總保費!$B$4:$AE$183,$A8,AM$56)*$A$2,0)) -> 0 | AN8: =IF(AN$3<>0,MAX(1,ROUND(VLOOKUP(AN$3,費率表彙總!$L$4:$O$34,2,FALSE)*$B8*$A$2,0))+MAX(1,ROUND(INDEX(海突甲門診_總保費!$B$4:$GS$183,$A8,AN$56)*$A$2,0)+MAX(1,ROUND(INDEX(海突甲急診_總保費!$B$4:$GS$183,$A8,AN$56)*$A$2,0),0))) -> FALSE | AO8: =IF(AO$3<>0,MAX(1,ROUND(VLOOKUP(AO$3,費率表彙總!$L$4:$R$34,5,FALSE)*$B8*$A$2,0))+MAX(1,ROUND(INDEX(海突乙門診_總保費!$B$4:$GS$183,$A8,AO$56)*$A$2,0)+MAX(1,ROUND(INDEX(海突乙急診_總保費!$B$4:$GS$183,$A8,AO$56)*$A$2,0),0))) -> 195 | AP8: =ROUND(VLOOKUP(AP$3,費率表彙總!$S$4:$T$34,2,FALSE)*$B8*$A$2,0) -> 0 | AQ8: =IF(ISNA(AQ$3),0,ROUND(INDEX(旅遊不便費率!$B$5:$CA$184,$A8,AQ$3)*$A$3,0)) -> 0 | AR8: =IF(ISNA(AR$3),0,ROUND(INDEX(旅遊不便費率!$B$5:$CA$184,$A8,AR$3)*$A$3,0)) -> 0 | AS8: =IF(ISNA(AS$3),0,ROUND(INDEX(旅遊不便費率!$B$5:$CA$184,$A8,AS$3)*$A$3,0)) -> 0 | AT8: =IF(ISNA(AT$3),0,ROUND(INDEX(旅遊不便費率!$B$5:$CA$184,$A8,AT$3)*$A$3,0)) -> 0 | AU8: =SUM(AG8:AT8) -> 414 | AV8: =IF(ISNA(AV$56),0,ROUND(INDEX(INDIRECT(AV$55),$A8,AV$56)*$A$2,0)) -> 349 | AY8: =ROUND(VLOOKUP(AY$3,費率表彙總!$F$4:$G$404,2,FALSE)*$B8*$A$2,0) -> 0 | AZ8: =ROUND(VLOOKUP(AZ$3,費率表彙總!$H$4:$I$804,2,FALSE)*$B8*$A$2,0) -> 0 | BA8: =IF(ISNA(BA$56),0,ROUND(INDEX(實支實付_總保費!$B$4:$AE$183,$A8,BA$56)*$A$2,0)) -> 0 | BB8: =IF(ISNA(BB$56),0,ROUND(INDEX(重大燒燙傷_總保費!$B$4:$AE$183,$A8,BB$56)*$A$2,0)) -> 0 | BC8: =IF(BC$3<>0,MAX(1,ROUND(VLOOKUP(BC$3,費率表彙總!$L$4:$O$34,2,FALSE)*$B8*$A$2,0))+MAX(1,ROUND(INDEX(海突甲門診_總保費!$B$4:$GS$183,$A8,BC$56)*$A$2,0)+MAX(1,ROUND(INDEX(海突甲急診_總保費!$B$4:$GS$183,$A8,BC$56)*$A$2,0),0))) -> FALSE | BD8: =IF(BD$3<>0,MAX(1,ROUND(VLOOKUP(BD$3,費率表彙總!$L$4:$R$34,5,FALSE)*$B8*$A$2,0))+MAX(1,ROUND(INDEX(海突乙門診_總保費!$B$4:$GS$183,$A8,BD$56)*$A$2,0)+MAX(1,ROUND(INDEX(海突乙急診_總保費!$B$4:$GS$183,$A8,BD$56)*$A$2,0),0))) -> 300 | BE8: =ROUND(VLOOKUP(BE$3,費率表彙總!$S$4:$T$34,2,FALSE)*$B8*$A$2,0) -> 0 | BF8: =IF(ISNA(BF$3),0,ROUND(INDEX(旅遊不便費率!$B$5:$CA$184,$A8,BF$3)*$A$3,0)) -> 0 | BG8: =IF(ISNA(BG$3),0,ROUND(INDEX(旅遊不便費率!$B$5:$CA$184,$A8,BG$3)*$A$3,0)) -> 0 | BH8: =IF(ISNA(BH$3),0,ROUND(INDEX(旅遊不便費率!$B$5:$CA$184,$A8,BH$3)*$A$3,0)) -> 0 | BI8: =IF(ISNA(BI$3),0,ROUND(INDEX(旅遊不便費率!$B$5:$CA$184,$A8,BI$3)*$A$3,0)) -> 0 | BJ8: =SUM(AV8:BI8) -> 649 | BK8: =IF(ISNA(BK$56),0,ROUND(INDEX(INDIRECT(BK$55),$A8,BK$56)*$A$2,0)) -> 438 | BN8: =ROUND(VLOOKUP(BN$3,費率表彙總!$F$4:$G$404,2,FALSE)*$B8*$A$2,0) -> 0 | BO8: =ROUND(VLOOKUP(BO$3,費率表彙總!$H$4:$I$804,2,FALSE)*$B8*$A$2,0) -> 0 | BP8: =IF(ISNA(BP$56),0,ROUND(INDEX(實支實付_總保費!$B$4:$AE$183,$A8,BP$56)*$A$2,0)) -> 0 | BQ8: =IF(ISNA(BQ$56),0,ROUND(INDEX(重大燒燙傷_總保費!$B$4:$AE$183,$A8,BQ$56)*$A$2,0)) -> 0 | BR8: =IF(BR$3<>0,MAX(1,ROUND(VLOOKUP(BR$3,費率表彙總!$L$4:$O$34,2,FALSE)*$B8*$A$2,0))+MAX(1,ROUND(INDEX(海突甲門診_總保費!$B$4:$GS$183,$A8,BR$56)*$A$2,0)+MAX(1,ROUND(INDEX(海突甲急診_總保費!$B$4:$GS$183,$A8,BR$56)*$A$2,0),0))) -> FALSE | BS8: =IF(BS$3<>0,MAX(1,ROUND(VLOOKUP(BS$3,費率表彙總!$L$4:$R$34,5,FALSE)*$B8*$A$2,0))+MAX(1,ROUND(INDEX(海突乙門診_總保費!$B$4:$GS$183,$A8,BS$56)*$A$2,0)+MAX(1,ROUND(INDEX(海突乙急診_總保費!$B$4:$GS$183,$A8,BS$56)*$A$2,0),0))) -> 366 | BT8: =ROUND(VLOOKUP(BT$3,費率表彙總!$S$4:$T$34,2,FALSE)*$B8*$A$2,0) -> 0 | BU8: =IF(ISNA(BU$3),0,ROUND(INDEX(旅遊不便費率!$B$5:$CA$184,$A8,BU$3)*$A$3,0)) -> 0 | BV8: =IF(ISNA(BV$3),0,ROUND(INDEX(旅遊不便費率!$B$5:$CA$184,$A8,BV$3)*$A$3,0)) -> 0 | BW8: =IF(ISNA(BW$3),0,ROUND(INDEX(旅遊不便費率!$B$5:$CA$184,$A8,BW$3)*$A$3,0)) -> 0 | BX8: =IF(ISNA(BX$3),0,ROUND(INDEX(旅遊不便費率!$B$5:$CA$184,$A8,BX$3)*$A$3,0)) -> 0 | BY8: =SUM(BK8:BX8) -> 804 | BZ8: =IF(ISNA(BZ$56),0,ROUND(INDEX(INDIRECT(BZ$55),$A8,BZ$56)*$A$2,0)) -> 88 | CC8: =ROUND(VLOOKUP(CC$3,費率表彙總!$F$4:$G$404,2,FALSE)*$B8*$A$2,0) -> 0 | CD8: =ROUND(VLOOKUP(CD$3,費率表彙總!$H$4:$I$804,2,FALSE)*$B8*$A$2,0) -> 0 | CE8: =IF(ISNA(CE$56),0,ROUND(INDEX(實支實付_總保費!$B$4:$AE$183,$A8,CE$56)*$A$2,0)) -> 14 | CF8: =IF(ISNA(CF$56),0,ROUND(INDEX(重大燒燙傷_總保費!$B$4:$AE$183,$A8,CF$56)*$A$2,0)) -> 1 | CG8: =IF(CG$3<>0,MAX(1,ROUND(VLOOKUP(CG$3,費率表彙總!$L$4:$O$34,2,FALSE)*$B8*$A$2,0))+MAX(1,ROUND(INDEX(海突甲門診_總保費!$B$4:$GS$183,$A8,CG$56)*$A$2,0)+MAX(1,ROUND(INDEX(海突甲急診_總保費!$B$4:$GS$183,$A8,CG$56)*$A$2,0),0))) -> FALSE | CH8: =IF(CH$3<>0,MAX(1,ROUND(VLOOKUP(CH$3,費率表彙總!$L$4:$R$34,5,FALSE)*$B8*$A$2,0))+MAX(1,ROUND(INDEX(海突乙門診_總保費!$B$4:$GS$183,$A8,CH$56)*$A$2,0)+MAX(1,ROUND(INDEX(海突乙急診_總保費!$B$4:$GS$183,$A8,CH$56)*$A$2,0),0))) -> FALSE | CI8: =ROUND(VLOOKUP(CI$3,費率表彙總!$S$4:$T$34,2,FALSE)*$B8*$A$2,0) -> 0 | CJ8: =IF(ISNA(CJ$3),0,ROUND(INDEX(旅遊不便費率!$B$5:$CA$184,$A8,CJ$3)*$A$3,0)) -> 42 | CK8: =IF(ISNA(CK$3),0,ROUND(INDEX(旅遊不便費率!$B$5:$CA$184,$A8,CK$3)*$A$3,0)) -> 212 | CL8: =IF(ISNA(CL$3),0,ROUND(INDEX(旅遊不便費率!$B$5:$CA$184,$A8,CL$3)*$A$3,0)) -> 8 | CM8: =IF(ISNA(CM$3),0,ROUND(INDEX(旅遊不便費率!$B$5:$CA$184,$A8,CM$3)*$A$3,0)) -> 28 | CN8: =SUM(BZ8:CM8) -> 393 | CO8: =IF(ISNA(CO$56),0,ROUND(INDEX(INDIRECT(CO$55),$A8,CO$56)*$A$2,0)) -> 132 | CR8: =ROUND(VLOOKUP(CR$3,費率表彙總!$F$4:$G$404,2,FALSE)*$B8*$A$2,0) -> 0 | CS8: =ROUND(VLOOKUP(CS$3,費率表彙總!$H$4:$I$804,2,FALSE)*$B8*$A$2,0) -> 0 | CT8: =IF(ISNA(CT$56),0,ROUND(INDEX(實支實付_總保費!$B$4:$AE$183,$A8,CT$56)*$A$2,0)) -> 14 | CU8: =IF(ISNA(CU$56),0,ROUND(INDEX(重大燒燙傷_總保費!$B$4:$AE$183,$A8,CU$56)*$A$2,0)) -> 1 | CV8: =IF(CV$3<>0,MAX(1,ROUND(VLOOKUP(CV$3,費率表彙總!$L$4:$O$34,2,FALSE)*$B8*$A$2,0))+MAX(1,ROUND(INDEX(海突甲門診_總保費!$B$4:$GS$183,$A8,CV$56)*$A$2,0)+MAX(1,ROUND(INDEX(海突甲急診_總保費!$B$4:$GS$183,$A8,CV$56)*$A$2,0),0))) -> FALSE | CW8: =IF(CW$3<>0,MAX(1,ROUND(VLOOKUP(CW$3,費率表彙總!$L$4:$R$34,5,FALSE)*$B8*$A$2,0))+MAX(1,ROUND(INDEX(海突乙門診_總保費!$B$4:$GS$183,$A8,CW$56)*$A$2,0)+MAX(1,ROUND(INDEX(海突乙急診_總保費!$B$4:$GS$183,$A8,CW$56)*$A$2,0),0))) -> FALSE | CX8: =ROUND(VLOOKUP(CX$3,費率表彙總!$S$4:$T$34,2,FALSE)*$B8*$A$2,0) -> 0 | CY8: =IF(ISNA(CY$3),0,ROUND(INDEX(旅遊不便費率!$B$5:$CA$184,$A8,CY$3)*$A$3,0)) -> 42 | CZ8: =IF(ISNA(CZ$3),0,ROUND(INDEX(旅遊不便費率!$B$5:$CA$184,$A8,CZ$3)*$A$3,0)) -> 212 | DA8: =IF(ISNA(DA$3),0,ROUND(INDEX(旅遊不便費率!$B$5:$CA$184,$A8,DA$3)*$A$3,0)) -> 8 | DB8: =IF(ISNA(DB$3),0,ROUND(INDEX(旅遊不便費率!$B$5:$CA$184,$A8,DB$3)*$A$3,0)) -> 28 | DC8: =SUM(CO8:DB8) -> 437 | DD8: =IF(ISNA(DD$56),0,ROUND(INDEX(INDIRECT(DD$55),$A8,DD$56)*$A$2,0)) -> 219 | DG8: =ROUND(VLOOKUP(DG$3,費率表彙總!$F$4:$G$404,2,FALSE)*$B8*$A$2,0) -> 0 | DH8: =ROUND(VLOOKUP(DH$3,費率表彙總!$H$4:$I$804,2,FALSE)*$B8*$A$2,0) -> 0 | DI8: =IF(ISNA(DI$56),0,ROUND(INDEX(實支實付_總保費!$B$4:$AE$183,$A8,DI$56)*$A$2,0)) -> 14 | DJ8: =IF(ISNA(DJ$56),0,ROUND(INDEX(重大燒燙傷_總保費!$B$4:$AE$183,$A8,DJ$56)*$A$2,0)) -> 1 | DK8: =IF(DK$3<>0,MAX(1,ROUND(VLOOKUP(DK$3,費率表彙總!$L$4:$O$34,2,FALSE)*$B8*$A$2,0))+MAX(1,ROUND(INDEX(海突甲門診_總保費!$B$4:$GS$183,$A8,DK$56)*$A$2,0)+MAX(1,ROUND(INDEX(海突甲急診_總保費!$B$4:$GS$183,$A8,DK$56)*$A$2,0),0))) -> FALSE | DL8: =IF(DL$3<>0,MAX(1,ROUND(VLOOKUP(DL$3,費率表彙總!$L$4:$R$34,5,FALSE)*$B8*$A$2,0))+MAX(1,ROUND(INDEX(海突乙門診_總保費!$B$4:$GS$183,$A8,DL$56)*$A$2,0)+MAX(1,ROUND(INDEX(海突乙急診_總保費!$B$4:$GS$183,$A8,DL$56)*$A$2,0),0))) -> FALSE | DM8: =ROUND(VLOOKUP(DM$3,費率表彙總!$S$4:$T$34,2,FALSE)*$B8*$A$2,0) -> 0 | DN8: =IF(ISNA(DN$3),0,ROUND(INDEX(旅遊不便費率!$B$5:$CA$184,$A8,DN$3)*$A$3,0)) -> 42 | DO8: =IF(ISNA(DO$3),0,ROUND(INDEX(旅遊不便費率!$B$5:$CA$184,$A8,DO$3)*$A$3,0)) -> 212 | DP8: =IF(ISNA(DP$3),0,ROUND(INDEX(旅遊不便費率!$B$5:$CA$184,$A8,DP$3)*$A$3,0)) -> 8 | DQ8: =IF(ISNA(DQ$3),0,ROUND(INDEX(旅遊不便費率!$B$5:$CA$184,$A8,DQ$3)*$A$3,0)) -> 28 | DR8: =SUM(DD8:DQ8) -> 524 | DS8: =IF(ISNA(DS$56),0,ROUND(INDEX(INDIRECT(DS$55),$A8,DS$56)*$A$2,0)) -> 349 | DV8: =ROUND(VLOOKUP(DV$3,費率表彙總!$F$4:$G$404,2,FALSE)*$B8*$A$2,0) -> 0 | DW8: =ROUND(VLOOKUP(DW$3,費率表彙總!$H$4:$I$804,2,FALSE)*$B8*$A$2,0) -> 0 | DX8: =IF(ISNA(DX$56),0,ROUND(INDEX(實支實付_總保費!$B$4:$AE$183,$A8,DX$56)*$A$2,0)) -> 14 | DY8: =IF(ISNA(DY$56),0,ROUND(INDEX(重大燒燙傷_總保費!$B$4:$AE$183,$A8,DY$56)*$A$2,0)) -> 1 | DZ8: =IF(DZ$3<>0,MAX(1,ROUND(VLOOKUP(DZ$3,費率表彙總!$L$4:$O$34,2,FALSE)*$B8*$A$2,0))+MAX(1,ROUND(INDEX(海突甲門診_總保費!$B$4:$GS$183,$A8,DZ$56)*$A$2,0)+MAX(1,ROUND(INDEX(海突甲急診_總保費!$B$4:$GS$183,$A8,DZ$56)*$A$2,0),0))) -> FALSE | EA8: =IF(EA$3<>0,MAX(1,ROUND(VLOOKUP(EA$3,費率表彙總!$L$4:$R$34,5,FALSE)*$B8*$A$2,0))+MAX(1,ROUND(INDEX(海突乙門診_總保費!$B$4:$GS$183,$A8,EA$56)*$A$2,0)+MAX(1,ROUND(INDEX(海突乙急診_總保費!$B$4:$GS$183,$A8,EA$56)*$A$2,0),0))) -> FALSE | EB8: =ROUND(VLOOKUP(EB$3,費率表彙總!$S$4:$T$34,2,FALSE)*$B8*$A$2,0) -> 0 | EC8: =IF(ISNA(EC$3),0,ROUND(INDEX(旅遊不便費率!$B$5:$CA$184,$A8,EC$3)*$A$3,0)) -> 42 | ED8: =IF(ISNA(ED$3),0,ROUND(INDEX(旅遊不便費率!$B$5:$CA$184,$A8,ED$3)*$A$3,0)) -> 212 | EE8: =IF(ISNA(EE$3),0,ROUND(INDEX(旅遊不便費率!$B$5:$CA$184,$A8,EE$3)*$A$3,0)) -> 8 | EF8: =IF(ISNA(EF$3),0,ROUND(INDEX(旅遊不便費率!$B$5:$CA$184,$A8,EF$3)*$A$3,0)) -> 28 | EG8: =SUM(DS8:EF8) -> 654 | EH8: =IF(ISNA(EH$56),0,ROUND(INDEX(INDIRECT(EH$55),$A8,EH$56)*$A$2,0)) -> 438 | EK8: =ROUND(VLOOKUP(EK$3,費率表彙總!$F$4:$G$404,2,FALSE)*$B8*$A$2,0) -> 0 | EL8: =ROUND(VLOOKUP(EL$3,費率表彙總!$H$4:$I$804,2,FALSE)*$B8*$A$2,0) -> 0 | EM8: =IF(ISNA(EM$56),0,ROUND(INDEX(實支實付_總保費!$B$4:$AE$183,$A8,EM$56)*$A$2,0)) -> 14 | EN8: =IF(ISNA(EN$56),0,ROUND(INDEX(重大燒燙傷_總保費!$B$4:$AE$183,$A8,EN$56)*$A$2,0)) -> 1 | EO8: =IF(EO$3<>0,MAX(1,ROUND(VLOOKUP(EO$3,費率表彙總!$L$4:$O$34,2,FALSE)*$B8*$A$2,0))+MAX(1,ROUND(INDEX(海突甲門診_總保費!$B$4:$GS$183,$A8,EO$56)*$A$2,0)+MAX(1,ROUND(INDEX(海突甲急診_總保費!$B$4:$GS$183,$A8,EO$56)*$A$2,0),0))) -> FALSE | EP8: =IF(EP$3<>0,MAX(1,ROUND(VLOOKUP(EP$3,費率表彙總!$L$4:$R$34,5,FALSE)*$B8*$A$2,0))+MAX(1,ROUND(INDEX(海突乙門診_總保費!$B$4:$GS$183,$A8,EP$56)*$A$2,0)+MAX(1,ROUND(INDEX(海突乙急診_總保費!$B$4:$GS$183,$A8,EP$56)*$A$2,0),0))) -> FALSE | EQ8: =ROUND(VLOOKUP(EQ$3,費率表彙總!$S$4:$T$34,2,FALSE)*$B8*$A$2,0) -> 0 | ER8: =IF(ISNA(ER$3),0,ROUND(INDEX(旅遊不便費率!$B$5:$CA$184,$A8,ER$3)*$A$3,0)) -> 42 | ES8: =IF(ISNA(ES$3),0,ROUND(INDEX(旅遊不便費率!$B$5:$CA$184,$A8,ES$3)*$A$3,0)) -> 212 | ET8: =IF(ISNA(ET$3),0,ROUND(INDEX(旅遊不便費率!$B$5:$CA$184,$A8,ET$3)*$A$3,0)) -> 8 | EU8: =IF(ISNA(EU$3),0,ROUND(INDEX(旅遊不便費率!$B$5:$CA$184,$A8,EU$3)*$A$3,0)) -> 28 | EV8: =SUM(EH8:EU8) -> 743 | EW8: =IF(ISNA(EW$56),0,ROUND(INDEX(INDIRECT(EW$55),$A8,EW$56)*$A$2,0)) -> 307 | EZ8: =ROUND(VLOOKUP(EZ$3,費率表彙總!$F$4:$G$404,2,FALSE)*$B8*$A$2,0) -> 0 | FA8: =ROUND(VLOOKUP(FA$3,費率表彙總!$H$4:$I$804,2,FALSE)*$B8*$A$2,0) -> 0 | FB8: =IF(ISNA(FB$56),0,ROUND(INDEX(實支實付_總保費!$B$4:$AE$183,$A8,FB$56)*$A$2,0)) -> 208 | FC8: =IF(ISNA(FC$56),0,ROUND(INDEX(重大燒燙傷_總保費!$B$4:$AE$183,$A8,FC$56)*$A$2,0)) -> 12 | FD8: =IF(FD$3<>0,MAX(1,ROUND(VLOOKUP(FD$3,費率表彙總!$L$4:$O$34,2,FALSE)*$B8*$A$2,0))+MAX(1,ROUND(INDEX(海突甲門診_總保費!$B$4:$GS$183,$A8,FD$56)*$A$2,0)+MAX(1,ROUND(INDEX(海突甲急診_總保費!$B$4:$GS$183,$A8,FD$56)*$A$2,0),0))) -> FALSE | FE8: =IF(FE$3<>0,MAX(1,ROUND(VLOOKUP(FE$3,費率表彙總!$L$4:$R$34,5,FALSE)*$B8*$A$2,0))+MAX(1,ROUND(INDEX(海突乙門診_總保費!$B$4:$GS$183,$A8,FE$56)*$A$2,0)+MAX(1,ROUND(INDEX(海突乙急診_總保費!$B$4:$GS$183,$A8,FE$56)*$A$2,0),0))) -> 439 | FF8: =ROUND(VLOOKUP(FF$3,費率表彙總!$S$4:$T$34,2,FALSE)*$B8*$A$2,0) -> 0 | FG8: =IF(ISNA(FG$3),0,ROUND(INDEX(旅遊不便費率!$B$5:$CA$184,$A8,FG$3)*$A$3,0)) -> 42 | FH8: =IF(ISNA(FH$3),0,ROUND(INDEX(旅遊不便費率!$B$5:$CA$184,$A8,FH$3)*$A$3,0)) -> 331 | FI8: =IF(ISNA(FI$3),0,ROUND(INDEX(旅遊不便費率!$B$5:$CA$184,$A8,FI$3)*$A$3,0)) -> 17 | FJ8: =IF(ISNA(FJ$3),0,ROUND(INDEX(旅遊不便費率!$B$5:$CA$184,$A8,FJ$3)*$A$3,0)) -> 51 | FK8: =SUM(EW8:FJ8) -> 1407 | FL8: =IF(ISNA(FL$56),0,ROUND(INDEX(INDIRECT(FL$55),$A8,FL$56)*$A$2,0)) -> 132 | FO8: =ROUND(VLOOKUP(FO$3,費率表彙總!$F$4:$G$404,2,FALSE)*$B8*$A$2,0) -> 0 | FP8: =ROUND(VLOOKUP(FP$3,費率表彙總!$H$4:$I$804,2,FALSE)*$B8*$A$2,0) -> 0 | FQ8: =IF(ISNA(FQ$56),0,ROUND(INDEX(實支實付_總保費!$B$4:$AE$183,$A8,FQ$56)*$A$2,0)) -> 42 | FR8: =IF(ISNA(FR$56),0,ROUND(INDEX(重大燒燙傷_總保費!$B$4:$AE$183,$A8,FR$56)*$A$2,0)) -> 3 | FS8: =IF(FS$3<>0,MAX(1,ROUND(VLOOKUP(FS$3,費率表彙總!$L$4:$O$34,2,FALSE)*$B8*$A$2,0))+MAX(1,ROUND(INDEX(海突甲門診_總保費!$B$4:$GS$183,$A8,FS$56)*$A$2,0)+MAX(1,ROUND(INDEX(海突甲急診_總保費!$B$4:$GS$183,$A8,FS$56)*$A$2,0),0))) -> FALSE | FT8: =IF(FT$3<>0,MAX(1,ROUND(VLOOKUP(FT$3,費率表彙總!$L$4:$R$34,5,FALSE)*$B8*$A$2,0))+MAX(1,ROUND(INDEX(海突乙門診_總保費!$B$4:$GS$183,$A8,FT$56)*$A$2,0)+MAX(1,ROUND(INDEX(海突乙急診_總保費!$B$4:$GS$183,$A8,FT$56)*$A$2,0),0))) -> 230 | FU8: =ROUND(VLOOKUP(FU$3,費率表彙總!$S$4:$T$34,2,FALSE)*$B8*$A$2,0) -> 0 | FV8: =IF(ISNA(FV$3),0,ROUND(INDEX(旅遊不便費率!$B$5:$CA$184,$A8,FV$3)*$A$3,0)) -> 42 | FW8: =IF(ISNA(FW$3),0,ROUND(INDEX(旅遊不便費率!$B$5:$CA$184,$A8,FW$3)*$A$3,0)) -> 331 | FX8: =IF(ISNA(FX$3),0,ROUND(INDEX(旅遊不便費率!$B$5:$CA$184,$A8,FX$3)*$A$3,0)) -> 17 | FY8: =IF(ISNA(FY$3),0,ROUND(INDEX(旅遊不便費率!$B$5:$CA$184,$A8,FY$3)*$A$3,0)) -> 51 | FZ8: =SUM(FL8:FY8) -> 848 | GA8: =IF(ISNA(GA$56),0,ROUND(INDEX(INDIRECT(GA$55),$A8,GA$56)*$A$2,0)) -> 219 | GD8: =ROUND(VLOOKUP(GD$3,費率表彙總!$F$4:$G$404,2,FALSE)*$B8*$A$2,0) -> 0 | GE8: =ROUND(VLOOKUP(GE$3,費率表彙總!$H$4:$I$804,2,FALSE)*$B8*$A$2,0) -> 0 | GF8: =IF(ISNA(GF$56),0,ROUND(INDEX(實支實付_總保費!$B$4:$AE$183,$A8,GF$56)*$A$2,0)) -> 69 | GG8: =IF(ISNA(GG$56),0,ROUND(INDEX(重大燒燙傷_總保費!$B$4:$AE$183,$A8,GG$56)*$A$2,0)) -> 4 | GH8: =IF(GH$3<>0,MAX(1,ROUND(VLOOKUP(GH$3,費率表彙總!$L$4:$O$34,2,FALSE)*$B8*$A$2,0))+MAX(1,ROUND(INDEX(海突甲門診_總保費!$B$4:$GS$183,$A8,GH$56)*$A$2,0)+MAX(1,ROUND(INDEX(海突甲急診_總保費!$B$4:$GS$183,$A8,GH$56)*$A$2,0),0))) -> FALSE | GI8: =IF(GI$3<>0,MAX(1,ROUND(VLOOKUP(GI$3,費率表彙總!$L$4:$R$34,5,FALSE)*$B8*$A$2,0))+MAX(1,ROUND(INDEX(海突乙門診_總保費!$B$4:$GS$183,$A8,GI$56)*$A$2,0)+MAX(1,ROUND(INDEX(海突乙急診_總保費!$B$4:$GS$183,$A8,GI$56)*$A$2,0),0))) -> 366 | GJ8: =ROUND(VLOOKUP(GJ$3,費率表彙總!$S$4:$T$34,2,FALSE)*$B8*$A$2,0) -> 0 | GK8: =IF(ISNA(GK$3),0,ROUND(INDEX(旅遊不便費率!$B$5:$CA$184,$A8,GK$3)*$A$3,0)) -> 42 | GL8: =IF(ISNA(GL$3),0,ROUND(INDEX(旅遊不便費率!$B$5:$CA$184,$A8,GL$3)*$A$3,0)) -> 331 | GM8: =IF(ISNA(GM$3),0,ROUND(INDEX(旅遊不便費率!$B$5:$CA$184,$A8,GM$3)*$A$3,0)) -> 17 | GN8: =IF(ISNA(GN$3),0,ROUND(INDEX(旅遊不便費率!$B$5:$CA$184,$A8,GN$3)*$A$3,0)) -> 51 | GO8: =SUM(GA8:GN8) -> 1099 | GP8: =IF(ISNA(GP$56),0,ROUND(INDEX(INDIRECT(GP$55),$A8,GP$56)*$A$2,0)) -> 219 | GS8: =ROUND(VLOOKUP(GS$3,費率表彙總!$F$4:$G$404,2,FALSE)*$B8*$A$2,0) -> 0 | GT8: =ROUND(VLOOKUP(GT$3,費率表彙總!$H$4:$I$804,2,FALSE)*$B8*$A$2,0) -> 0 | GU8: =IF(ISNA(GU$56),0,ROUND(INDEX(實支實付_總保費!$B$4:$AE$183,$A8,GU$56)*$A$2,0)) -> 139 | GV8: =IF(ISNA(GV$56),0,ROUND(INDEX(重大燒燙傷_總保費!$B$4:$AE$183,$A8,GV$56)*$A$2,0)) -> 8 | GW8: =IF(GW$3<>0,MAX(1,ROUND(VLOOKUP(GW$3,費率表彙總!$L$4:$O$34,2,FALSE)*$B8*$A$2,0))+MAX(1,ROUND(INDEX(海突甲門診_總保費!$B$4:$GS$183,$A8,GW$56)*$A$2,0)+MAX(1,ROUND(INDEX(海突甲急診_總保費!$B$4:$GS$183,$A8,GW$56)*$A$2,0),0))) -> FALSE | GX8: =IF(GX$3<>0,MAX(1,ROUND(VLOOKUP(GX$3,費率表彙總!$L$4:$R$34,5,FALSE)*$B8*$A$2,0))+MAX(1,ROUND(INDEX(海突乙門診_總保費!$B$4:$GS$183,$A8,GX$56)*$A$2,0)+MAX(1,ROUND(INDEX(海突乙急診_總保費!$B$4:$GS$183,$A8,GX$56)*$A$2,0),0))) -> 230 | GY8: =ROUND(VLOOKUP(GY$3,費率表彙總!$S$4:$T$34,2,FALSE)*$B8*$A$2,0) -> 0 | GZ8: =IF(ISNA(GZ$3),0,ROUND(INDEX(旅遊不便費率!$B$5:$CA$184,$A8,GZ$3)*$A$3,0)) -> 42 | HA8: =IF(ISNA(HA$3),0,ROUND(INDEX(旅遊不便費率!$B$5:$CA$184,$A8,HA$3)*$A$3,0)) -> 331 | HB8: =IF(ISNA(HB$3),0,ROUND(INDEX(旅遊不便費率!$B$5:$CA$184,$A8,HB$3)*$A$3,0)) -> 17 | HC8: =IF(ISNA(HC$3),0,ROUND(INDEX(旅遊不便費率!$B$5:$CA$184,$A8,HC$3)*$A$3,0)) -> 51 | HD8: =SUM(GP8:HC8) -> 1037 | HE8: =IF(ISNA(HE$56),0,ROUND(INDEX(INDIRECT(HE$55),$A8,HE$56)*$A$2,0)) -> 219 | HH8: =ROUND(VLOOKUP(HH$3,費率表彙總!$F$4:$G$404,2,FALSE)*$B8*$A$2,0) -> 0 | HI8: =ROUND(VLOOKUP(HI$3,費率表彙總!$H$4:$I$804,2,FALSE)*$B8*$A$2,0) -> 0 | HJ8: =IF(ISNA(HJ$56),0,ROUND(INDEX(實支實付_總保費!$B$4:$AE$183,$A8,HJ$56)*$A$2,0)) -> 139 | HK8: =IF(ISNA(HK$56),0,ROUND(INDEX(重大燒燙傷_總保費!$B$4:$AE$183,$A8,HK$56)*$A$2,0)) -> 8 | HL8: =IF(HL$3<>0,MAX(1,ROUND(VLOOKUP(HL$3,費率表彙總!$L$4:$O$34,2,FALSE)*$B8*$A$2,0))+MAX(1,ROUND(INDEX(海突甲門診_總保費!$B$4:$GS$183,$A8,HL$56)*$A$2,0)+MAX(1,ROUND(INDEX(海突甲急診_總保費!$B$4:$GS$183,$A8,HL$56)*$A$2,0),0))) -> FALSE | HM8: =IF(HM$3<>0,MAX(1,ROUND(VLOOKUP(HM$3,費率表彙總!$L$4:$R$34,5,FALSE)*$B8*$A$2,0))+MAX(1,ROUND(INDEX(海突乙門診_總保費!$B$4:$GS$183,$A8,HM$56)*$A$2,0)+MAX(1,ROUND(INDEX(海突乙急診_總保費!$B$4:$GS$183,$A8,HM$56)*$A$2,0),0))) -> 230 | HN8: =ROUND(VLOOKUP(HN$3,費率表彙總!$S$4:$T$34,2,FALSE)*$B8*$A$2,0) -> 0 | HO8: =IF(ISNA(HO$3),0,ROUND(INDEX(旅遊不便費率!$B$5:$CA$184,$A8,HO$3)*$A$3,0)) -> 42 | HP8: =IF(ISNA(HP$3),0,ROUND(INDEX(旅遊不便費率!$B$5:$CA$184,$A8,HP$3)*$A$3,0)) -> 331 | HQ8: =IF(ISNA(HQ$3),0,ROUND(INDEX(旅遊不便費率!$B$5:$CA$184,$A8,HQ$3)*$A$3,0)) -> 17 | HR8: =IF(ISNA(HR$3),0,ROUND(INDEX(旅遊不便費率!$B$5:$CA$184,$A8,HR$3)*$A$3,0)) -> 51 | HS8: =SUM(HE8:HR8) -> 1037
A9: 5 | B9: =VLOOKUP(A9,費率表彙總!$A$4:$B$183,2,FALSE) -> 0.162 | C9: =IF(ISNA(C$56),0,ROUND(INDEX(INDIRECT(C$55),$A9,C$56)*$A$2,0)) -> 161 | F9: =ROUND(VLOOKUP(F$3,費率表彙總!$F$4:$G$404,2,FALSE)*$B9*$A$2,0) -> 0 | G9: =ROUND(VLOOKUP(G$3,費率表彙總!$H$4:$I$804,2,FALSE)*$B9*$A$2,0) -> 0 | H9: =IF(ISNA(H$56),0,ROUND(INDEX(實支實付_總保費!$B$4:$AE$183,$A9,H$56)*$A$2,0)) -> 0 | I9: =IF(ISNA(I$56),0,ROUND(INDEX(重大燒燙傷_總保費!$B$4:$AE$183,$A9,I$56)*$A$2,0)) -> 0 | J9: =IF(J$3<>0,MAX(1,ROUND(VLOOKUP(J$3,費率表彙總!$L$4:$O$34,2,FALSE)*$B9*$A$2,0))+MAX(1,ROUND(INDEX(海突甲門診_總保費!$B$4:$GS$183,$A9,J$56)*$A$2,0)+MAX(1,ROUND(INDEX(海突甲急診_總保費!$B$4:$GS$183,$A9,J$56)*$A$2,0),0))) -> FALSE | K9: =IF(K$3<>0,MAX(1,ROUND(VLOOKUP(K$3,費率表彙總!$L$4:$R$34,5,FALSE)*$B9*$A$2,0))+MAX(1,ROUND(INDEX(海突乙門診_總保費!$B$4:$GS$183,$A9,K$56)*$A$2,0)+MAX(1,ROUND(INDEX(海突乙急診_總保費!$B$4:$GS$183,$A9,K$56)*$A$2,0),0))) -> 148 | L9: =ROUND(VLOOKUP(L$3,費率表彙總!$S$4:$T$34,2,FALSE)*$B9*$A$2,0) -> 0 | M9: =IF(ISNA(M$3),0,ROUND(INDEX(旅遊不便費率!$B$5:$CA$184,$A9,M$3)*$A$3,0)) -> 0 | N9: =IF(ISNA(N$3),0,ROUND(INDEX(旅遊不便費率!$B$5:$CA$184,$A9,N$3)*$A$3,0)) -> 0 | O9: =IF(ISNA(O$3),0,ROUND(INDEX(旅遊不便費率!$B$5:$CA$184,$A9,O$3)*$A$3,0)) -> 0 | P9: =IF(ISNA(P$3),0,ROUND(INDEX(旅遊不便費率!$B$5:$CA$184,$A9,P$3)*$A$3,0)) -> 0 | Q9: =SUM(C9:P9) -> 309 | R9: =IF(ISNA(R$56),0,ROUND(INDEX(INDIRECT(R$55),$A9,R$56)*$A$2,0)) -> 161 | U9: =ROUND(VLOOKUP(U$3,費率表彙總!$F$4:$G$404,2,FALSE)*$B9*$A$2,0) -> 0 | V9: =ROUND(VLOOKUP(V$3,費率表彙總!$H$4:$I$804,2,FALSE)*$B9*$A$2,0) -> 0 | W9: =IF(ISNA(W$56),0,ROUND(INDEX(實支實付_總保費!$B$4:$AE$183,$A9,W$56)*$A$2,0)) -> 0 | X9: =IF(ISNA(X$56),0,ROUND(INDEX(重大燒燙傷_總保費!$B$4:$AE$183,$A9,X$56)*$A$2,0)) -> 0 | Y9: =IF(Y$3<>0,MAX(1,ROUND(VLOOKUP(Y$3,費率表彙總!$L$4:$O$34,2,FALSE)*$B9*$A$2,0))+MAX(1,ROUND(INDEX(海突甲門診_總保費!$B$4:$GS$183,$A9,Y$56)*$A$2,0)+MAX(1,ROUND(INDEX(海突甲急診_總保費!$B$4:$GS$183,$A9,Y$56)*$A$2,0),0))) -> FALSE | Z9: =IF(Z$3<>0,MAX(1,ROUND(VLOOKUP(Z$3,費率表彙總!$L$4:$R$34,5,FALSE)*$B9*$A$2,0))+MAX(1,ROUND(INDEX(海突乙門診_總保費!$B$4:$GS$183,$A9,Z$56)*$A$2,0)+MAX(1,ROUND(INDEX(海突乙急診_總保費!$B$4:$GS$183,$A9,Z$56)*$A$2,0),0))) -> 148 | AA9: =ROUND(VLOOKUP(AA$3,費率表彙總!$S$4:$T$34,2,FALSE)*$B9*$A$2,0) -> 0 | AB9: =IF(ISNA(AB$3),0,ROUND(INDEX(旅遊不便費率!$B$5:$CA$184,$A9,AB$3)*$A$3,0)) -> 0 | AC9: =IF(ISNA(AC$3),0,ROUND(INDEX(旅遊不便費率!$B$5:$CA$184,$A9,AC$3)*$A$3,0)) -> 0 | AD9: =IF(ISNA(AD$3),0,ROUND(INDEX(旅遊不便費率!$B$5:$CA$184,$A9,AD$3)*$A$3,0)) -> 0 | AE9: =IF(ISNA(AE$3),0,ROUND(INDEX(旅遊不便費率!$B$5:$CA$184,$A9,AE$3)*$A$3,0)) -> 0 | AF9: =SUM(R9:AE9) -> 309 | AG9: =IF(ISNA(AG$56),0,ROUND(INDEX(INDIRECT(AG$55),$A9,AG$56)*$A$2,0)) -> 269 | AJ9: =ROUND(VLOOKUP(AJ$3,費率表彙總!$F$4:$G$404,2,FALSE)*$B9*$A$2,0) -> 0 | AK9: =ROUND(VLOOKUP(AK$3,費率表彙總!$H$4:$I$804,2,FALSE)*$B9*$A$2,0) -> 0 | AL9: =IF(ISNA(AL$56),0,ROUND(INDEX(實支實付_總保費!$B$4:$AE$183,$A9,AL$56)*$A$2,0)) -> 0 | AM9: =IF(ISNA(AM$56),0,ROUND(INDEX(重大燒燙傷_總保費!$B$4:$AE$183,$A9,AM$56)*$A$2,0)) -> 0 | AN9: =IF(AN$3<>0,MAX(1,ROUND(VLOOKUP(AN$3,費率表彙總!$L$4:$O$34,2,FALSE)*$B9*$A$2,0))+MAX(1,ROUND(INDEX(海突甲門診_總保費!$B$4:$GS$183,$A9,AN$56)*$A$2,0)+MAX(1,ROUND(INDEX(海突甲急診_總保費!$B$4:$GS$183,$A9,AN$56)*$A$2,0),0))) -> FALSE | AO9: =IF(AO$3<>0,MAX(1,ROUND(VLOOKUP(AO$3,費率表彙總!$L$4:$R$34,5,FALSE)*$B9*$A$2,0))+MAX(1,ROUND(INDEX(海突乙門診_總保費!$B$4:$GS$183,$A9,AO$56)*$A$2,0)+MAX(1,ROUND(INDEX(海突乙急診_總保費!$B$4:$GS$183,$A9,AO$56)*$A$2,0),0))) -> 238 | AP9: =ROUND(VLOOKUP(AP$3,費率表彙總!$S$4:$T$34,2,FALSE)*$B9*$A$2,0) -> 0 | AQ9: =IF(ISNA(AQ$3),0,ROUND(INDEX(旅遊不便費率!$B$5:$CA$184,$A9,AQ$3)*$A$3,0)) -> 0 | AR9: =IF(ISNA(AR$3),0,ROUND(INDEX(旅遊不便費率!$B$5:$CA$184,$A9,AR$3)*$A$3,0)) -> 0 | AS9: =IF(ISNA(AS$3),0,ROUND(INDEX(旅遊不便費率!$B$5:$CA$184,$A9,AS$3)*$A$3,0)) -> 0 | AT9: =IF(ISNA(AT$3),0,ROUND(INDEX(旅遊不便費率!$B$5:$CA$184,$A9,AT$3)*$A$3,0)) -> 0 | AU9: =SUM(AG9:AT9) -> 507 | AV9: =IF(ISNA(AV$56),0,ROUND(INDEX(INDIRECT(AV$55),$A9,AV$56)*$A$2,0)) -> 429 | AY9: =ROUND(VLOOKUP(AY$3,費率表彙總!$F$4:$G$404,2,FALSE)*$B9*$A$2,0) -> 0 | AZ9: =ROUND(VLOOKUP(AZ$3,費率表彙總!$H$4:$I$804,2,FALSE)*$B9*$A$2,0) -> 0 | BA9: =IF(ISNA(BA$56),0,ROUND(INDEX(實支實付_總保費!$B$4:$AE$183,$A9,BA$56)*$A$2,0)) -> 0 | BB9: =IF(ISNA(BB$56),0,ROUND(INDEX(重大燒燙傷_總保費!$B$4:$AE$183,$A9,BB$56)*$A$2,0)) -> 0 | BC9: =IF(BC$3<>0,MAX(1,ROUND(VLOOKUP(BC$3,費率表彙總!$L$4:$O$34,2,FALSE)*$B9*$A$2,0))+MAX(1,ROUND(INDEX(海突甲門診_總保費!$B$4:$GS$183,$A9,BC$56)*$A$2,0)+MAX(1,ROUND(INDEX(海突甲急診_總保費!$B$4:$GS$183,$A9,BC$56)*$A$2,0),0))) -> FALSE | BD9: =IF(BD$3<>0,MAX(1,ROUND(VLOOKUP(BD$3,費率表彙總!$L$4:$R$34,5,FALSE)*$B9*$A$2,0))+MAX(1,ROUND(INDEX(海突乙門診_總保費!$B$4:$GS$183,$A9,BD$56)*$A$2,0)+MAX(1,ROUND(INDEX(海突乙急診_總保費!$B$4:$GS$183,$A9,BD$56)*$A$2,0),0))) -> 367 | BE9: =ROUND(VLOOKUP(BE$3,費率表彙總!$S$4:$T$34,2,FALSE)*$B9*$A$2,0) -> 0 | BF9: =IF(ISNA(BF$3),0,ROUND(INDEX(旅遊不便費率!$B$5:$CA$184,$A9,BF$3)*$A$3,0)) -> 0 | BG9: =IF(ISNA(BG$3),0,ROUND(INDEX(旅遊不便費率!$B$5:$CA$184,$A9,BG$3)*$A$3,0)) -> 0 | BH9: =IF(ISNA(BH$3),0,ROUND(INDEX(旅遊不便費率!$B$5:$CA$184,$A9,BH$3)*$A$3,0)) -> 0 | BI9: =IF(ISNA(BI$3),0,ROUND(INDEX(旅遊不便費率!$B$5:$CA$184,$A9,BI$3)*$A$3,0)) -> 0 | BJ9: =SUM(AV9:BI9) -> 796 | BK9: =IF(ISNA(BK$56),0,ROUND(INDEX(INDIRECT(BK$55),$A9,BK$56)*$A$2,0)) -> 538 | BN9: =ROUND(VLOOKUP(BN$3,費率表彙總!$F$4:$G$404,2,FALSE)*$B9*$A$2,0) -> 0 | BO9: =ROUND(VLOOKUP(BO$3,費率表彙總!$H$4:$I$804,2,FALSE)*$B9*$A$2,0) -> 0 | BP9: =IF(ISNA(BP$56),0,ROUND(INDEX(實支實付_總保費!$B$4:$AE$183,$A9,BP$56)*$A$2,0)) -> 0 | BQ9: =IF(ISNA(BQ$56),0,ROUND(INDEX(重大燒燙傷_總保費!$B$4:$AE$183,$A9,BQ$56)*$A$2,0)) -> 0 | BR9: =IF(BR$3<>0,MAX(1,ROUND(VLOOKUP(BR$3,費率表彙總!$L$4:$O$34,2,FALSE)*$B9*$A$2,0))+MAX(1,ROUND(INDEX(海突甲門診_總保費!$B$4:$GS$183,$A9,BR$56)*$A$2,0)+MAX(1,ROUND(INDEX(海突甲急診_總保費!$B$4:$GS$183,$A9,BR$56)*$A$2,0),0))) -> FALSE | BS9: =IF(BS$3<>0,MAX(1,ROUND(VLOOKUP(BS$3,費率表彙總!$L$4:$R$34,5,FALSE)*$B9*$A$2,0))+MAX(1,ROUND(INDEX(海突乙門診_總保費!$B$4:$GS$183,$A9,BS$56)*$A$2,0)+MAX(1,ROUND(INDEX(海突乙急診_總保費!$B$4:$GS$183,$A9,BS$56)*$A$2,0),0))) -> 449 | BT9: =ROUND(VLOOKUP(BT$3,費率表彙總!$S$4:$T$34,2,FALSE)*$B9*$A$2,0) -> 0 | BU9: =IF(ISNA(BU$3),0,ROUND(INDEX(旅遊不便費率!$B$5:$CA$184,$A9,BU$3)*$A$3,0)) -> 0 | BV9: =IF(ISNA(BV$3),0,ROUND(INDEX(旅遊不便費率!$B$5:$CA$184,$A9,BV$3)*$A$3,0)) -> 0 | BW9: =IF(ISNA(BW$3),0,ROUND(INDEX(旅遊不便費率!$B$5:$CA$184,$A9,BW$3)*$A$3,0)) -> 0 | BX9: =IF(ISNA(BX$3),0,ROUND(INDEX(旅遊不便費率!$B$5:$CA$184,$A9,BX$3)*$A$3,0)) -> 0 | BY9: =SUM(BK9:BX9) -> 987 | BZ9: =IF(ISNA(BZ$56),0,ROUND(INDEX(INDIRECT(BZ$55),$A9,BZ$56)*$A$2,0)) -> 108 | CC9: =ROUND(VLOOKUP(CC$3,費率表彙總!$F$4:$G$404,2,FALSE)*$B9*$A$2,0) -> 0 | CD9: =ROUND(VLOOKUP(CD$3,費率表彙總!$H$4:$I$804,2,FALSE)*$B9*$A$2,0) -> 0 | CE9: =IF(ISNA(CE$56),0,ROUND(INDEX(實支實付_總保費!$B$4:$AE$183,$A9,CE$56)*$A$2,0)) -> 17 | CF9: =IF(ISNA(CF$56),0,ROUND(INDEX(重大燒燙傷_總保費!$B$4:$AE$183,$A9,CF$56)*$A$2,0)) -> 1 | CG9: =IF(CG$3<>0,MAX(1,ROUND(VLOOKUP(CG$3,費率表彙總!$L$4:$O$34,2,FALSE)*$B9*$A$2,0))+MAX(1,ROUND(INDEX(海突甲門診_總保費!$B$4:$GS$183,$A9,CG$56)*$A$2,0)+MAX(1,ROUND(INDEX(海突甲急診_總保費!$B$4:$GS$183,$A9,CG$56)*$A$2,0),0))) -> FALSE | CH9: =IF(CH$3<>0,MAX(1,ROUND(VLOOKUP(CH$3,費率表彙總!$L$4:$R$34,5,FALSE)*$B9*$A$2,0))+MAX(1,ROUND(INDEX(海突乙門診_總保費!$B$4:$GS$183,$A9,CH$56)*$A$2,0)+MAX(1,ROUND(INDEX(海突乙急診_總保費!$B$4:$GS$183,$A9,CH$56)*$A$2,0),0))) -> FALSE | CI9: =ROUND(VLOOKUP(CI$3,費率表彙總!$S$4:$T$34,2,FALSE)*$B9*$A$2,0) -> 0 | CJ9: =IF(ISNA(CJ$3),0,ROUND(INDEX(旅遊不便費率!$B$5:$CA$184,$A9,CJ$3)*$A$3,0)) -> 51 | CK9: =IF(ISNA(CK$3),0,ROUND(INDEX(旅遊不便費率!$B$5:$CA$184,$A9,CK$3)*$A$3,0)) -> 261 | CL9: =IF(ISNA(CL$3),0,ROUND(INDEX(旅遊不便費率!$B$5:$CA$184,$A9,CL$3)*$A$3,0)) -> 9 | CM9: =IF(ISNA(CM$3),0,ROUND(INDEX(旅遊不便費率!$B$5:$CA$184,$A9,CM$3)*$A$3,0)) -> 34 | CN9: =SUM(BZ9:CM9) -> 481 | CO9: =IF(ISNA(CO$56),0,ROUND(INDEX(INDIRECT(CO$55),$A9,CO$56)*$A$2,0)) -> 161 | CR9: =ROUND(VLOOKUP(CR$3,費率表彙總!$F$4:$G$404,2,FALSE)*$B9*$A$2,0) -> 0 | CS9: =ROUND(VLOOKUP(CS$3,費率表彙總!$H$4:$I$804,2,FALSE)*$B9*$A$2,0) -> 0 | CT9: =IF(ISNA(CT$56),0,ROUND(INDEX(實支實付_總保費!$B$4:$AE$183,$A9,CT$56)*$A$2,0)) -> 17 | CU9: =IF(ISNA(CU$56),0,ROUND(INDEX(重大燒燙傷_總保費!$B$4:$AE$183,$A9,CU$56)*$A$2,0)) -> 1 | CV9: =IF(CV$3<>0,MAX(1,ROUND(VLOOKUP(CV$3,費率表彙總!$L$4:$O$34,2,FALSE)*$B9*$A$2,0))+MAX(1,ROUND(INDEX(海突甲門診_總保費!$B$4:$GS$183,$A9,CV$56)*$A$2,0)+MAX(1,ROUND(INDEX(海突甲急診_總保費!$B$4:$GS$183,$A9,CV$56)*$A$2,0),0))) -> FALSE | CW9: =IF(CW$3<>0,MAX(1,ROUND(VLOOKUP(CW$3,費率表彙總!$L$4:$R$34,5,FALSE)*$B9*$A$2,0))+MAX(1,ROUND(INDEX(海突乙門診_總保費!$B$4:$GS$183,$A9,CW$56)*$A$2,0)+MAX(1,ROUND(INDEX(海突乙急診_總保費!$B$4:$GS$183,$A9,CW$56)*$A$2,0),0))) -> FALSE | CX9: =ROUND(VLOOKUP(CX$3,費率表彙總!$S$4:$T$34,2,FALSE)*$B9*$A$2,0) -> 0 | CY9: =IF(ISNA(CY$3),0,ROUND(INDEX(旅遊不便費率!$B$5:$CA$184,$A9,CY$3)*$A$3,0)) -> 51 | CZ9: =IF(ISNA(CZ$3),0,ROUND(INDEX(旅遊不便費率!$B$5:$CA$184,$A9,CZ$3)*$A$3,0)) -> 261 | DA9: =IF(ISNA(DA$3),0,ROUND(INDEX(旅遊不便費率!$B$5:$CA$184,$A9,DA$3)*$A$3,0)) -> 9 | DB9: =IF(ISNA(DB$3),0,ROUND(INDEX(旅遊不便費率!$B$5:$CA$184,$A9,DB$3)*$A$3,0)) -> 34 | DC9: =SUM(CO9:DB9) -> 534 | DD9: =IF(ISNA(DD$56),0,ROUND(INDEX(INDIRECT(DD$55),$A9,DD$56)*$A$2,0)) -> 269 | DG9: =ROUND(VLOOKUP(DG$3,費率表彙總!$F$4:$G$404,2,FALSE)*$B9*$A$2,0) -> 0 | DH9: =ROUND(VLOOKUP(DH$3,費率表彙總!$H$4:$I$804,2,FALSE)*$B9*$A$2,0) -> 0 | DI9: =IF(ISNA(DI$56),0,ROUND(INDEX(實支實付_總保費!$B$4:$AE$183,$A9,DI$56)*$A$2,0)) -> 17 | DJ9: =IF(ISNA(DJ$56),0,ROUND(INDEX(重大燒燙傷_總保費!$B$4:$AE$183,$A9,DJ$56)*$A$2,0)) -> 1 | DK9: =IF(DK$3<>0,MAX(1,ROUND(VLOOKUP(DK$3,費率表彙總!$L$4:$O$34,2,FALSE)*$B9*$A$2,0))+MAX(1,ROUND(INDEX(海突甲門診_總保費!$B$4:$GS$183,$A9,DK$56)*$A$2,0)+MAX(1,ROUND(INDEX(海突甲急診_總保費!$B$4:$GS$183,$A9,DK$56)*$A$2,0),0))) -> FALSE | DL9: =IF(DL$3<>0,MAX(1,ROUND(VLOOKUP(DL$3,費率表彙總!$L$4:$R$34,5,FALSE)*$B9*$A$2,0))+MAX(1,ROUND(INDEX(海突乙門診_總保費!$B$4:$GS$183,$A9,DL$56)*$A$2,0)+MAX(1,ROUND(INDEX(海突乙急診_總保費!$B$4:$GS$183,$A9,DL$56)*$A$2,0),0))) -> FALSE | DM9: =ROUND(VLOOKUP(DM$3,費率表彙總!$S$4:$T$34,2,FALSE)*$B9*$A$2,0) -> 0 | DN9: =IF(ISNA(DN$3),0,ROUND(INDEX(旅遊不便費率!$B$5:$CA$184,$A9,DN$3)*$A$3,0)) -> 51 | DO9: =IF(ISNA(DO$3),0,ROUND(INDEX(旅遊不便費率!$B$5:$CA$184,$A9,DO$3)*$A$3,0)) -> 261 | DP9: =IF(ISNA(DP$3),0,ROUND(INDEX(旅遊不便費率!$B$5:$CA$184,$A9,DP$3)*$A$3,0)) -> 9 | DQ9: =IF(ISNA(DQ$3),0,ROUND(INDEX(旅遊不便費率!$B$5:$CA$184,$A9,DQ$3)*$A$3,0)) -> 34 | DR9: =SUM(DD9:DQ9) -> 642 | DS9: =IF(ISNA(DS$56),0,ROUND(INDEX(INDIRECT(DS$55),$A9,DS$56)*$A$2,0)) -> 429 | DV9: =ROUND(VLOOKUP(DV$3,費率表彙總!$F$4:$G$404,2,FALSE)*$B9*$A$2,0) -> 0 | DW9: =ROUND(VLOOKUP(DW$3,費率表彙總!$H$4:$I$804,2,FALSE)*$B9*$A$2,0) -> 0 | DX9: =IF(ISNA(DX$56),0,ROUND(INDEX(實支實付_總保費!$B$4:$AE$183,$A9,DX$56)*$A$2,0)) -> 17 | DY9: =IF(ISNA(DY$56),0,ROUND(INDEX(重大燒燙傷_總保費!$B$4:$AE$183,$A9,DY$56)*$A$2,0)) -> 1 | DZ9: =IF(DZ$3<>0,MAX(1,ROUND(VLOOKUP(DZ$3,費率表彙總!$L$4:$O$34,2,FALSE)*$B9*$A$2,0))+MAX(1,ROUND(INDEX(海突甲門診_總保費!$B$4:$GS$183,$A9,DZ$56)*$A$2,0)+MAX(1,ROUND(INDEX(海突甲急診_總保費!$B$4:$GS$183,$A9,DZ$56)*$A$2,0),0))) -> FALSE | EA9: =IF(EA$3<>0,MAX(1,ROUND(VLOOKUP(EA$3,費率表彙總!$L$4:$R$34,5,FALSE)*$B9*$A$2,0))+MAX(1,ROUND(INDEX(海突乙門診_總保費!$B$4:$GS$183,$A9,EA$56)*$A$2,0)+MAX(1,ROUND(INDEX(海突乙急診_總保費!$B$4:$GS$183,$A9,EA$56)*$A$2,0),0))) -> FALSE | EB9: =ROUND(VLOOKUP(EB$3,費率表彙總!$S$4:$T$34,2,FALSE)*$B9*$A$2,0) -> 0 | EC9: =IF(ISNA(EC$3),0,ROUND(INDEX(旅遊不便費率!$B$5:$CA$184,$A9,EC$3)*$A$3,0)) -> 51 | ED9: =IF(ISNA(ED$3),0,ROUND(INDEX(旅遊不便費率!$B$5:$CA$184,$A9,ED$3)*$A$3,0)) -> 261 | EE9: =IF(ISNA(EE$3),0,ROUND(INDEX(旅遊不便費率!$B$5:$CA$184,$A9,EE$3)*$A$3,0)) -> 9 | EF9: =IF(ISNA(EF$3),0,ROUND(INDEX(旅遊不便費率!$B$5:$CA$184,$A9,EF$3)*$A$3,0)) -> 34 | EG9: =SUM(DS9:EF9) -> 802 | EH9: =IF(ISNA(EH$56),0,ROUND(INDEX(INDIRECT(EH$55),$A9,EH$56)*$A$2,0)) -> 538 | EK9: =ROUND(VLOOKUP(EK$3,費率表彙總!$F$4:$G$404,2,FALSE)*$B9*$A$2,0) -> 0 | EL9: =ROUND(VLOOKUP(EL$3,費率表彙總!$H$4:$I$804,2,FALSE)*$B9*$A$2,0) -> 0 | EM9: =IF(ISNA(EM$56),0,ROUND(INDEX(實支實付_總保費!$B$4:$AE$183,$A9,EM$56)*$A$2,0)) -> 17 | EN9: =IF(ISNA(EN$56),0,ROUND(INDEX(重大燒燙傷_總保費!$B$4:$AE$183,$A9,EN$56)*$A$2,0)) -> 1 | EO9: =IF(EO$3<>0,MAX(1,ROUND(VLOOKUP(EO$3,費率表彙總!$L$4:$O$34,2,FALSE)*$B9*$A$2,0))+MAX(1,ROUND(INDEX(海突甲門診_總保費!$B$4:$GS$183,$A9,EO$56)*$A$2,0)+MAX(1,ROUND(INDEX(海突甲急診_總保費!$B$4:$GS$183,$A9,EO$56)*$A$2,0),0))) -> FALSE | EP9: =IF(EP$3<>0,MAX(1,ROUND(VLOOKUP(EP$3,費率表彙總!$L$4:$R$34,5,FALSE)*$B9*$A$2,0))+MAX(1,ROUND(INDEX(海突乙門診_總保費!$B$4:$GS$183,$A9,EP$56)*$A$2,0)+MAX(1,ROUND(INDEX(海突乙急診_總保費!$B$4:$GS$183,$A9,EP$56)*$A$2,0),0))) -> FALSE | EQ9: =ROUND(VLOOKUP(EQ$3,費率表彙總!$S$4:$T$34,2,FALSE)*$B9*$A$2,0) -> 0 | ER9: =IF(ISNA(ER$3),0,ROUND(INDEX(旅遊不便費率!$B$5:$CA$184,$A9,ER$3)*$A$3,0)) -> 51 | ES9: =IF(ISNA(ES$3),0,ROUND(INDEX(旅遊不便費率!$B$5:$CA$184,$A9,ES$3)*$A$3,0)) -> 261 | ET9: =IF(ISNA(ET$3),0,ROUND(INDEX(旅遊不便費率!$B$5:$CA$184,$A9,ET$3)*$A$3,0)) -> 9 | EU9: =IF(ISNA(EU$3),0,ROUND(INDEX(旅遊不便費率!$B$5:$CA$184,$A9,EU$3)*$A$3,0)) -> 34 | EV9: =SUM(EH9:EU9) -> 911 | EW9: =IF(ISNA(EW$56),0,ROUND(INDEX(INDIRECT(EW$55),$A9,EW$56)*$A$2,0)) -> 377 | EZ9: =ROUND(VLOOKUP(EZ$3,費率表彙總!$F$4:$G$404,2,FALSE)*$B9*$A$2,0) -> 0 | FA9: =ROUND(VLOOKUP(FA$3,費率表彙總!$H$4:$I$804,2,FALSE)*$B9*$A$2,0) -> 0 | FB9: =IF(ISNA(FB$56),0,ROUND(INDEX(實支實付_總保費!$B$4:$AE$183,$A9,FB$56)*$A$2,0)) -> 256 | FC9: =IF(ISNA(FC$56),0,ROUND(INDEX(重大燒燙傷_總保費!$B$4:$AE$183,$A9,FC$56)*$A$2,0)) -> 15 | FD9: =IF(FD$3<>0,MAX(1,ROUND(VLOOKUP(FD$3,費率表彙總!$L$4:$O$34,2,FALSE)*$B9*$A$2,0))+MAX(1,ROUND(INDEX(海突甲門診_總保費!$B$4:$GS$183,$A9,FD$56)*$A$2,0)+MAX(1,ROUND(INDEX(海突甲急診_總保費!$B$4:$GS$183,$A9,FD$56)*$A$2,0),0))) -> FALSE | FE9: =IF(FE$3<>0,MAX(1,ROUND(VLOOKUP(FE$3,費率表彙總!$L$4:$R$34,5,FALSE)*$B9*$A$2,0))+MAX(1,ROUND(INDEX(海突乙門診_總保費!$B$4:$GS$183,$A9,FE$56)*$A$2,0)+MAX(1,ROUND(INDEX(海突乙急診_總保費!$B$4:$GS$183,$A9,FE$56)*$A$2,0),0))) -> 538 | FF9: =ROUND(VLOOKUP(FF$3,費率表彙總!$S$4:$T$34,2,FALSE)*$B9*$A$2,0) -> 0 | FG9: =IF(ISNA(FG$3),0,ROUND(INDEX(旅遊不便費率!$B$5:$CA$184,$A9,FG$3)*$A$3,0)) -> 51 | FH9: =IF(ISNA(FH$3),0,ROUND(INDEX(旅遊不便費率!$B$5:$CA$184,$A9,FH$3)*$A$3,0)) -> 405 | FI9: =IF(ISNA(FI$3),0,ROUND(INDEX(旅遊不便費率!$B$5:$CA$184,$A9,FI$3)*$A$3,0)) -> 20 | FJ9: =IF(ISNA(FJ$3),0,ROUND(INDEX(旅遊不便費率!$B$5:$CA$184,$A9,FJ$3)*$A$3,0)) -> 61 | FK9: =SUM(EW9:FJ9) -> 1723 | FL9: =IF(ISNA(FL$56),0,ROUND(INDEX(INDIRECT(FL$55),$A9,FL$56)*$A$2,0)) -> 161 | FO9: =ROUND(VLOOKUP(FO$3,費率表彙總!$F$4:$G$404,2,FALSE)*$B9*$A$2,0) -> 0 | FP9: =ROUND(VLOOKUP(FP$3,費率表彙總!$H$4:$I$804,2,FALSE)*$B9*$A$2,0) -> 0 | FQ9: =IF(ISNA(FQ$56),0,ROUND(INDEX(實支實付_總保費!$B$4:$AE$183,$A9,FQ$56)*$A$2,0)) -> 52 | FR9: =IF(ISNA(FR$56),0,ROUND(INDEX(重大燒燙傷_總保費!$B$4:$AE$183,$A9,FR$56)*$A$2,0)) -> 3 | FS9: =IF(FS$3<>0,MAX(1,ROUND(VLOOKUP(FS$3,費率表彙總!$L$4:$O$34,2,FALSE)*$B9*$A$2,0))+MAX(1,ROUND(INDEX(海突甲門診_總保費!$B$4:$GS$183,$A9,FS$56)*$A$2,0)+MAX(1,ROUND(INDEX(海突甲急診_總保費!$B$4:$GS$183,$A9,FS$56)*$A$2,0),0))) -> FALSE | FT9: =IF(FT$3<>0,MAX(1,ROUND(VLOOKUP(FT$3,費率表彙總!$L$4:$R$34,5,FALSE)*$B9*$A$2,0))+MAX(1,ROUND(INDEX(海突乙門診_總保費!$B$4:$GS$183,$A9,FT$56)*$A$2,0)+MAX(1,ROUND(INDEX(海突乙急診_總保費!$B$4:$GS$183,$A9,FT$56)*$A$2,0),0))) -> 282 | FU9: =ROUND(VLOOKUP(FU$3,費率表彙總!$S$4:$T$34,2,FALSE)*$B9*$A$2,0) -> 0 | FV9: =IF(ISNA(FV$3),0,ROUND(INDEX(旅遊不便費率!$B$5:$CA$184,$A9,FV$3)*$A$3,0)) -> 51 | FW9: =IF(ISNA(FW$3),0,ROUND(INDEX(旅遊不便費率!$B$5:$CA$184,$A9,FW$3)*$A$3,0)) -> 405 | FX9: =IF(ISNA(FX$3),0,ROUND(INDEX(旅遊不便費率!$B$5:$CA$184,$A9,FX$3)*$A$3,0)) -> 20 | FY9: =IF(ISNA(FY$3),0,ROUND(INDEX(旅遊不便費率!$B$5:$CA$184,$A9,FY$3)*$A$3,0)) -> 61 | FZ9: =SUM(FL9:FY9) -> 1035 | GA9: =IF(ISNA(GA$56),0,ROUND(INDEX(INDIRECT(GA$55),$A9,GA$56)*$A$2,0)) -> 269 | GD9: =ROUND(VLOOKUP(GD$3,費率表彙總!$F$4:$G$404,2,FALSE)*$B9*$A$2,0) -> 0 | GE9: =ROUND(VLOOKUP(GE$3,費率表彙總!$H$4:$I$804,2,FALSE)*$B9*$A$2,0) -> 0 | GF9: =IF(ISNA(GF$56),0,ROUND(INDEX(實支實付_總保費!$B$4:$AE$183,$A9,GF$56)*$A$2,0)) -> 85 | GG9: =IF(ISNA(GG$56),0,ROUND(INDEX(重大燒燙傷_總保費!$B$4:$AE$183,$A9,GG$56)*$A$2,0)) -> 5 | GH9: =IF(GH$3<>0,MAX(1,ROUND(VLOOKUP(GH$3,費率表彙總!$L$4:$O$34,2,FALSE)*$B9*$A$2,0))+MAX(1,ROUND(INDEX(海突甲門診_總保費!$B$4:$GS$183,$A9,GH$56)*$A$2,0)+MAX(1,ROUND(INDEX(海突甲急診_總保費!$B$4:$GS$183,$A9,GH$56)*$A$2,0),0))) -> FALSE | GI9: =IF(GI$3<>0,MAX(1,ROUND(VLOOKUP(GI$3,費率表彙總!$L$4:$R$34,5,FALSE)*$B9*$A$2,0))+MAX(1,ROUND(INDEX(海突乙門診_總保費!$B$4:$GS$183,$A9,GI$56)*$A$2,0)+MAX(1,ROUND(INDEX(海突乙急診_總保費!$B$4:$GS$183,$A9,GI$56)*$A$2,0),0))) -> 449 | GJ9: =ROUND(VLOOKUP(GJ$3,費率表彙總!$S$4:$T$34,2,FALSE)*$B9*$A$2,0) -> 0 | GK9: =IF(ISNA(GK$3),0,ROUND(INDEX(旅遊不便費率!$B$5:$CA$184,$A9,GK$3)*$A$3,0)) -> 51 | GL9: =IF(ISNA(GL$3),0,ROUND(INDEX(旅遊不便費率!$B$5:$CA$184,$A9,GL$3)*$A$3,0)) -> 405 | GM9: =IF(ISNA(GM$3),0,ROUND(INDEX(旅遊不便費率!$B$5:$CA$184,$A9,GM$3)*$A$3,0)) -> 20 | GN9: =IF(ISNA(GN$3),0,ROUND(INDEX(旅遊不便費率!$B$5:$CA$184,$A9,GN$3)*$A$3,0)) -> 61 | GO9: =SUM(GA9:GN9) -> 1345 | GP9: =IF(ISNA(GP$56),0,ROUND(INDEX(INDIRECT(GP$55),$A9,GP$56)*$A$2,0)) -> 269 | GS9: =ROUND(VLOOKUP(GS$3,費率表彙總!$F$4:$G$404,2,FALSE)*$B9*$A$2,0) -> 0 | GT9: =ROUND(VLOOKUP(GT$3,費率表彙總!$H$4:$I$804,2,FALSE)*$B9*$A$2,0) -> 0 | GU9: =IF(ISNA(GU$56),0,ROUND(INDEX(實支實付_總保費!$B$4:$AE$183,$A9,GU$56)*$A$2,0)) -> 171 | GV9: =IF(ISNA(GV$56),0,ROUND(INDEX(重大燒燙傷_總保費!$B$4:$AE$183,$A9,GV$56)*$A$2,0)) -> 10 | GW9: =IF(GW$3<>0,MAX(1,ROUND(VLOOKUP(GW$3,費率表彙總!$L$4:$O$34,2,FALSE)*$B9*$A$2,0))+MAX(1,ROUND(INDEX(海突甲門診_總保費!$B$4:$GS$183,$A9,GW$56)*$A$2,0)+MAX(1,ROUND(INDEX(海突甲急診_總保費!$B$4:$GS$183,$A9,GW$56)*$A$2,0),0))) -> FALSE | GX9: =IF(GX$3<>0,MAX(1,ROUND(VLOOKUP(GX$3,費率表彙總!$L$4:$R$34,5,FALSE)*$B9*$A$2,0))+MAX(1,ROUND(INDEX(海突乙門診_總保費!$B$4:$GS$183,$A9,GX$56)*$A$2,0)+MAX(1,ROUND(INDEX(海突乙急診_總保費!$B$4:$GS$183,$A9,GX$56)*$A$2,0),0))) -> 282 | GY9: =ROUND(VLOOKUP(GY$3,費率表彙總!$S$4:$T$34,2,FALSE)*$B9*$A$2,0) -> 0 | GZ9: =IF(ISNA(GZ$3),0,ROUND(INDEX(旅遊不便費率!$B$5:$CA$184,$A9,GZ$3)*$A$3,0)) -> 51 | HA9: =IF(ISNA(HA$3),0,ROUND(INDEX(旅遊不便費率!$B$5:$CA$184,$A9,HA$3)*$A$3,0)) -> 405 | HB9: =IF(ISNA(HB$3),0,ROUND(INDEX(旅遊不便費率!$B$5:$CA$184,$A9,HB$3)*$A$3,0)) -> 20 | HC9: =IF(ISNA(HC$3),0,ROUND(INDEX(旅遊不便費率!$B$5:$CA$184,$A9,HC$3)*$A$3,0)) -> 61 | HD9: =SUM(GP9:HC9) -> 1269 | HE9: =IF(ISNA(HE$56),0,ROUND(INDEX(INDIRECT(HE$55),$A9,HE$56)*$A$2,0)) -> 269 | HH9: =ROUND(VLOOKUP(HH$3,費率表彙總!$F$4:$G$404,2,FALSE)*$B9*$A$2,0) -> 0 | HI9: =ROUND(VLOOKUP(HI$3,費率表彙總!$H$4:$I$804,2,FALSE)*$B9*$A$2,0) -> 0 | HJ9: =IF(ISNA(HJ$56),0,ROUND(INDEX(實支實付_總保費!$B$4:$AE$183,$A9,HJ$56)*$A$2,0)) -> 171 | HK9: =IF(ISNA(HK$56),0,ROUND(INDEX(重大燒燙傷_總保費!$B$4:$AE$183,$A9,HK$56)*$A$2,0)) -> 10 | HL9: =IF(HL$3<>0,MAX(1,ROUND(VLOOKUP(HL$3,費率表彙總!$L$4:$O$34,2,FALSE)*$B9*$A$2,0))+MAX(1,ROUND(INDEX(海突甲門診_總保費!$B$4:$GS$183,$A9,HL$56)*$A$2,0)+MAX(1,ROUND(INDEX(海突甲急診_總保費!$B$4:$GS$183,$A9,HL$56)*$A$2,0),0))) -> FALSE | HM9: =IF(HM$3<>0,MAX(1,ROUND(VLOOKUP(HM$3,費率表彙總!$L$4:$R$34,5,FALSE)*$B9*$A$2,0))+MAX(1,ROUND(INDEX(海突乙門診_總保費!$B$4:$GS$183,$A9,HM$56)*$A$2,0)+MAX(1,ROUND(INDEX(海突乙急診_總保費!$B$4:$GS$183,$A9,HM$56)*$A$2,0),0))) -> 282 | HN9: =ROUND(VLOOKUP(HN$3,費率表彙總!$S$4:$T$34,2,FALSE)*$B9*$A$2,0) -> 0 | HO9: =IF(ISNA(HO$3),0,ROUND(INDEX(旅遊不便費率!$B$5:$CA$184,$A9,HO$3)*$A$3,0)) -> 51 | HP9: =IF(ISNA(HP$3),0,ROUND(INDEX(旅遊不便費率!$B$5:$CA$184,$A9,HP$3)*$A$3,0)) -> 405 | HQ9: =IF(ISNA(HQ$3),0,ROUND(INDEX(旅遊不便費率!$B$5:$CA$184,$A9,HQ$3)*$A$3,0)) -> 20 | HR9: =IF(ISNA(HR$3),0,ROUND(INDEX(旅遊不便費率!$B$5:$CA$184,$A9,HR$3)*$A$3,0)) -> 61 | HS9: =SUM(HE9:HR9) -> 1269
A10: 6 | B10: =VLOOKUP(A10,費率表彙總!$A$4:$B$183,2,FALSE) -> 0.175 | C10: =IF(ISNA(C$56),0,ROUND(INDEX(INDIRECT(C$55),$A10,C$56)*$A$2,0)) -> 174 | F10: =ROUND(VLOOKUP(F$3,費率表彙總!$F$4:$G$404,2,FALSE)*$B10*$A$2,0) -> 0 | G10: =ROUND(VLOOKUP(G$3,費率表彙總!$H$4:$I$804,2,FALSE)*$B10*$A$2,0) -> 0 | H10: =IF(ISNA(H$56),0,ROUND(INDEX(實支實付_總保費!$B$4:$AE$183,$A10,H$56)*$A$2,0)) -> 0 | I10: =IF(ISNA(I$56),0,ROUND(INDEX(重大燒燙傷_總保費!$B$4:$AE$183,$A10,I$56)*$A$2,0)) -> 0 | J10: =IF(J$3<>0,MAX(1,ROUND(VLOOKUP(J$3,費率表彙總!$L$4:$O$34,2,FALSE)*$B10*$A$2,0))+MAX(1,ROUND(INDEX(海突甲門診_總保費!$B$4:$GS$183,$A10,J$56)*$A$2,0)+MAX(1,ROUND(INDEX(海突甲急診_總保費!$B$4:$GS$183,$A10,J$56)*$A$2,0),0))) -> FALSE | K10: =IF(K$3<>0,MAX(1,ROUND(VLOOKUP(K$3,費率表彙總!$L$4:$R$34,5,FALSE)*$B10*$A$2,0))+MAX(1,ROUND(INDEX(海突乙門診_總保費!$B$4:$GS$183,$A10,K$56)*$A$2,0)+MAX(1,ROUND(INDEX(海突乙急診_總保費!$B$4:$GS$183,$A10,K$56)*$A$2,0),0))) -> 160 | L10: =ROUND(VLOOKUP(L$3,費率表彙總!$S$4:$T$34,2,FALSE)*$B10*$A$2,0) -> 0 | M10: =IF(ISNA(M$3),0,ROUND(INDEX(旅遊不便費率!$B$5:$CA$184,$A10,M$3)*$A$3,0)) -> 0 | N10: =IF(ISNA(N$3),0,ROUND(INDEX(旅遊不便費率!$B$5:$CA$184,$A10,N$3)*$A$3,0)) -> 0 | O10: =IF(ISNA(O$3),0,ROUND(INDEX(旅遊不便費率!$B$5:$CA$184,$A10,O$3)*$A$3,0)) -> 0 | P10: =IF(ISNA(P$3),0,ROUND(INDEX(旅遊不便費率!$B$5:$CA$184,$A10,P$3)*$A$3,0)) -> 0 | Q10: =SUM(C10:P10) -> 334 | R10: =IF(ISNA(R$56),0,ROUND(INDEX(INDIRECT(R$55),$A10,R$56)*$A$2,0)) -> 174 | U10: =ROUND(VLOOKUP(U$3,費率表彙總!$F$4:$G$404,2,FALSE)*$B10*$A$2,0) -> 0 | V10: =ROUND(VLOOKUP(V$3,費率表彙總!$H$4:$I$804,2,FALSE)*$B10*$A$2,0) -> 0 | W10: =IF(ISNA(W$56),0,ROUND(INDEX(實支實付_總保費!$B$4:$AE$183,$A10,W$56)*$A$2,0)) -> 0 | X10: =IF(ISNA(X$56),0,ROUND(INDEX(重大燒燙傷_總保費!$B$4:$AE$183,$A10,X$56)*$A$2,0)) -> 0 | Y10: =IF(Y$3<>0,MAX(1,ROUND(VLOOKUP(Y$3,費率表彙總!$L$4:$O$34,2,FALSE)*$B10*$A$2,0))+MAX(1,ROUND(INDEX(海突甲門診_總保費!$B$4:$GS$183,$A10,Y$56)*$A$2,0)+MAX(1,ROUND(INDEX(海突甲急診_總保費!$B$4:$GS$183,$A10,Y$56)*$A$2,0),0))) -> FALSE | Z10: =IF(Z$3<>0,MAX(1,ROUND(VLOOKUP(Z$3,費率表彙總!$L$4:$R$34,5,FALSE)*$B10*$A$2,0))+MAX(1,ROUND(INDEX(海突乙門診_總保費!$B$4:$GS$183,$A10,Z$56)*$A$2,0)+MAX(1,ROUND(INDEX(海突乙急診_總保費!$B$4:$GS$183,$A10,Z$56)*$A$2,0),0))) -> 160 | AA10: =ROUND(VLOOKUP(AA$3,費率表彙總!$S$4:$T$34,2,FALSE)*$B10*$A$2,0) -> 0 | AB10: =IF(ISNA(AB$3),0,ROUND(INDEX(旅遊不便費率!$B$5:$CA$184,$A10,AB$3)*$A$3,0)) -> 0 | AC10: =IF(ISNA(AC$3),0,ROUND(INDEX(旅遊不便費率!$B$5:$CA$184,$A10,AC$3)*$A$3,0)) -> 0 | AD10: =IF(ISNA(AD$3),0,ROUND(INDEX(旅遊不便費率!$B$5:$CA$184,$A10,AD$3)*$A$3,0)) -> 0 | AE10: =IF(ISNA(AE$3),0,ROUND(INDEX(旅遊不便費率!$B$5:$CA$184,$A10,AE$3)*$A$3,0)) -> 0 | AF10: =SUM(R10:AE10) -> 334 | AG10: =IF(ISNA(AG$56),0,ROUND(INDEX(INDIRECT(AG$55),$A10,AG$56)*$A$2,0)) -> 290 | AJ10: =ROUND(VLOOKUP(AJ$3,費率表彙總!$F$4:$G$404,2,FALSE)*$B10*$A$2,0) -> 0 | AK10: =ROUND(VLOOKUP(AK$3,費率表彙總!$H$4:$I$804,2,FALSE)*$B10*$A$2,0) -> 0 | AL10: =IF(ISNA(AL$56),0,ROUND(INDEX(實支實付_總保費!$B$4:$AE$183,$A10,AL$56)*$A$2,0)) -> 0 | AM10: =IF(ISNA(AM$56),0,ROUND(INDEX(重大燒燙傷_總保費!$B$4:$AE$183,$A10,AM$56)*$A$2,0)) -> 0 | AN10: =IF(AN$3<>0,MAX(1,ROUND(VLOOKUP(AN$3,費率表彙總!$L$4:$O$34,2,FALSE)*$B10*$A$2,0))+MAX(1,ROUND(INDEX(海突甲門診_總保費!$B$4:$GS$183,$A10,AN$56)*$A$2,0)+MAX(1,ROUND(INDEX(海突甲急診_總保費!$B$4:$GS$183,$A10,AN$56)*$A$2,0),0))) -> FALSE | AO10: =IF(AO$3<>0,MAX(1,ROUND(VLOOKUP(AO$3,費率表彙總!$L$4:$R$34,5,FALSE)*$B10*$A$2,0))+MAX(1,ROUND(INDEX(海突乙門診_總保費!$B$4:$GS$183,$A10,AO$56)*$A$2,0)+MAX(1,ROUND(INDEX(海突乙急診_總保費!$B$4:$GS$183,$A10,AO$56)*$A$2,0),0))) -> 259 | AP10: =ROUND(VLOOKUP(AP$3,費率表彙總!$S$4:$T$34,2,FALSE)*$B10*$A$2,0) -> 0 | AQ10: =IF(ISNA(AQ$3),0,ROUND(INDEX(旅遊不便費率!$B$5:$CA$184,$A10,AQ$3)*$A$3,0)) -> 0 | AR10: =IF(ISNA(AR$3),0,ROUND(INDEX(旅遊不便費率!$B$5:$CA$184,$A10,AR$3)*$A$3,0)) -> 0 | AS10: =IF(ISNA(AS$3),0,ROUND(INDEX(旅遊不便費率!$B$5:$CA$184,$A10,AS$3)*$A$3,0)) -> 0 | AT10: =IF(ISNA(AT$3),0,ROUND(INDEX(旅遊不便費率!$B$5:$CA$184,$A10,AT$3)*$A$3,0)) -> 0 | AU10: =SUM(AG10:AT10) -> 549 | AV10: =IF(ISNA(AV$56),0,ROUND(INDEX(INDIRECT(AV$55),$A10,AV$56)*$A$2,0)) -> 464 | AY10: =ROUND(VLOOKUP(AY$3,費率表彙總!$F$4:$G$404,2,FALSE)*$B10*$A$2,0) -> 0 | AZ10: =ROUND(VLOOKUP(AZ$3,費率表彙總!$H$4:$I$804,2,FALSE)*$B10*$A$2,0) -> 0 | BA10: =IF(ISNA(BA$56),0,ROUND(INDEX(實支實付_總保費!$B$4:$AE$183,$A10,BA$56)*$A$2,0)) -> 0 | BB10: =IF(ISNA(BB$56),0,ROUND(INDEX(重大燒燙傷_總保費!$B$4:$AE$183,$A10,BB$56)*$A$2,0)) -> 0 | BC10: =IF(BC$3<>0,MAX(1,ROUND(VLOOKUP(BC$3,費率表彙總!$L$4:$O$34,2,FALSE)*$B10*$A$2,0))+MAX(1,ROUND(INDEX(海突甲門診_總保費!$B$4:$GS$183,$A10,BC$56)*$A$2,0)+MAX(1,ROUND(INDEX(海突甲急診_總保費!$B$4:$GS$183,$A10,BC$56)*$A$2,0),0))) -> FALSE | BD10: =IF(BD$3<>0,MAX(1,ROUND(VLOOKUP(BD$3,費率表彙總!$L$4:$R$34,5,FALSE)*$B10*$A$2,0))+MAX(1,ROUND(INDEX(海突乙門診_總保費!$B$4:$GS$183,$A10,BD$56)*$A$2,0)+MAX(1,ROUND(INDEX(海突乙急診_總保費!$B$4:$GS$183,$A10,BD$56)*$A$2,0),0))) -> 397 | BE10: =ROUND(VLOOKUP(BE$3,費率表彙總!$S$4:$T$34,2,FALSE)*$B10*$A$2,0) -> 0 | BF10: =IF(ISNA(BF$3),0,ROUND(INDEX(旅遊不便費率!$B$5:$CA$184,$A10,BF$3)*$A$3,0)) -> 0 | BG10: =IF(ISNA(BG$3),0,ROUND(INDEX(旅遊不便費率!$B$5:$CA$184,$A10,BG$3)*$A$3,0)) -> 0 | BH10: =IF(ISNA(BH$3),0,ROUND(INDEX(旅遊不便費率!$B$5:$CA$184,$A10,BH$3)*$A$3,0)) -> 0 | BI10: =IF(ISNA(BI$3),0,ROUND(INDEX(旅遊不便費率!$B$5:$CA$184,$A10,BI$3)*$A$3,0)) -> 0 | BJ10: =SUM(AV10:BI10) -> 861 | BK10: =IF(ISNA(BK$56),0,ROUND(INDEX(INDIRECT(BK$55),$A10,BK$56)*$A$2,0)) -> 580 | BN10: =ROUND(VLOOKUP(BN$3,費率表彙總!$F$4:$G$404,2,FALSE)*$B10*$A$2,0) -> 0 | BO10: =ROUND(VLOOKUP(BO$3,費率表彙總!$H$4:$I$804,2,FALSE)*$B10*$A$2,0) -> 0 | BP10: =IF(ISNA(BP$56),0,ROUND(INDEX(實支實付_總保費!$B$4:$AE$183,$A10,BP$56)*$A$2,0)) -> 0 | BQ10: =IF(ISNA(BQ$56),0,ROUND(INDEX(重大燒燙傷_總保費!$B$4:$AE$183,$A10,BQ$56)*$A$2,0)) -> 0 | BR10: =IF(BR$3<>0,MAX(1,ROUND(VLOOKUP(BR$3,費率表彙總!$L$4:$O$34,2,FALSE)*$B10*$A$2,0))+MAX(1,ROUND(INDEX(海突甲門診_總保費!$B$4:$GS$183,$A10,BR$56)*$A$2,0)+MAX(1,ROUND(INDEX(海突甲急診_總保費!$B$4:$GS$183,$A10,BR$56)*$A$2,0),0))) -> FALSE | BS10: =IF(BS$3<>0,MAX(1,ROUND(VLOOKUP(BS$3,費率表彙總!$L$4:$R$34,5,FALSE)*$B10*$A$2,0))+MAX(1,ROUND(INDEX(海突乙門診_總保費!$B$4:$GS$183,$A10,BS$56)*$A$2,0)+MAX(1,ROUND(INDEX(海突乙急診_總保費!$B$4:$GS$183,$A10,BS$56)*$A$2,0),0))) -> 485 | BT10: =ROUND(VLOOKUP(BT$3,費率表彙總!$S$4:$T$34,2,FALSE)*$B10*$A$2,0) -> 0 | BU10: =IF(ISNA(BU$3),0,ROUND(INDEX(旅遊不便費率!$B$5:$CA$184,$A10,BU$3)*$A$3,0)) -> 0 | BV10: =IF(ISNA(BV$3),0,ROUND(INDEX(旅遊不便費率!$B$5:$CA$184,$A10,BV$3)*$A$3,0)) -> 0 | BW10: =IF(ISNA(BW$3),0,ROUND(INDEX(旅遊不便費率!$B$5:$CA$184,$A10,BW$3)*$A$3,0)) -> 0 | BX10: =IF(ISNA(BX$3),0,ROUND(INDEX(旅遊不便費率!$B$5:$CA$184,$A10,BX$3)*$A$3,0)) -> 0 | BY10: =SUM(BK10:BX10) -> 1065 | BZ10: =IF(ISNA(BZ$56),0,ROUND(INDEX(INDIRECT(BZ$55),$A10,BZ$56)*$A$2,0)) -> 117 | CC10: =ROUND(VLOOKUP(CC$3,費率表彙總!$F$4:$G$404,2,FALSE)*$B10*$A$2,0) -> 0 | CD10: =ROUND(VLOOKUP(CD$3,費率表彙總!$H$4:$I$804,2,FALSE)*$B10*$A$2,0) -> 0 | CE10: =IF(ISNA(CE$56),0,ROUND(INDEX(實支實付_總保費!$B$4:$AE$183,$A10,CE$56)*$A$2,0)) -> 19 | CF10: =IF(ISNA(CF$56),0,ROUND(INDEX(重大燒燙傷_總保費!$B$4:$AE$183,$A10,CF$56)*$A$2,0)) -> 1 | CG10: =IF(CG$3<>0,MAX(1,ROUND(VLOOKUP(CG$3,費率表彙總!$L$4:$O$34,2,FALSE)*$B10*$A$2,0))+MAX(1,ROUND(INDEX(海突甲門診_總保費!$B$4:$GS$183,$A10,CG$56)*$A$2,0)+MAX(1,ROUND(INDEX(海突甲急診_總保費!$B$4:$GS$183,$A10,CG$56)*$A$2,0),0))) -> FALSE | CH10: =IF(CH$3<>0,MAX(1,ROUND(VLOOKUP(CH$3,費率表彙總!$L$4:$R$34,5,FALSE)*$B10*$A$2,0))+MAX(1,ROUND(INDEX(海突乙門診_總保費!$B$4:$GS$183,$A10,CH$56)*$A$2,0)+MAX(1,ROUND(INDEX(海突乙急診_總保費!$B$4:$GS$183,$A10,CH$56)*$A$2,0),0))) -> FALSE | CI10: =ROUND(VLOOKUP(CI$3,費率表彙總!$S$4:$T$34,2,FALSE)*$B10*$A$2,0) -> 0 | CJ10: =IF(ISNA(CJ$3),0,ROUND(INDEX(旅遊不便費率!$B$5:$CA$184,$A10,CJ$3)*$A$3,0)) -> 56 | CK10: =IF(ISNA(CK$3),0,ROUND(INDEX(旅遊不便費率!$B$5:$CA$184,$A10,CK$3)*$A$3,0)) -> 281 | CL10: =IF(ISNA(CL$3),0,ROUND(INDEX(旅遊不便費率!$B$5:$CA$184,$A10,CL$3)*$A$3,0)) -> 10 | CM10: =IF(ISNA(CM$3),0,ROUND(INDEX(旅遊不便費率!$B$5:$CA$184,$A10,CM$3)*$A$3,0)) -> 37 | CN10: =SUM(BZ10:CM10) -> 521 | CO10: =IF(ISNA(CO$56),0,ROUND(INDEX(INDIRECT(CO$55),$A10,CO$56)*$A$2,0)) -> 174 | CR10: =ROUND(VLOOKUP(CR$3,費率表彙總!$F$4:$G$404,2,FALSE)*$B10*$A$2,0) -> 0 | CS10: =ROUND(VLOOKUP(CS$3,費率表彙總!$H$4:$I$804,2,FALSE)*$B10*$A$2,0) -> 0 | CT10: =IF(ISNA(CT$56),0,ROUND(INDEX(實支實付_總保費!$B$4:$AE$183,$A10,CT$56)*$A$2,0)) -> 19 | CU10: =IF(ISNA(CU$56),0,ROUND(INDEX(重大燒燙傷_總保費!$B$4:$AE$183,$A10,CU$56)*$A$2,0)) -> 1 | CV10: =IF(CV$3<>0,MAX(1,ROUND(VLOOKUP(CV$3,費率表彙總!$L$4:$O$34,2,FALSE)*$B10*$A$2,0))+MAX(1,ROUND(INDEX(海突甲門診_總保費!$B$4:$GS$183,$A10,CV$56)*$A$2,0)+MAX(1,ROUND(INDEX(海突甲急診_總保費!$B$4:$GS$183,$A10,CV$56)*$A$2,0),0))) -> FALSE | CW10: =IF(CW$3<>0,MAX(1,ROUND(VLOOKUP(CW$3,費率表彙總!$L$4:$R$34,5,FALSE)*$B10*$A$2,0))+MAX(1,ROUND(INDEX(海突乙門診_總保費!$B$4:$GS$183,$A10,CW$56)*$A$2,0)+MAX(1,ROUND(INDEX(海突乙急診_總保費!$B$4:$GS$183,$A10,CW$56)*$A$2,0),0))) -> FALSE | CX10: =ROUND(VLOOKUP(CX$3,費率表彙總!$S$4:$T$34,2,FALSE)*$B10*$A$2,0) -> 0 | CY10: =IF(ISNA(CY$3),0,ROUND(INDEX(旅遊不便費率!$B$5:$CA$184,$A10,CY$3)*$A$3,0)) -> 56 | CZ10: =IF(ISNA(CZ$3),0,ROUND(INDEX(旅遊不便費率!$B$5:$CA$184,$A10,CZ$3)*$A$3,0)) -> 281 | DA10: =IF(ISNA(DA$3),0,ROUND(INDEX(旅遊不便費率!$B$5:$CA$184,$A10,DA$3)*$A$3,0)) -> 10 | DB10: =IF(ISNA(DB$3),0,ROUND(INDEX(旅遊不便費率!$B$5:$CA$184,$A10,DB$3)*$A$3,0)) -> 37 | DC10: =SUM(CO10:DB10) -> 578 | DD10: =IF(ISNA(DD$56),0,ROUND(INDEX(INDIRECT(DD$55),$A10,DD$56)*$A$2,0)) -> 290 | DG10: =ROUND(VLOOKUP(DG$3,費率表彙總!$F$4:$G$404,2,FALSE)*$B10*$A$2,0) -> 0 | DH10: =ROUND(VLOOKUP(DH$3,費率表彙總!$H$4:$I$804,2,FALSE)*$B10*$A$2,0) -> 0 | DI10: =IF(ISNA(DI$56),0,ROUND(INDEX(實支實付_總保費!$B$4:$AE$183,$A10,DI$56)*$A$2,0)) -> 19 | DJ10: =IF(ISNA(DJ$56),0,ROUND(INDEX(重大燒燙傷_總保費!$B$4:$AE$183,$A10,DJ$56)*$A$2,0)) -> 1 | DK10: =IF(DK$3<>0,MAX(1,ROUND(VLOOKUP(DK$3,費率表彙總!$L$4:$O$34,2,FALSE)*$B10*$A$2,0))+MAX(1,ROUND(INDEX(海突甲門診_總保費!$B$4:$GS$183,$A10,DK$56)*$A$2,0)+MAX(1,ROUND(INDEX(海突甲急診_總保費!$B$4:$GS$183,$A10,DK$56)*$A$2,0),0))) -> FALSE | DL10: =IF(DL$3<>0,MAX(1,ROUND(VLOOKUP(DL$3,費率表彙總!$L$4:$R$34,5,FALSE)*$B10*$A$2,0))+MAX(1,ROUND(INDEX(海突乙門診_總保費!$B$4:$GS$183,$A10,DL$56)*$A$2,0)+MAX(1,ROUND(INDEX(海突乙急診_總保費!$B$4:$GS$183,$A10,DL$56)*$A$2,0),0))) -> FALSE | DM10: =ROUND(VLOOKUP(DM$3,費率表彙總!$S$4:$T$34,2,FALSE)*$B10*$A$2,0) -> 0 | DN10: =IF(ISNA(DN$3),0,ROUND(INDEX(旅遊不便費率!$B$5:$CA$184,$A10,DN$3)*$A$3,0)) -> 56 | DO10: =IF(ISNA(DO$3),0,ROUND(INDEX(旅遊不便費率!$B$5:$CA$184,$A10,DO$3)*$A$3,0)) -> 281 | DP10: =IF(ISNA(DP$3),0,ROUND(INDEX(旅遊不便費率!$B$5:$CA$184,$A10,DP$3)*$A$3,0)) -> 10 | DQ10: =IF(ISNA(DQ$3),0,ROUND(INDEX(旅遊不便費率!$B$5:$CA$184,$A10,DQ$3)*$A$3,0)) -> 37 | DR10: =SUM(DD10:DQ10) -> 694 | DS10: =IF(ISNA(DS$56),0,ROUND(INDEX(INDIRECT(DS$55),$A10,DS$56)*$A$2,0)) -> 464 | DV10: =ROUND(VLOOKUP(DV$3,費率表彙總!$F$4:$G$404,2,FALSE)*$B10*$A$2,0) -> 0 | DW10: =ROUND(VLOOKUP(DW$3,費率表彙總!$H$4:$I$804,2,FALSE)*$B10*$A$2,0) -> 0 | DX10: =IF(ISNA(DX$56),0,ROUND(INDEX(實支實付_總保費!$B$4:$AE$183,$A10,DX$56)*$A$2,0)) -> 19 | DY10: =IF(ISNA(DY$56),0,ROUND(INDEX(重大燒燙傷_總保費!$B$4:$AE$183,$A10,DY$56)*$A$2,0)) -> 1 | DZ10: =IF(DZ$3<>0,MAX(1,ROUND(VLOOKUP(DZ$3,費率表彙總!$L$4:$O$34,2,FALSE)*$B10*$A$2,0))+MAX(1,ROUND(INDEX(海突甲門診_總保費!$B$4:$GS$183,$A10,DZ$56)*$A$2,0)+MAX(1,ROUND(INDEX(海突甲急診_總保費!$B$4:$GS$183,$A10,DZ$56)*$A$2,0),0))) -> FALSE | EA10: =IF(EA$3<>0,MAX(1,ROUND(VLOOKUP(EA$3,費率表彙總!$L$4:$R$34,5,FALSE)*$B10*$A$2,0))+MAX(1,ROUND(INDEX(海突乙門診_總保費!$B$4:$GS$183,$A10,EA$56)*$A$2,0)+MAX(1,ROUND(INDEX(海突乙急診_總保費!$B$4:$GS$183,$A10,EA$56)*$A$2,0),0))) -> FALSE | EB10: =ROUND(VLOOKUP(EB$3,費率表彙總!$S$4:$T$34,2,FALSE)*$B10*$A$2,0) -> 0 | EC10: =IF(ISNA(EC$3),0,ROUND(INDEX(旅遊不便費率!$B$5:$CA$184,$A10,EC$3)*$A$3,0)) -> 56 | ED10: =IF(ISNA(ED$3),0,ROUND(INDEX(旅遊不便費率!$B$5:$CA$184,$A10,ED$3)*$A$3,0)) -> 281 | EE10: =IF(ISNA(EE$3),0,ROUND(INDEX(旅遊不便費率!$B$5:$CA$184,$A10,EE$3)*$A$3,0)) -> 10 | EF10: =IF(ISNA(EF$3),0,ROUND(INDEX(旅遊不便費率!$B$5:$CA$184,$A10,EF$3)*$A$3,0)) -> 37 | EG10: =SUM(DS10:EF10) -> 868 | EH10: =IF(ISNA(EH$56),0,ROUND(INDEX(INDIRECT(EH$55),$A10,EH$56)*$A$2,0)) -> 580 | EK10: =ROUND(VLOOKUP(EK$3,費率表彙總!$F$4:$G$404,2,FALSE)*$B10*$A$2,0) -> 0 | EL10: =ROUND(VLOOKUP(EL$3,費率表彙總!$H$4:$I$804,2,FALSE)*$B10*$A$2,0) -> 0 | EM10: =IF(ISNA(EM$56),0,ROUND(INDEX(實支實付_總保費!$B$4:$AE$183,$A10,EM$56)*$A$2,0)) -> 19 | EN10: =IF(ISNA(EN$56),0,ROUND(INDEX(重大燒燙傷_總保費!$B$4:$AE$183,$A10,EN$56)*$A$2,0)) -> 1 | EO10: =IF(EO$3<>0,MAX(1,ROUND(VLOOKUP(EO$3,費率表彙總!$L$4:$O$34,2,FALSE)*$B10*$A$2,0))+MAX(1,ROUND(INDEX(海突甲門診_總保費!$B$4:$GS$183,$A10,EO$56)*$A$2,0)+MAX(1,ROUND(INDEX(海突甲急診_總保費!$B$4:$GS$183,$A10,EO$56)*$A$2,0),0))) -> FALSE | EP10: =IF(EP$3<>0,MAX(1,ROUND(VLOOKUP(EP$3,費率表彙總!$L$4:$R$34,5,FALSE)*$B10*$A$2,0))+MAX(1,ROUND(INDEX(海突乙門診_總保費!$B$4:$GS$183,$A10,EP$56)*$A$2,0)+MAX(1,ROUND(INDEX(海突乙急診_總保費!$B$4:$GS$183,$A10,EP$56)*$A$2,0),0))) -> FALSE | EQ10: =ROUND(VLOOKUP(EQ$3,費率表彙總!$S$4:$T$34,2,FALSE)*$B10*$A$2,0) -> 0 | ER10: =IF(ISNA(ER$3),0,ROUND(INDEX(旅遊不便費率!$B$5:$CA$184,$A10,ER$3)*$A$3,0)) -> 56 | ES10: =IF(ISNA(ES$3),0,ROUND(INDEX(旅遊不便費率!$B$5:$CA$184,$A10,ES$3)*$A$3,0)) -> 281 | ET10: =IF(ISNA(ET$3),0,ROUND(INDEX(旅遊不便費率!$B$5:$CA$184,$A10,ET$3)*$A$3,0)) -> 10 | EU10: =IF(ISNA(EU$3),0,ROUND(INDEX(旅遊不便費率!$B$5:$CA$184,$A10,EU$3)*$A$3,0)) -> 37 | EV10: =SUM(EH10:EU10) -> 984 | EW10: =IF(ISNA(EW$56),0,ROUND(INDEX(INDIRECT(EW$55),$A10,EW$56)*$A$2,0)) -> 406 | EZ10: =ROUND(VLOOKUP(EZ$3,費率表彙總!$F$4:$G$404,2,FALSE)*$B10*$A$2,0) -> 0 | FA10: =ROUND(VLOOKUP(FA$3,費率表彙總!$H$4:$I$804,2,FALSE)*$B10*$A$2,0) -> 0 | FB10: =IF(ISNA(FB$56),0,ROUND(INDEX(實支實付_總保費!$B$4:$AE$183,$A10,FB$56)*$A$2,0)) -> 276 | FC10: =IF(ISNA(FC$56),0,ROUND(INDEX(重大燒燙傷_總保費!$B$4:$AE$183,$A10,FC$56)*$A$2,0)) -> 16 | FD10: =IF(FD$3<>0,MAX(1,ROUND(VLOOKUP(FD$3,費率表彙總!$L$4:$O$34,2,FALSE)*$B10*$A$2,0))+MAX(1,ROUND(INDEX(海突甲門診_總保費!$B$4:$GS$183,$A10,FD$56)*$A$2,0)+MAX(1,ROUND(INDEX(海突甲急診_總保費!$B$4:$GS$183,$A10,FD$56)*$A$2,0),0))) -> FALSE | FE10: =IF(FE$3<>0,MAX(1,ROUND(VLOOKUP(FE$3,費率表彙總!$L$4:$R$34,5,FALSE)*$B10*$A$2,0))+MAX(1,ROUND(INDEX(海突乙門診_總保費!$B$4:$GS$183,$A10,FE$56)*$A$2,0)+MAX(1,ROUND(INDEX(海突乙急診_總保費!$B$4:$GS$183,$A10,FE$56)*$A$2,0),0))) -> 581 | FF10: =ROUND(VLOOKUP(FF$3,費率表彙總!$S$4:$T$34,2,FALSE)*$B10*$A$2,0) -> 0 | FG10: =IF(ISNA(FG$3),0,ROUND(INDEX(旅遊不便費率!$B$5:$CA$184,$A10,FG$3)*$A$3,0)) -> 56 | FH10: =IF(ISNA(FH$3),0,ROUND(INDEX(旅遊不便費率!$B$5:$CA$184,$A10,FH$3)*$A$3,0)) -> 437 | FI10: =IF(ISNA(FI$3),0,ROUND(INDEX(旅遊不便費率!$B$5:$CA$184,$A10,FI$3)*$A$3,0)) -> 22 | FJ10: =IF(ISNA(FJ$3),0,ROUND(INDEX(旅遊不便費率!$B$5:$CA$184,$A10,FJ$3)*$A$3,0)) -> 68 | FK10: =SUM(EW10:FJ10) -> 1862 | FL10: =IF(ISNA(FL$56),0,ROUND(INDEX(INDIRECT(FL$55),$A10,FL$56)*$A$2,0)) -> 174 | FO10: =ROUND(VLOOKUP(FO$3,費率表彙總!$F$4:$G$404,2,FALSE)*$B10*$A$2,0) -> 0 | FP10: =ROUND(VLOOKUP(FP$3,費率表彙總!$H$4:$I$804,2,FALSE)*$B10*$A$2,0) -> 0 | FQ10: =IF(ISNA(FQ$56),0,ROUND(INDEX(實支實付_總保費!$B$4:$AE$183,$A10,FQ$56)*$A$2,0)) -> 56 | FR10: =IF(ISNA(FR$56),0,ROUND(INDEX(重大燒燙傷_總保費!$B$4:$AE$183,$A10,FR$56)*$A$2,0)) -> 4 | FS10: =IF(FS$3<>0,MAX(1,ROUND(VLOOKUP(FS$3,費率表彙總!$L$4:$O$34,2,FALSE)*$B10*$A$2,0))+MAX(1,ROUND(INDEX(海突甲門診_總保費!$B$4:$GS$183,$A10,FS$56)*$A$2,0)+MAX(1,ROUND(INDEX(海突甲急診_總保費!$B$4:$GS$183,$A10,FS$56)*$A$2,0),0))) -> FALSE | FT10: =IF(FT$3<>0,MAX(1,ROUND(VLOOKUP(FT$3,費率表彙總!$L$4:$R$34,5,FALSE)*$B10*$A$2,0))+MAX(1,ROUND(INDEX(海突乙門診_總保費!$B$4:$GS$183,$A10,FT$56)*$A$2,0)+MAX(1,ROUND(INDEX(海突乙急診_總保費!$B$4:$GS$183,$A10,FT$56)*$A$2,0),0))) -> 305 | FU10: =ROUND(VLOOKUP(FU$3,費率表彙總!$S$4:$T$34,2,FALSE)*$B10*$A$2,0) -> 0 | FV10: =IF(ISNA(FV$3),0,ROUND(INDEX(旅遊不便費率!$B$5:$CA$184,$A10,FV$3)*$A$3,0)) -> 56 | FW10: =IF(ISNA(FW$3),0,ROUND(INDEX(旅遊不便費率!$B$5:$CA$184,$A10,FW$3)*$A$3,0)) -> 437 | FX10: =IF(ISNA(FX$3),0,ROUND(INDEX(旅遊不便費率!$B$5:$CA$184,$A10,FX$3)*$A$3,0)) -> 22 | FY10: =IF(ISNA(FY$3),0,ROUND(INDEX(旅遊不便費率!$B$5:$CA$184,$A10,FY$3)*$A$3,0)) -> 68 | FZ10: =SUM(FL10:FY10) -> 1122 | GA10: =IF(ISNA(GA$56),0,ROUND(INDEX(INDIRECT(GA$55),$A10,GA$56)*$A$2,0)) -> 290 | GD10: =ROUND(VLOOKUP(GD$3,費率表彙總!$F$4:$G$404,2,FALSE)*$B10*$A$2,0) -> 0 | GE10: =ROUND(VLOOKUP(GE$3,費率表彙總!$H$4:$I$804,2,FALSE)*$B10*$A$2,0) -> 0 | GF10: =IF(ISNA(GF$56),0,ROUND(INDEX(實支實付_總保費!$B$4:$AE$183,$A10,GF$56)*$A$2,0)) -> 92 | GG10: =IF(ISNA(GG$56),0,ROUND(INDEX(重大燒燙傷_總保費!$B$4:$AE$183,$A10,GG$56)*$A$2,0)) -> 6 | GH10: =IF(GH$3<>0,MAX(1,ROUND(VLOOKUP(GH$3,費率表彙總!$L$4:$O$34,2,FALSE)*$B10*$A$2,0))+MAX(1,ROUND(INDEX(海突甲門診_總保費!$B$4:$GS$183,$A10,GH$56)*$A$2,0)+MAX(1,ROUND(INDEX(海突甲急診_總保費!$B$4:$GS$183,$A10,GH$56)*$A$2,0),0))) -> FALSE | GI10: =IF(GI$3<>0,MAX(1,ROUND(VLOOKUP(GI$3,費率表彙總!$L$4:$R$34,5,FALSE)*$B10*$A$2,0))+MAX(1,ROUND(INDEX(海突乙門診_總保費!$B$4:$GS$183,$A10,GI$56)*$A$2,0)+MAX(1,ROUND(INDEX(海突乙急診_總保費!$B$4:$GS$183,$A10,GI$56)*$A$2,0),0))) -> 485 | GJ10: =ROUND(VLOOKUP(GJ$3,費率表彙總!$S$4:$T$34,2,FALSE)*$B10*$A$2,0) -> 0 | GK10: =IF(ISNA(GK$3),0,ROUND(INDEX(旅遊不便費率!$B$5:$CA$184,$A10,GK$3)*$A$3,0)) -> 56 | GL10: =IF(ISNA(GL$3),0,ROUND(INDEX(旅遊不便費率!$B$5:$CA$184,$A10,GL$3)*$A$3,0)) -> 437 | GM10: =IF(ISNA(GM$3),0,ROUND(INDEX(旅遊不便費率!$B$5:$CA$184,$A10,GM$3)*$A$3,0)) -> 22 | GN10: =IF(ISNA(GN$3),0,ROUND(INDEX(旅遊不便費率!$B$5:$CA$184,$A10,GN$3)*$A$3,0)) -> 68 | GO10: =SUM(GA10:GN10) -> 1456 | GP10: =IF(ISNA(GP$56),0,ROUND(INDEX(INDIRECT(GP$55),$A10,GP$56)*$A$2,0)) -> 290 | GS10: =ROUND(VLOOKUP(GS$3,費率表彙總!$F$4:$G$404,2,FALSE)*$B10*$A$2,0) -> 0 | GT10: =ROUND(VLOOKUP(GT$3,費率表彙總!$H$4:$I$804,2,FALSE)*$B10*$A$2,0) -> 0 | GU10: =IF(ISNA(GU$56),0,ROUND(INDEX(實支實付_總保費!$B$4:$AE$183,$A10,GU$56)*$A$2,0)) -> 185 | GV10: =IF(ISNA(GV$56),0,ROUND(INDEX(重大燒燙傷_總保費!$B$4:$AE$183,$A10,GV$56)*$A$2,0)) -> 11 | GW10: =IF(GW$3<>0,MAX(1,ROUND(VLOOKUP(GW$3,費率表彙總!$L$4:$O$34,2,FALSE)*$B10*$A$2,0))+MAX(1,ROUND(INDEX(海突甲門診_總保費!$B$4:$GS$183,$A10,GW$56)*$A$2,0)+MAX(1,ROUND(INDEX(海突甲急診_總保費!$B$4:$GS$183,$A10,GW$56)*$A$2,0),0))) -> FALSE | GX10: =IF(GX$3<>0,MAX(1,ROUND(VLOOKUP(GX$3,費率表彙總!$L$4:$R$34,5,FALSE)*$B10*$A$2,0))+MAX(1,ROUND(INDEX(海突乙門診_總保費!$B$4:$GS$183,$A10,GX$56)*$A$2,0)+MAX(1,ROUND(INDEX(海突乙急診_總保費!$B$4:$GS$183,$A10,GX$56)*$A$2,0),0))) -> 305 | GY10: =ROUND(VLOOKUP(GY$3,費率表彙總!$S$4:$T$34,2,FALSE)*$B10*$A$2,0) -> 0 | GZ10: =IF(ISNA(GZ$3),0,ROUND(INDEX(旅遊不便費率!$B$5:$CA$184,$A10,GZ$3)*$A$3,0)) -> 56 | HA10: =IF(ISNA(HA$3),0,ROUND(INDEX(旅遊不便費率!$B$5:$CA$184,$A10,HA$3)*$A$3,0)) -> 437 | HB10: =IF(ISNA(HB$3),0,ROUND(INDEX(旅遊不便費率!$B$5:$CA$184,$A10,HB$3)*$A$3,0)) -> 22 | HC10: =IF(ISNA(HC$3),0,ROUND(INDEX(旅遊不便費率!$B$5:$CA$184,$A10,HC$3)*$A$3,0)) -> 68 | HD10: =SUM(GP10:HC10) -> 1374 | HE10: =IF(ISNA(HE$56),0,ROUND(INDEX(INDIRECT(HE$55),$A10,HE$56)*$A$2,0)) -> 290 | HH10: =ROUND(VLOOKUP(HH$3,費率表彙總!$F$4:$G$404,2,FALSE)*$B10*$A$2,0) -> 0 | HI10: =ROUND(VLOOKUP(HI$3,費率表彙總!$H$4:$I$804,2,FALSE)*$B10*$A$2,0) -> 0 | HJ10: =IF(ISNA(HJ$56),0,ROUND(INDEX(實支實付_總保費!$B$4:$AE$183,$A10,HJ$56)*$A$2,0)) -> 185 | HK10: =IF(ISNA(HK$56),0,ROUND(INDEX(重大燒燙傷_總保費!$B$4:$AE$183,$A10,HK$56)*$A$2,0)) -> 11 | HL10: =IF(HL$3<>0,MAX(1,ROUND(VLOOKUP(HL$3,費率表彙總!$L$4:$O$34,2,FALSE)*$B10*$A$2,0))+MAX(1,ROUND(INDEX(海突甲門診_總保費!$B$4:$GS$183,$A10,HL$56)*$A$2,0)+MAX(1,ROUND(INDEX(海突甲急診_總保費!$B$4:$GS$183,$A10,HL$56)*$A$2,0),0))) -> FALSE | HM10: =IF(HM$3<>0,MAX(1,ROUND(VLOOKUP(HM$3,費率表彙總!$L$4:$R$34,5,FALSE)*$B10*$A$2,0))+MAX(1,ROUND(INDEX(海突乙門診_總保費!$B$4:$GS$183,$A10,HM$56)*$A$2,0)+MAX(1,ROUND(INDEX(海突乙急診_總保費!$B$4:$GS$183,$A10,HM$56)*$A$2,0),0))) -> 305 | HN10: =ROUND(VLOOKUP(HN$3,費率表彙總!$S$4:$T$34,2,FALSE)*$B10*$A$2,0) -> 0 | HO10: =IF(ISNA(HO$3),0,ROUND(INDEX(旅遊不便費率!$B$5:$CA$184,$A10,HO$3)*$A$3,0)) -> 56 | HP10: =IF(ISNA(HP$3),0,ROUND(INDEX(旅遊不便費率!$B$5:$CA$184,$A10,HP$3)*$A$3,0)) -> 437 | HQ10: =IF(ISNA(HQ$3),0,ROUND(INDEX(旅遊不便費率!$B$5:$CA$184,$A10,HQ$3)*$A$3,0)) -> 22 | HR10: =IF(ISNA(HR$3),0,ROUND(INDEX(旅遊不便費率!$B$5:$CA$184,$A10,HR$3)*$A$3,0)) -> 68 | HS10: =SUM(HE10:HR10) -> 1374
A11: 7 | B11: =VLOOKUP(A11,費率表彙總!$A$4:$B$183,2,FALSE) -> 0.187 | C11: =IF(ISNA(C$56),0,ROUND(INDEX(INDIRECT(C$55),$A11,C$56)*$A$2,0)) -> 186 | F11: =ROUND(VLOOKUP(F$3,費率表彙總!$F$4:$G$404,2,FALSE)*$B11*$A$2,0) -> 0 | G11: =ROUND(VLOOKUP(G$3,費率表彙總!$H$4:$I$804,2,FALSE)*$B11*$A$2,0) -> 0 | H11: =IF(ISNA(H$56),0,ROUND(INDEX(實支實付_總保費!$B$4:$AE$183,$A11,H$56)*$A$2,0)) -> 0 | I11: =IF(ISNA(I$56),0,ROUND(INDEX(重大燒燙傷_總保費!$B$4:$AE$183,$A11,I$56)*$A$2,0)) -> 0 | J11: =IF(J$3<>0,MAX(1,ROUND(VLOOKUP(J$3,費率表彙總!$L$4:$O$34,2,FALSE)*$B11*$A$2,0))+MAX(1,ROUND(INDEX(海突甲門診_總保費!$B$4:$GS$183,$A11,J$56)*$A$2,0)+MAX(1,ROUND(INDEX(海突甲急診_總保費!$B$4:$GS$183,$A11,J$56)*$A$2,0),0))) -> FALSE | K11: =IF(K$3<>0,MAX(1,ROUND(VLOOKUP(K$3,費率表彙總!$L$4:$R$34,5,FALSE)*$B11*$A$2,0))+MAX(1,ROUND(INDEX(海突乙門診_總保費!$B$4:$GS$183,$A11,K$56)*$A$2,0)+MAX(1,ROUND(INDEX(海突乙急診_總保費!$B$4:$GS$183,$A11,K$56)*$A$2,0),0))) -> 170 | L11: =ROUND(VLOOKUP(L$3,費率表彙總!$S$4:$T$34,2,FALSE)*$B11*$A$2,0) -> 0 | M11: =IF(ISNA(M$3),0,ROUND(INDEX(旅遊不便費率!$B$5:$CA$184,$A11,M$3)*$A$3,0)) -> 0 | N11: =IF(ISNA(N$3),0,ROUND(INDEX(旅遊不便費率!$B$5:$CA$184,$A11,N$3)*$A$3,0)) -> 0 | O11: =IF(ISNA(O$3),0,ROUND(INDEX(旅遊不便費率!$B$5:$CA$184,$A11,O$3)*$A$3,0)) -> 0 | P11: =IF(ISNA(P$3),0,ROUND(INDEX(旅遊不便費率!$B$5:$CA$184,$A11,P$3)*$A$3,0)) -> 0 | Q11: =SUM(C11:P11) -> 356 | R11: =IF(ISNA(R$56),0,ROUND(INDEX(INDIRECT(R$55),$A11,R$56)*$A$2,0)) -> 186 | U11: =ROUND(VLOOKUP(U$3,費率表彙總!$F$4:$G$404,2,FALSE)*$B11*$A$2,0) -> 0 | V11: =ROUND(VLOOKUP(V$3,費率表彙總!$H$4:$I$804,2,FALSE)*$B11*$A$2,0) -> 0 | W11: =IF(ISNA(W$56),0,ROUND(INDEX(實支實付_總保費!$B$4:$AE$183,$A11,W$56)*$A$2,0)) -> 0 | X11: =IF(ISNA(X$56),0,ROUND(INDEX(重大燒燙傷_總保費!$B$4:$AE$183,$A11,X$56)*$A$2,0)) -> 0 | Y11: =IF(Y$3<>0,MAX(1,ROUND(VLOOKUP(Y$3,費率表彙總!$L$4:$O$34,2,FALSE)*$B11*$A$2,0))+MAX(1,ROUND(INDEX(海突甲門診_總保費!$B$4:$GS$183,$A11,Y$56)*$A$2,0)+MAX(1,ROUND(INDEX(海突甲急診_總保費!$B$4:$GS$183,$A11,Y$56)*$A$2,0),0))) -> FALSE | Z11: =IF(Z$3<>0,MAX(1,ROUND(VLOOKUP(Z$3,費率表彙總!$L$4:$R$34,5,FALSE)*$B11*$A$2,0))+MAX(1,ROUND(INDEX(海突乙門診_總保費!$B$4:$GS$183,$A11,Z$56)*$A$2,0)+MAX(1,ROUND(INDEX(海突乙急診_總保費!$B$4:$GS$183,$A11,Z$56)*$A$2,0),0))) -> 170 | AA11: =ROUND(VLOOKUP(AA$3,費率表彙總!$S$4:$T$34,2,FALSE)*$B11*$A$2,0) -> 0 | AB11: =IF(ISNA(AB$3),0,ROUND(INDEX(旅遊不便費率!$B$5:$CA$184,$A11,AB$3)*$A$3,0)) -> 0 | AC11: =IF(ISNA(AC$3),0,ROUND(INDEX(旅遊不便費率!$B$5:$CA$184,$A11,AC$3)*$A$3,0)) -> 0 | AD11: =IF(ISNA(AD$3),0,ROUND(INDEX(旅遊不便費率!$B$5:$CA$184,$A11,AD$3)*$A$3,0)) -> 0 | AE11: =IF(ISNA(AE$3),0,ROUND(INDEX(旅遊不便費率!$B$5:$CA$184,$A11,AE$3)*$A$3,0)) -> 0 | AF11: =SUM(R11:AE11) -> 356 | AG11: =IF(ISNA(AG$56),0,ROUND(INDEX(INDIRECT(AG$55),$A11,AG$56)*$A$2,0)) -> 311 | AJ11: =ROUND(VLOOKUP(AJ$3,費率表彙總!$F$4:$G$404,2,FALSE)*$B11*$A$2,0) -> 0 | AK11: =ROUND(VLOOKUP(AK$3,費率表彙總!$H$4:$I$804,2,FALSE)*$B11*$A$2,0) -> 0 | AL11: =IF(ISNA(AL$56),0,ROUND(INDEX(實支實付_總保費!$B$4:$AE$183,$A11,AL$56)*$A$2,0)) -> 0 | AM11: =IF(ISNA(AM$56),0,ROUND(INDEX(重大燒燙傷_總保費!$B$4:$AE$183,$A11,AM$56)*$A$2,0)) -> 0 | AN11: =IF(AN$3<>0,MAX(1,ROUND(VLOOKUP(AN$3,費率表彙總!$L$4:$O$34,2,FALSE)*$B11*$A$2,0))+MAX(1,ROUND(INDEX(海突甲門診_總保費!$B$4:$GS$183,$A11,AN$56)*$A$2,0)+MAX(1,ROUND(INDEX(海突甲急診_總保費!$B$4:$GS$183,$A11,AN$56)*$A$2,0),0))) -> FALSE | AO11: =IF(AO$3<>0,MAX(1,ROUND(VLOOKUP(AO$3,費率表彙總!$L$4:$R$34,5,FALSE)*$B11*$A$2,0))+MAX(1,ROUND(INDEX(海突乙門診_總保費!$B$4:$GS$183,$A11,AO$56)*$A$2,0)+MAX(1,ROUND(INDEX(海突乙急診_總保費!$B$4:$GS$183,$A11,AO$56)*$A$2,0),0))) -> 276 | AP11: =ROUND(VLOOKUP(AP$3,費率表彙總!$S$4:$T$34,2,FALSE)*$B11*$A$2,0) -> 0 | AQ11: =IF(ISNA(AQ$3),0,ROUND(INDEX(旅遊不便費率!$B$5:$CA$184,$A11,AQ$3)*$A$3,0)) -> 0 | AR11: =IF(ISNA(AR$3),0,ROUND(INDEX(旅遊不便費率!$B$5:$CA$184,$A11,AR$3)*$A$3,0)) -> 0 | AS11: =IF(ISNA(AS$3),0,ROUND(INDEX(旅遊不便費率!$B$5:$CA$184,$A11,AS$3)*$A$3,0)) -> 0 | AT11: =IF(ISNA(AT$3),0,ROUND(INDEX(旅遊不便費率!$B$5:$CA$184,$A11,AT$3)*$A$3,0)) -> 0 | AU11: =SUM(AG11:AT11) -> 587 | AV11: =IF(ISNA(AV$56),0,ROUND(INDEX(INDIRECT(AV$55),$A11,AV$56)*$A$2,0)) -> 498 | AY11: =ROUND(VLOOKUP(AY$3,費率表彙總!$F$4:$G$404,2,FALSE)*$B11*$A$2,0) -> 0 | AZ11: =ROUND(VLOOKUP(AZ$3,費率表彙總!$H$4:$I$804,2,FALSE)*$B11*$A$2,0) -> 0 | BA11: =IF(ISNA(BA$56),0,ROUND(INDEX(實支實付_總保費!$B$4:$AE$183,$A11,BA$56)*$A$2,0)) -> 0 | BB11: =IF(ISNA(BB$56),0,ROUND(INDEX(重大燒燙傷_總保費!$B$4:$AE$183,$A11,BB$56)*$A$2,0)) -> 0 | BC11: =IF(BC$3<>0,MAX(1,ROUND(VLOOKUP(BC$3,費率表彙總!$L$4:$O$34,2,FALSE)*$B11*$A$2,0))+MAX(1,ROUND(INDEX(海突甲門診_總保費!$B$4:$GS$183,$A11,BC$56)*$A$2,0)+MAX(1,ROUND(INDEX(海突甲急診_總保費!$B$4:$GS$183,$A11,BC$56)*$A$2,0),0))) -> FALSE | BD11: =IF(BD$3<>0,MAX(1,ROUND(VLOOKUP(BD$3,費率表彙總!$L$4:$R$34,5,FALSE)*$B11*$A$2,0))+MAX(1,ROUND(INDEX(海突乙門診_總保費!$B$4:$GS$183,$A11,BD$56)*$A$2,0)+MAX(1,ROUND(INDEX(海突乙急診_總保費!$B$4:$GS$183,$A11,BD$56)*$A$2,0),0))) -> 426 | BE11: =ROUND(VLOOKUP(BE$3,費率表彙總!$S$4:$T$34,2,FALSE)*$B11*$A$2,0) -> 0 | BF11: =IF(ISNA(BF$3),0,ROUND(INDEX(旅遊不便費率!$B$5:$CA$184,$A11,BF$3)*$A$3,0)) -> 0 | BG11: =IF(ISNA(BG$3),0,ROUND(INDEX(旅遊不便費率!$B$5:$CA$184,$A11,BG$3)*$A$3,0)) -> 0 | BH11: =IF(ISNA(BH$3),0,ROUND(INDEX(旅遊不便費率!$B$5:$CA$184,$A11,BH$3)*$A$3,0)) -> 0 | BI11: =IF(ISNA(BI$3),0,ROUND(INDEX(旅遊不便費率!$B$5:$CA$184,$A11,BI$3)*$A$3,0)) -> 0 | BJ11: =SUM(AV11:BI11) -> 924 | BK11: =IF(ISNA(BK$56),0,ROUND(INDEX(INDIRECT(BK$55),$A11,BK$56)*$A$2,0)) -> 622 | BN11: =ROUND(VLOOKUP(BN$3,費率表彙總!$F$4:$G$404,2,FALSE)*$B11*$A$2,0) -> 0 | BO11: =ROUND(VLOOKUP(BO$3,費率表彙總!$H$4:$I$804,2,FALSE)*$B11*$A$2,0) -> 0 | BP11: =IF(ISNA(BP$56),0,ROUND(INDEX(實支實付_總保費!$B$4:$AE$183,$A11,BP$56)*$A$2,0)) -> 0 | BQ11: =IF(ISNA(BQ$56),0,ROUND(INDEX(重大燒燙傷_總保費!$B$4:$AE$183,$A11,BQ$56)*$A$2,0)) -> 0 | BR11: =IF(BR$3<>0,MAX(1,ROUND(VLOOKUP(BR$3,費率表彙總!$L$4:$O$34,2,FALSE)*$B11*$A$2,0))+MAX(1,ROUND(INDEX(海突甲門診_總保費!$B$4:$GS$183,$A11,BR$56)*$A$2,0)+MAX(1,ROUND(INDEX(海突甲急診_總保費!$B$4:$GS$183,$A11,BR$56)*$A$2,0),0))) -> FALSE | BS11: =IF(BS$3<>0,MAX(1,ROUND(VLOOKUP(BS$3,費率表彙總!$L$4:$R$34,5,FALSE)*$B11*$A$2,0))+MAX(1,ROUND(INDEX(海突乙門診_總保費!$B$4:$GS$183,$A11,BS$56)*$A$2,0)+MAX(1,ROUND(INDEX(海突乙急診_總保費!$B$4:$GS$183,$A11,BS$56)*$A$2,0),0))) -> 519 | BT11: =ROUND(VLOOKUP(BT$3,費率表彙總!$S$4:$T$34,2,FALSE)*$B11*$A$2,0) -> 0 | BU11: =IF(ISNA(BU$3),0,ROUND(INDEX(旅遊不便費率!$B$5:$CA$184,$A11,BU$3)*$A$3,0)) -> 0 | BV11: =IF(ISNA(BV$3),0,ROUND(INDEX(旅遊不便費率!$B$5:$CA$184,$A11,BV$3)*$A$3,0)) -> 0 | BW11: =IF(ISNA(BW$3),0,ROUND(INDEX(旅遊不便費率!$B$5:$CA$184,$A11,BW$3)*$A$3,0)) -> 0 | BX11: =IF(ISNA(BX$3),0,ROUND(INDEX(旅遊不便費率!$B$5:$CA$184,$A11,BX$3)*$A$3,0)) -> 0 | BY11: =SUM(BK11:BX11) -> 1141 | BZ11: =IF(ISNA(BZ$56),0,ROUND(INDEX(INDIRECT(BZ$55),$A11,BZ$56)*$A$2,0)) -> 125 | CC11: =ROUND(VLOOKUP(CC$3,費率表彙總!$F$4:$G$404,2,FALSE)*$B11*$A$2,0) -> 0 | CD11: =ROUND(VLOOKUP(CD$3,費率表彙總!$H$4:$I$804,2,FALSE)*$B11*$A$2,0) -> 0 | CE11: =IF(ISNA(CE$56),0,ROUND(INDEX(實支實付_總保費!$B$4:$AE$183,$A11,CE$56)*$A$2,0)) -> 20 | CF11: =IF(ISNA(CF$56),0,ROUND(INDEX(重大燒燙傷_總保費!$B$4:$AE$183,$A11,CF$56)*$A$2,0)) -> 1 | CG11: =IF(CG$3<>0,MAX(1,ROUND(VLOOKUP(CG$3,費率表彙總!$L$4:$O$34,2,FALSE)*$B11*$A$2,0))+MAX(1,ROUND(INDEX(海突甲門診_總保費!$B$4:$GS$183,$A11,CG$56)*$A$2,0)+MAX(1,ROUND(INDEX(海突甲急診_總保費!$B$4:$GS$183,$A11,CG$56)*$A$2,0),0))) -> FALSE | CH11: =IF(CH$3<>0,MAX(1,ROUND(VLOOKUP(CH$3,費率表彙總!$L$4:$R$34,5,FALSE)*$B11*$A$2,0))+MAX(1,ROUND(INDEX(海突乙門診_總保費!$B$4:$GS$183,$A11,CH$56)*$A$2,0)+MAX(1,ROUND(INDEX(海突乙急診_總保費!$B$4:$GS$183,$A11,CH$56)*$A$2,0),0))) -> FALSE | CI11: =ROUND(VLOOKUP(CI$3,費率表彙總!$S$4:$T$34,2,FALSE)*$B11*$A$2,0) -> 0 | CJ11: =IF(ISNA(CJ$3),0,ROUND(INDEX(旅遊不便費率!$B$5:$CA$184,$A11,CJ$3)*$A$3,0)) -> 59 | CK11: =IF(ISNA(CK$3),0,ROUND(INDEX(旅遊不便費率!$B$5:$CA$184,$A11,CK$3)*$A$3,0)) -> 300 | CL11: =IF(ISNA(CL$3),0,ROUND(INDEX(旅遊不便費率!$B$5:$CA$184,$A11,CL$3)*$A$3,0)) -> 10 | CM11: =IF(ISNA(CM$3),0,ROUND(INDEX(旅遊不便費率!$B$5:$CA$184,$A11,CM$3)*$A$3,0)) -> 39 | CN11: =SUM(BZ11:CM11) -> 554 | CO11: =IF(ISNA(CO$56),0,ROUND(INDEX(INDIRECT(CO$55),$A11,CO$56)*$A$2,0)) -> 186 | CR11: =ROUND(VLOOKUP(CR$3,費率表彙總!$F$4:$G$404,2,FALSE)*$B11*$A$2,0) -> 0 | CS11: =ROUND(VLOOKUP(CS$3,費率表彙總!$H$4:$I$804,2,FALSE)*$B11*$A$2,0) -> 0 | CT11: =IF(ISNA(CT$56),0,ROUND(INDEX(實支實付_總保費!$B$4:$AE$183,$A11,CT$56)*$A$2,0)) -> 20 | CU11: =IF(ISNA(CU$56),0,ROUND(INDEX(重大燒燙傷_總保費!$B$4:$AE$183,$A11,CU$56)*$A$2,0)) -> 1 | CV11: =IF(CV$3<>0,MAX(1,ROUND(VLOOKUP(CV$3,費率表彙總!$L$4:$O$34,2,FALSE)*$B11*$A$2,0))+MAX(1,ROUND(INDEX(海突甲門診_總保費!$B$4:$GS$183,$A11,CV$56)*$A$2,0)+MAX(1,ROUND(INDEX(海突甲急診_總保費!$B$4:$GS$183,$A11,CV$56)*$A$2,0),0))) -> FALSE | CW11: =IF(CW$3<>0,MAX(1,ROUND(VLOOKUP(CW$3,費率表彙總!$L$4:$R$34,5,FALSE)*$B11*$A$2,0))+MAX(1,ROUND(INDEX(海突乙門診_總保費!$B$4:$GS$183,$A11,CW$56)*$A$2,0)+MAX(1,ROUND(INDEX(海突乙急診_總保費!$B$4:$GS$183,$A11,CW$56)*$A$2,0),0))) -> FALSE | CX11: =ROUND(VLOOKUP(CX$3,費率表彙總!$S$4:$T$34,2,FALSE)*$B11*$A$2,0) -> 0 | CY11: =IF(ISNA(CY$3),0,ROUND(INDEX(旅遊不便費率!$B$5:$CA$184,$A11,CY$3)*$A$3,0)) -> 59 | CZ11: =IF(ISNA(CZ$3),0,ROUND(INDEX(旅遊不便費率!$B$5:$CA$184,$A11,CZ$3)*$A$3,0)) -> 300 | DA11: =IF(ISNA(DA$3),0,ROUND(INDEX(旅遊不便費率!$B$5:$CA$184,$A11,DA$3)*$A$3,0)) -> 10 | DB11: =IF(ISNA(DB$3),0,ROUND(INDEX(旅遊不便費率!$B$5:$CA$184,$A11,DB$3)*$A$3,0)) -> 39 | DC11: =SUM(CO11:DB11) -> 615 | DD11: =IF(ISNA(DD$56),0,ROUND(INDEX(INDIRECT(DD$55),$A11,DD$56)*$A$2,0)) -> 311 | DG11: =ROUND(VLOOKUP(DG$3,費率表彙總!$F$4:$G$404,2,FALSE)*$B11*$A$2,0) -> 0 | DH11: =ROUND(VLOOKUP(DH$3,費率表彙總!$H$4:$I$804,2,FALSE)*$B11*$A$2,0) -> 0 | DI11: =IF(ISNA(DI$56),0,ROUND(INDEX(實支實付_總保費!$B$4:$AE$183,$A11,DI$56)*$A$2,0)) -> 20 | DJ11: =IF(ISNA(DJ$56),0,ROUND(INDEX(重大燒燙傷_總保費!$B$4:$AE$183,$A11,DJ$56)*$A$2,0)) -> 1 | DK11: =IF(DK$3<>0,MAX(1,ROUND(VLOOKUP(DK$3,費率表彙總!$L$4:$O$34,2,FALSE)*$B11*$A$2,0))+MAX(1,ROUND(INDEX(海突甲門診_總保費!$B$4:$GS$183,$A11,DK$56)*$A$2,0)+MAX(1,ROUND(INDEX(海突甲急診_總保費!$B$4:$GS$183,$A11,DK$56)*$A$2,0),0))) -> FALSE | DL11: =IF(DL$3<>0,MAX(1,ROUND(VLOOKUP(DL$3,費率表彙總!$L$4:$R$34,5,FALSE)*$B11*$A$2,0))+MAX(1,ROUND(INDEX(海突乙門診_總保費!$B$4:$GS$183,$A11,DL$56)*$A$2,0)+MAX(1,ROUND(INDEX(海突乙急診_總保費!$B$4:$GS$183,$A11,DL$56)*$A$2,0),0))) -> FALSE | DM11: =ROUND(VLOOKUP(DM$3,費率表彙總!$S$4:$T$34,2,FALSE)*$B11*$A$2,0) -> 0 | DN11: =IF(ISNA(DN$3),0,ROUND(INDEX(旅遊不便費率!$B$5:$CA$184,$A11,DN$3)*$A$3,0)) -> 59 | DO11: =IF(ISNA(DO$3),0,ROUND(INDEX(旅遊不便費率!$B$5:$CA$184,$A11,DO$3)*$A$3,0)) -> 300 | DP11: =IF(ISNA(DP$3),0,ROUND(INDEX(旅遊不便費率!$B$5:$CA$184,$A11,DP$3)*$A$3,0)) -> 10 | DQ11: =IF(ISNA(DQ$3),0,ROUND(INDEX(旅遊不便費率!$B$5:$CA$184,$A11,DQ$3)*$A$3,0)) -> 39 | DR11: =SUM(DD11:DQ11) -> 740 | DS11: =IF(ISNA(DS$56),0,ROUND(INDEX(INDIRECT(DS$55),$A11,DS$56)*$A$2,0)) -> 498 | DV11: =ROUND(VLOOKUP(DV$3,費率表彙總!$F$4:$G$404,2,FALSE)*$B11*$A$2,0) -> 0 | DW11: =ROUND(VLOOKUP(DW$3,費率表彙總!$H$4:$I$804,2,FALSE)*$B11*$A$2,0) -> 0 | DX11: =IF(ISNA(DX$56),0,ROUND(INDEX(實支實付_總保費!$B$4:$AE$183,$A11,DX$56)*$A$2,0)) -> 20 | DY11: =IF(ISNA(DY$56),0,ROUND(INDEX(重大燒燙傷_總保費!$B$4:$AE$183,$A11,DY$56)*$A$2,0)) -> 1 | DZ11: =IF(DZ$3<>0,MAX(1,ROUND(VLOOKUP(DZ$3,費率表彙總!$L$4:$O$34,2,FALSE)*$B11*$A$2,0))+MAX(1,ROUND(INDEX(海突甲門診_總保費!$B$4:$GS$183,$A11,DZ$56)*$A$2,0)+MAX(1,ROUND(INDEX(海突甲急診_總保費!$B$4:$GS$183,$A11,DZ$56)*$A$2,0),0))) -> FALSE | EA11: =IF(EA$3<>0,MAX(1,ROUND(VLOOKUP(EA$3,費率表彙總!$L$4:$R$34,5,FALSE)*$B11*$A$2,0))+MAX(1,ROUND(INDEX(海突乙門診_總保費!$B$4:$GS$183,$A11,EA$56)*$A$2,0)+MAX(1,ROUND(INDEX(海突乙急診_總保費!$B$4:$GS$183,$A11,EA$56)*$A$2,0),0))) -> FALSE | EB11: =ROUND(VLOOKUP(EB$3,費率表彙總!$S$4:$T$34,2,FALSE)*$B11*$A$2,0) -> 0 | EC11: =IF(ISNA(EC$3),0,ROUND(INDEX(旅遊不便費率!$B$5:$CA$184,$A11,EC$3)*$A$3,0)) -> 59 | ED11: =IF(ISNA(ED$3),0,ROUND(INDEX(旅遊不便費率!$B$5:$CA$184,$A11,ED$3)*$A$3,0)) -> 300 | EE11: =IF(ISNA(EE$3),0,ROUND(INDEX(旅遊不便費率!$B$5:$CA$184,$A11,EE$3)*$A$3,0)) -> 10 | EF11: =IF(ISNA(EF$3),0,ROUND(INDEX(旅遊不便費率!$B$5:$CA$184,$A11,EF$3)*$A$3,0)) -> 39 | EG11: =SUM(DS11:EF11) -> 927 | EH11: =IF(ISNA(EH$56),0,ROUND(INDEX(INDIRECT(EH$55),$A11,EH$56)*$A$2,0)) -> 622 | EK11: =ROUND(VLOOKUP(EK$3,費率表彙總!$F$4:$G$404,2,FALSE)*$B11*$A$2,0) -> 0 | EL11: =ROUND(VLOOKUP(EL$3,費率表彙總!$H$4:$I$804,2,FALSE)*$B11*$A$2,0) -> 0 | EM11: =IF(ISNA(EM$56),0,ROUND(INDEX(實支實付_總保費!$B$4:$AE$183,$A11,EM$56)*$A$2,0)) -> 20 | EN11: =IF(ISNA(EN$56),0,ROUND(INDEX(重大燒燙傷_總保費!$B$4:$AE$183,$A11,EN$56)*$A$2,0)) -> 1 | EO11: =IF(EO$3<>0,MAX(1,ROUND(VLOOKUP(EO$3,費率表彙總!$L$4:$O$34,2,FALSE)*$B11*$A$2,0))+MAX(1,ROUND(INDEX(海突甲門診_總保費!$B$4:$GS$183,$A11,EO$56)*$A$2,0)+MAX(1,ROUND(INDEX(海突甲急診_總保費!$B$4:$GS$183,$A11,EO$56)*$A$2,0),0))) -> FALSE | EP11: =IF(EP$3<>0,MAX(1,ROUND(VLOOKUP(EP$3,費率表彙總!$L$4:$R$34,5,FALSE)*$B11*$A$2,0))+MAX(1,ROUND(INDEX(海突乙門診_總保費!$B$4:$GS$183,$A11,EP$56)*$A$2,0)+MAX(1,ROUND(INDEX(海突乙急診_總保費!$B$4:$GS$183,$A11,EP$56)*$A$2,0),0))) -> FALSE | EQ11: =ROUND(VLOOKUP(EQ$3,費率表彙總!$S$4:$T$34,2,FALSE)*$B11*$A$2,0) -> 0 | ER11: =IF(ISNA(ER$3),0,ROUND(INDEX(旅遊不便費率!$B$5:$CA$184,$A11,ER$3)*$A$3,0)) -> 59 | ES11: =IF(ISNA(ES$3),0,ROUND(INDEX(旅遊不便費率!$B$5:$CA$184,$A11,ES$3)*$A$3,0)) -> 300 | ET11: =IF(ISNA(ET$3),0,ROUND(INDEX(旅遊不便費率!$B$5:$CA$184,$A11,ET$3)*$A$3,0)) -> 10 | EU11: =IF(ISNA(EU$3),0,ROUND(INDEX(旅遊不便費率!$B$5:$CA$184,$A11,EU$3)*$A$3,0)) -> 39 | EV11: =SUM(EH11:EU11) -> 1051 | EW11: =IF(ISNA(EW$56),0,ROUND(INDEX(INDIRECT(EW$55),$A11,EW$56)*$A$2,0)) -> 435 | EZ11: =ROUND(VLOOKUP(EZ$3,費率表彙總!$F$4:$G$404,2,FALSE)*$B11*$A$2,0) -> 0 | FA11: =ROUND(VLOOKUP(FA$3,費率表彙總!$H$4:$I$804,2,FALSE)*$B11*$A$2,0) -> 0 | FB11: =IF(ISNA(FB$56),0,ROUND(INDEX(實支實付_總保費!$B$4:$AE$183,$A11,FB$56)*$A$2,0)) -> 296 | FC11: =IF(ISNA(FC$56),0,ROUND(INDEX(重大燒燙傷_總保費!$B$4:$AE$183,$A11,FC$56)*$A$2,0)) -> 18 | FD11: =IF(FD$3<>0,MAX(1,ROUND(VLOOKUP(FD$3,費率表彙總!$L$4:$O$34,2,FALSE)*$B11*$A$2,0))+MAX(1,ROUND(INDEX(海突甲門診_總保費!$B$4:$GS$183,$A11,FD$56)*$A$2,0)+MAX(1,ROUND(INDEX(海突甲急診_總保費!$B$4:$GS$183,$A11,FD$56)*$A$2,0),0))) -> FALSE | FE11: =IF(FE$3<>0,MAX(1,ROUND(VLOOKUP(FE$3,費率表彙總!$L$4:$R$34,5,FALSE)*$B11*$A$2,0))+MAX(1,ROUND(INDEX(海突乙門診_總保費!$B$4:$GS$183,$A11,FE$56)*$A$2,0)+MAX(1,ROUND(INDEX(海突乙急診_總保費!$B$4:$GS$183,$A11,FE$56)*$A$2,0),0))) -> 621 | FF11: =ROUND(VLOOKUP(FF$3,費率表彙總!$S$4:$T$34,2,FALSE)*$B11*$A$2,0) -> 0 | FG11: =IF(ISNA(FG$3),0,ROUND(INDEX(旅遊不便費率!$B$5:$CA$184,$A11,FG$3)*$A$3,0)) -> 59 | FH11: =IF(ISNA(FH$3),0,ROUND(INDEX(旅遊不便費率!$B$5:$CA$184,$A11,FH$3)*$A$3,0)) -> 468 | FI11: =IF(ISNA(FI$3),0,ROUND(INDEX(旅遊不便費率!$B$5:$CA$184,$A11,FI$3)*$A$3,0)) -> 23 | FJ11: =IF(ISNA(FJ$3),0,ROUND(INDEX(旅遊不便費率!$B$5:$CA$184,$A11,FJ$3)*$A$3,0)) -> 73 | FK11: =SUM(EW11:FJ11) -> 1993 | FL11: =IF(ISNA(FL$56),0,ROUND(INDEX(INDIRECT(FL$55),$A11,FL$56)*$A$2,0)) -> 186 | FO11: =ROUND(VLOOKUP(FO$3,費率表彙總!$F$4:$G$404,2,FALSE)*$B11*$A$2,0) -> 0 | FP11: =ROUND(VLOOKUP(FP$3,費率表彙總!$H$4:$I$804,2,FALSE)*$B11*$A$2,0) -> 0 | FQ11: =IF(ISNA(FQ$56),0,ROUND(INDEX(實支實付_總保費!$B$4:$AE$183,$A11,FQ$56)*$A$2,0)) -> 59 | FR11: =IF(ISNA(FR$56),0,ROUND(INDEX(重大燒燙傷_總保費!$B$4:$AE$183,$A11,FR$56)*$A$2,0)) -> 4 | FS11: =IF(FS$3<>0,MAX(1,ROUND(VLOOKUP(FS$3,費率表彙總!$L$4:$O$34,2,FALSE)*$B11*$A$2,0))+MAX(1,ROUND(INDEX(海突甲門診_總保費!$B$4:$GS$183,$A11,FS$56)*$A$2,0)+MAX(1,ROUND(INDEX(海突甲急診_總保費!$B$4:$GS$183,$A11,FS$56)*$A$2,0),0))) -> FALSE | FT11: =IF(FT$3<>0,MAX(1,ROUND(VLOOKUP(FT$3,費率表彙總!$L$4:$R$34,5,FALSE)*$B11*$A$2,0))+MAX(1,ROUND(INDEX(海突乙門診_總保費!$B$4:$GS$183,$A11,FT$56)*$A$2,0)+MAX(1,ROUND(INDEX(海突乙急診_總保費!$B$4:$GS$183,$A11,FT$56)*$A$2,0),0))) -> 326 | FU11: =ROUND(VLOOKUP(FU$3,費率表彙總!$S$4:$T$34,2,FALSE)*$B11*$A$2,0) -> 0 | FV11: =IF(ISNA(FV$3),0,ROUND(INDEX(旅遊不便費率!$B$5:$CA$184,$A11,FV$3)*$A$3,0)) -> 59 | FW11: =IF(ISNA(FW$3),0,ROUND(INDEX(旅遊不便費率!$B$5:$CA$184,$A11,FW$3)*$A$3,0)) -> 468 | FX11: =IF(ISNA(FX$3),0,ROUND(INDEX(旅遊不便費率!$B$5:$CA$184,$A11,FX$3)*$A$3,0)) -> 23 | FY11: =IF(ISNA(FY$3),0,ROUND(INDEX(旅遊不便費率!$B$5:$CA$184,$A11,FY$3)*$A$3,0)) -> 73 | FZ11: =SUM(FL11:FY11) -> 1198 | GA11: =IF(ISNA(GA$56),0,ROUND(INDEX(INDIRECT(GA$55),$A11,GA$56)*$A$2,0)) -> 311 | GD11: =ROUND(VLOOKUP(GD$3,費率表彙總!$F$4:$G$404,2,FALSE)*$B11*$A$2,0) -> 0 | GE11: =ROUND(VLOOKUP(GE$3,費率表彙總!$H$4:$I$804,2,FALSE)*$B11*$A$2,0) -> 0 | GF11: =IF(ISNA(GF$56),0,ROUND(INDEX(實支實付_總保費!$B$4:$AE$183,$A11,GF$56)*$A$2,0)) -> 99 | GG11: =IF(ISNA(GG$56),0,ROUND(INDEX(重大燒燙傷_總保費!$B$4:$AE$183,$A11,GG$56)*$A$2,0)) -> 6 | GH11: =IF(GH$3<>0,MAX(1,ROUND(VLOOKUP(GH$3,費率表彙總!$L$4:$O$34,2,FALSE)*$B11*$A$2,0))+MAX(1,ROUND(INDEX(海突甲門診_總保費!$B$4:$GS$183,$A11,GH$56)*$A$2,0)+MAX(1,ROUND(INDEX(海突甲急診_總保費!$B$4:$GS$183,$A11,GH$56)*$A$2,0),0))) -> FALSE | GI11: =IF(GI$3<>0,MAX(1,ROUND(VLOOKUP(GI$3,費率表彙總!$L$4:$R$34,5,FALSE)*$B11*$A$2,0))+MAX(1,ROUND(INDEX(海突乙門診_總保費!$B$4:$GS$183,$A11,GI$56)*$A$2,0)+MAX(1,ROUND(INDEX(海突乙急診_總保費!$B$4:$GS$183,$A11,GI$56)*$A$2,0),0))) -> 519 | GJ11: =ROUND(VLOOKUP(GJ$3,費率表彙總!$S$4:$T$34,2,FALSE)*$B11*$A$2,0) -> 0 | GK11: =IF(ISNA(GK$3),0,ROUND(INDEX(旅遊不便費率!$B$5:$CA$184,$A11,GK$3)*$A$3,0)) -> 59 | GL11: =IF(ISNA(GL$3),0,ROUND(INDEX(旅遊不便費率!$B$5:$CA$184,$A11,GL$3)*$A$3,0)) -> 468 | GM11: =IF(ISNA(GM$3),0,ROUND(INDEX(旅遊不便費率!$B$5:$CA$184,$A11,GM$3)*$A$3,0)) -> 23 | GN11: =IF(ISNA(GN$3),0,ROUND(INDEX(旅遊不便費率!$B$5:$CA$184,$A11,GN$3)*$A$3,0)) -> 73 | GO11: =SUM(GA11:GN11) -> 1558 | GP11: =IF(ISNA(GP$56),0,ROUND(INDEX(INDIRECT(GP$55),$A11,GP$56)*$A$2,0)) -> 311 | GS11: =ROUND(VLOOKUP(GS$3,費率表彙總!$F$4:$G$404,2,FALSE)*$B11*$A$2,0) -> 0 | GT11: =ROUND(VLOOKUP(GT$3,費率表彙總!$H$4:$I$804,2,FALSE)*$B11*$A$2,0) -> 0 | GU11: =IF(ISNA(GU$56),0,ROUND(INDEX(實支實付_總保費!$B$4:$AE$183,$A11,GU$56)*$A$2,0)) -> 198 | GV11: =IF(ISNA(GV$56),0,ROUND(INDEX(重大燒燙傷_總保費!$B$4:$AE$183,$A11,GV$56)*$A$2,0)) -> 12 | GW11: =IF(GW$3<>0,MAX(1,ROUND(VLOOKUP(GW$3,費率表彙總!$L$4:$O$34,2,FALSE)*$B11*$A$2,0))+MAX(1,ROUND(INDEX(海突甲門診_總保費!$B$4:$GS$183,$A11,GW$56)*$A$2,0)+MAX(1,ROUND(INDEX(海突甲急診_總保費!$B$4:$GS$183,$A11,GW$56)*$A$2,0),0))) -> FALSE | GX11: =IF(GX$3<>0,MAX(1,ROUND(VLOOKUP(GX$3,費率表彙總!$L$4:$R$34,5,FALSE)*$B11*$A$2,0))+MAX(1,ROUND(INDEX(海突乙門診_總保費!$B$4:$GS$183,$A11,GX$56)*$A$2,0)+MAX(1,ROUND(INDEX(海突乙急診_總保費!$B$4:$GS$183,$A11,GX$56)*$A$2,0),0))) -> 326 | GY11: =ROUND(VLOOKUP(GY$3,費率表彙總!$S$4:$T$34,2,FALSE)*$B11*$A$2,0) -> 0 | GZ11: =IF(ISNA(GZ$3),0,ROUND(INDEX(旅遊不便費率!$B$5:$CA$184,$A11,GZ$3)*$A$3,0)) -> 59 | HA11: =IF(ISNA(HA$3),0,ROUND(INDEX(旅遊不便費率!$B$5:$CA$184,$A11,HA$3)*$A$3,0)) -> 468 | HB11: =IF(ISNA(HB$3),0,ROUND(INDEX(旅遊不便費率!$B$5:$CA$184,$A11,HB$3)*$A$3,0)) -> 23 | HC11: =IF(ISNA(HC$3),0,ROUND(INDEX(旅遊不便費率!$B$5:$CA$184,$A11,HC$3)*$A$3,0)) -> 73 | HD11: =SUM(GP11:HC11) -> 1470 | HE11: =IF(ISNA(HE$56),0,ROUND(INDEX(INDIRECT(HE$55),$A11,HE$56)*$A$2,0)) -> 311 | HH11: =ROUND(VLOOKUP(HH$3,費率表彙總!$F$4:$G$404,2,FALSE)*$B11*$A$2,0) -> 0 | HI11: =ROUND(VLOOKUP(HI$3,費率表彙總!$H$4:$I$804,2,FALSE)*$B11*$A$2,0) -> 0 | HJ11: =IF(ISNA(HJ$56),0,ROUND(INDEX(實支實付_總保費!$B$4:$AE$183,$A11,HJ$56)*$A$2,0)) -> 198 | HK11: =IF(ISNA(HK$56),0,ROUND(INDEX(重大燒燙傷_總保費!$B$4:$AE$183,$A11,HK$56)*$A$2,0)) -> 12 | HL11: =IF(HL$3<>0,MAX(1,ROUND(VLOOKUP(HL$3,費率表彙總!$L$4:$O$34,2,FALSE)*$B11*$A$2,0))+MAX(1,ROUND(INDEX(海突甲門診_總保費!$B$4:$GS$183,$A11,HL$56)*$A$2,0)+MAX(1,ROUND(INDEX(海突甲急診_總保費!$B$4:$GS$183,$A11,HL$56)*$A$2,0),0))) -> FALSE | HM11: =IF(HM$3<>0,MAX(1,ROUND(VLOOKUP(HM$3,費率表彙總!$L$4:$R$34,5,FALSE)*$B11*$A$2,0))+MAX(1,ROUND(INDEX(海突乙門診_總保費!$B$4:$GS$183,$A11,HM$56)*$A$2,0)+MAX(1,ROUND(INDEX(海突乙急診_總保費!$B$4:$GS$183,$A11,HM$56)*$A$2,0),0))) -> 326 | HN11: =ROUND(VLOOKUP(HN$3,費率表彙總!$S$4:$T$34,2,FALSE)*$B11*$A$2,0) -> 0 | HO11: =IF(ISNA(HO$3),0,ROUND(INDEX(旅遊不便費率!$B$5:$CA$184,$A11,HO$3)*$A$3,0)) -> 59 | HP11: =IF(ISNA(HP$3),0,ROUND(INDEX(旅遊不便費率!$B$5:$CA$184,$A11,HP$3)*$A$3,0)) -> 468 | HQ11: =IF(ISNA(HQ$3),0,ROUND(INDEX(旅遊不便費率!$B$5:$CA$184,$A11,HQ$3)*$A$3,0)) -> 23 | HR11: =IF(ISNA(HR$3),0,ROUND(INDEX(旅遊不便費率!$B$5:$CA$184,$A11,HR$3)*$A$3,0)) -> 73 | HS11: =SUM(HE11:HR11) -> 1470
