Workbook

Sheet 總表
F2: =IF(D100<H100,"請重新下載更新版本","使用期限:"&TEXT(D100,"yyyy/mm/dd")) -> 使用期限:2025/12/31 | H2: ="版本編號:"&TEXT(YEAR($D$99),"0000")&TEXT(MONTH($D$99),"00")&TEXT(DAY($D$99),"00") -> 版本編號:20250808
C3: 旅遊綜合保險與特定活動保險保費試算作業
C6: 旅遊綜合保險 | F6: 旅行平安保險 | G6: ＋ | H6: 旅遊不便保險
F7: 傷害身故失能 | H7: 旅行不便保險
F8: 傷害醫療 | H8: 旅行補償保險
F9: 突發疾病 | H9: 第三人責任保險
F10: 增購特定事故傷害身故失能保額 | H10: 旅行急難救助保險
F11: 恐怖主義買回保額
C15: 特定活動保險 | F15: 特定活動綜合保險
F16: 傷害身故失能
F17: 傷害+特定事故醫療
C24: 旅行泡泡綜合保險 | F24: 旅行泡泡綜合保險
F25: 意外傷害身故失能 | H25: 第三人責任保險
F26: 傷害醫療實支實付 | H26: 海外急難救助保險
F27: 海外突發疾病 海外緊急救援 | H27: 國內急難救助費用
B97: 選項設定
B98: 費率別 | D98: 個人、團體、直接、網路 | F98: =VLOOKUP(D98,B108:E114,4,FALSE) -> 6 | G98: =CHOOSE(F98,"選擇項目!C3:C7","選擇項目!C3:C3","選擇項目!C4:C4","選擇項目!C3:C4","選擇項目!C3:C5","選擇項目!C3:C6","選擇項目!C7:C7") -> 選擇項目!C3:C6
B99: 版本編號 | D99: 45877
B100: 使用期限 | D100: 46022 | H100: =TODAY() -> 45877 | J100: =+D100-H100 -> 145
B101: 顯示季節限定專案 | D101: 皆不顯示 | F101: =VLOOKUP(D101,B121:C124,2,FALSE) -> 2
B107: 費率別
B108: 全部 | E108: 1
B109: 個人 | E109: 2
B110: 團體 | E110: 3
B111: 個人、團體 | E111: 4
B112: 個人、團體、直接 | E112: 5
B113: 個人、團體、直接、網路 | E113: 6
B114: 保經代 | E114: 7
B120: 季節限定控制
B121: 全部顯示 | C121: 1
B122: 皆不顯示 | C122: 2
B123: 僅顯示春日遊 | C123: 3
B124: 僅顯示夏日遊 | C124: 4

Sheet 旅綜險
B2: 旅遊綜合保險保費試算作業 | I2: =+總表!F2 -> 使用期限:2025/12/31 | K2: =+總表!H2 -> 版本編號:20250808 | M2: 返回主畫面
B3: 投保時年齡 (以足歲計算) | E3: 年齡層 代 碼 | F3: 意外身故（喪葬費用）失能 限額(萬) | I3: =IF(L11="網路件","傷害醫療實支","傷害醫療實支+燒燙傷")&"限額(萬)" -> 傷害醫療實支+燒燙傷限額(萬) | L3: 海外突發疾病 限額(萬)
B4: 未滿15歲 | E4: 1／10 | F4: 69萬 | I4: 國內6萬／ 海外10、20、30萬、海外申根120萬 | L4: 國內6萬／ 海外10、20、30萬、海外申根120萬
B5: 滿15歲~未滿20歲 | E5: 2／3 | F5: 國內:500萬 海外:1,500萬 | I5: 國內身故失能10%、10萬／ 海外身故失能30%、200萬 | L5: 身故失能30%、甲型200萬／乙型120萬
B6: 滿20歲~未滿65歲 | E6: 4／5 | F6: 國內:1,500萬 海外:2,000萬 | I6: 國內身故失能10%、10萬／ 海外身故失能30%、200萬 | L6: 身故失能30%、甲型200萬／乙型120萬
B7: 滿65歲~未滿70歲 | E7: 6 | F7: 1,000萬 | I7: 國內身故失能10%、10萬／ 海外身故失能30%、200萬 | L7: 身故失能30%、甲型200萬／乙型120萬
B8: 滿70歲~未滿80歲 | E8: 7 | F8: 國內:200萬 海外:500萬 | I8: 國內身故失能10%、10萬／ 海外身故失能30%、150萬 | L8: 身故失能30%、甲型150萬／乙型120萬
B9: 滿80歲~未滿85歲 | E9: 8 | F9: 100萬 | I9: 國內身故失能10%、10萬／ 海外身故失能30%、30萬 | L9: 身故失能30%、甲型30萬／乙型30萬
B10: 滿85歲~未滿100歲 | E10: 9 | F10: 50萬 | I10: 不保 | L10: 不保
B11: 試算日期 | D11: =TODAY() -> 45877 | F11: 被保險人年齡 | H11: 滿20歲-未滿65歲 | J11: 費率別 | L11: 個人件(1-4人適用)
B12: 身故失能保額 | D12: 500 | F12: 旅遊地點 | H12: 海外 | J12: 陸客來台旅遊 | L12: 否
B13: =IF(L11="網路件","傷害醫療實支","傷害醫療實支+燒燙傷") -> 傷害醫療實支+燒燙傷 | D13: 50 | F13: 旅遊天數 | H13: 7 | J13: 非台籍境內突發疾病（甲型） | L13: 0
B14: 海外突發疾病 | C14: (乙型) | D14: 50 | F14: 旅遊不便 | H14: 海外豪華型(U2)
B15: 增購特定事故身故失能 | E15: 否 | F15: =IF(選擇項目!G1=1,旅綜險!D12,0) -> 0
B16: 恐怖主義買回保額 | E16: 否 | F16: =IF(選擇項目!I1=1,$D$12+$F$15,0) -> 0 | G16: =IF(F14=0,"","(恐怖主義買回保額=身故失能保額+增購特定傷害事故身故失能)") -> (恐怖主義買回保額=身故失能保額+增購特定傷害事故身故失能)
B17: 訊息提示 | D17: =+訊息提示!B2
B18: 合計保費 | D18: =IF(LEN(TRIM(D17))=0,保費試算!E25,"---") -> 1315 | F18: 元 | G18: =IF(選擇項目!C1=4,"無燒燙傷","")&IF(AND(D14<>0,C14="(甲型)")," (甲型)不含法定傳染病","")
B20: 製作旅綜險簡易版費率表 | G20: 最終保費以系統計算為準
B101: 保額查詢表單
B102: 保障內容 | C102: 旅綜險
B103: 死殘 | C103: =IF(選擇項目!$E$1=1,IF(H12="國內",1,10),IF(選擇項目!$E$1=2,IF(H12="國內",2,3),IF(選擇項目!$E$1=3,IF(H12="國內",4,5),IF(選擇項目!$E$1=4,6,IF(選擇項目!$E$1=5,IF(H12="國內",11,7),IF(選擇項目!$E$1=6,8,9)))))) -> 5 | D103: =CHOOSE(C103,"費率表彙總!$C$4:$C$74","費率表彙總!$D$6:$D$14","費率表彙總!$D$6:$D$34","費率表彙總!$D$6:$D$34","費率表彙總!$D$6:$D$44","費率表彙總!$D$6:$D$24","費率表彙總!$D$6:$D$14","費率表彙總!$D$6:$D$6","費率表彙總!$D$5:$D$5","費率表彙總!$C$4:$C$74","費率表彙總!$D$6:$D$8") -> 費率表彙總!$D$6:$D$44
B104: 實支 | C104: =IF(選擇項目!$E$1=1,IF(H12="國內",1,10),IF(選擇項目!$E$1=2,IF(H12="國內",2,3),IF(選擇項目!$E$1=3,IF(H12="國內",4,5),IF(選擇項目!$E$1=4,IF(H12="國內",6,11),IF(選擇項目!$E$1=5,IF(H12="國內",7,12),IF(選擇項目!$E$1=6,IF(H12="國內",8,13),9)))))) -> 5 | D104: =CHOOSE(C104,"費率表彙總!$J$35:$J$36","費率表彙總!$J$4:$J$16","費率表彙總!$J$4:$J$34","費率表彙總!$J$4:$J$16","費率表彙總!$J$4:$J$34","費率表彙總!$J$4:$J$16","費率表彙總!$J$4:$J$16","費率表彙總!$J$4:$J$14","費率表彙總!$J$4","費率表彙總!$J$36:$J$41","費率表彙總!$J$4:$J$34","費率表彙總!$J$4:$J$29","費率表彙總!$J$4:$J$17") -> 費率表彙總!$J$4:$J$34
B105: 海外突發(甲) | C105: =CHOOSE(C104,"費率表彙總!$L$4","費率表彙總!$L$4","費率表彙總!$L$4:$L$34","費率表彙總!$L$4","費率表彙總!$L$4:$L$34","費率表彙總!$L$4","費率表彙總!$L$4","費率表彙總!$L$4","費率表彙總!$L$4","費率表彙總!$L$36:$L$41","費率表彙總!$L$4:$L$34","費率表彙總!$L$4:$L$29","費率表彙總!$L$4:$L$17") -> 費率表彙總!$L$4:$L$34 | G105: (甲型)
B106: 海外突發(乙) | C106: =CHOOSE(C104,"費率表彙總!$L$4","費率表彙總!$L$4","費率表彙總!$L$4:$L$26","費率表彙總!$L$4","費率表彙總!$L$4:$L$26","費率表彙總!$L$4","費率表彙總!$L$4","費率表彙總!$L$4","費率表彙總!$L$4","費率表彙總!$L$36:$L$41","費率表彙總!$L$4:$L$26","費率表彙總!$L$4:$L$26","費率表彙總!$L$4:$L$17") -> 費率表彙總!$L$4:$L$26 | G106: (乙型)
B107: 境內突發 | C107: =CHOOSE(C104,"費率表彙總!$S$35:$S$36","費率表彙總!$S$4:$S$16","費率表彙總!$S$4","費率表彙總!$S$4:$S$16","費率表彙總!$S$4","費率表彙總!$S$4:$S$16","費率表彙總!$S$4:$S$16","費率表彙總!$S$4:$S$14","費率表彙總!$S$4","費率表彙總!$S$4","費率表彙總!$S$4","費率表彙總!$S$4","費率表彙總!$S$4") -> 費率表彙總!$S$4
B108: 費率別 | C108: =+總表!G98 -> 選擇項目!C3:C6
B109: 不便險 | C109: =IF(選擇項目!$B$1=1,"旅綜險!$B$112:$B$115","旅綜險!$B$119:$B$122") -> 旅綜險!$B$119:$B$122
B110: 旅遊天數 | C110: =IF(選擇項目!B1=1,"費率表彙總!A4:A17",IF(AND(選擇項目!B1>1,C14="(乙型)",D14<>0),"費率表彙總!A4:A33","費率表彙總!A4:A183")) -> 費率表彙總!A4:A33
B112: 否
B113: 國內本島型(V1)
B114: 國內離島型(W1)
B115: 國內非台籍(X1)
B119: 否
B120: 海外保障型(Y1)
B121: 海外標準型(T2)
B122: 海外豪華型(U2)
B123: 春季漫遊型(Z3)
B124: 寵物寄宿型(Z5)
B126: 否
B127: -
...

Sheet 旅綜險簡易版費率表
A1: 國泰產物旅遊綜合保險 最終保費以系統計算為準 | L1: 列印日期 | N1: =TODAY() -> 45877 | P1: 返回主畫面
A2: 承保項目/專案 | C2: 海外旅遊 | H2: 海外旅遊 | M2: 海外旅遊
A3: 旅遊不便及其他保障 | C3: 不加保 | H3: 海外標準型(T2) | M3: 海外豪華型(U2)
A4: 意外傷害身故失能 | C4: 300 | D4: 300 | E4: 500 | F4: 800 | G4: 1000 | H4: 200 | I4: 300 | J4: 500 | K4: 800 | L4: 1000 | M4: 700 | N4: 300 | O4: 500 | P4: 500 | Q4: 500
A5: 增購傷害特定事故身故失能 | C5: 不加保 | H5: 不加保 | M5: 不加保
A6: 恐怖主義買回保額 | C6: 不加保 | H6: 不加保 | M6: 不加保
A7: =IF(C11="保險費(新台幣元)(網路件適用)","傷害醫療實支","傷害醫療實支+燒燙傷") -> 傷害醫療實支+燒燙傷 | C7: 0 | D7: 0 | E7: 0 | F7: 0 | G7: 0 | H7: 10 | I7: 10 | J7: 10 | K7: 10 | L7: 10 | M7: 150 | N7: 30 | O7: 50 | P7: 100 | Q7: 100
A8: 海外突發疾病 | B8: (乙型) | C8: 30 | D8: 30 | E8: 50 | F8: 80 | G8: 100 | H8: 0 | I8: 0 | J8: 0 | K8: 0 | L8: 0 | M8: 120 | N8: 60 | O8: 100 | P8: 60 | Q8: 60
A9: 非台籍境內突發疾病（甲型） | C9: 0 | D9: 0 | E9: 0 | F9: 0 | G9: 0 | H9: 0 | I9: 0 | J9: 0 | K9: 0 | L9: 0 | M9: 0 | N9: 0 | O9: 0 | P9: 0 | Q9: 0
A10: 保額驗證 | C10: =費率表參數!AA1
A11: 保險天數 | C11: 保險費(新台幣元)(1-4人適用) | K11: (被保險人15足歲以上適用)
A12: 1 | C12: =IF(LEN($C$10)>0, "", IF(OR(AND($C$98,$A12>30),AND($C$99=1, $A12>14)), "---", 旅綜險簡易版費率表試算!Q5)) -> 165 | D12: =IF(LEN($C$10)>0,"",IF(OR(AND($C$98,$A12>30),AND($C$99=1, $A12>14)),"---",旅綜險簡易版費率表試算!AF5)) -> 165 | E12: =IF(LEN($C$10)>0,"",IF(OR(AND($C$98,$A12>30),AND($C$99=1, $A12>14)),"---",旅綜險簡易版費率表試算!AU5)) -> 269 | F12: =IF(LEN($C$10)>0,"",IF(OR(AND($C$98,$A12>30),AND($C$99=1, $A12>14)),"---",旅綜險簡易版費率表試算!BJ5)) -> 423 | G12: =IF(LEN($C$10)>0,"",IF(OR(AND($C$98,$A12>30),AND($C$99=1, $A12>14)),"---",旅綜險簡易版費率表試算!BY5)) -> 524 | H12: =IF(LEN($C$10)>0,"", IF(OR(AND($D$98,$A12>30),AND($D$99=1, $A12>14)),"---",旅綜險簡易版費率表試算!CN5)) -> 258 | I12: =IF(LEN($C$10)>0,"",IF(OR(AND($D$98,$A12>30),AND($D$99=1, $A12>14)),"---",旅綜險簡易版費率表試算!DC5)) -> 286 | J12: =IF(LEN($C$10)>0,"",IF(OR(AND($D$98,$A12>30),AND($D$99=1, $A12>14)),"---",旅綜險簡易版費率表試算!DR5)) -> 342 | K12: =IF(LEN($C$10)>0,"",IF(OR(AND($D$98,$A12>30),AND($D$99=1, $A12>14)),"---",旅綜險簡易版費率表試算!EG5)) -> 428 | L12: =IF(LEN($C$10)>0,"",IF(OR(AND($D$98,$A12>30),AND($D$99=1, $A12>14)),"---",旅綜險簡易版費率表試算!EV5)) -> 486 | M12: =IF(LEN($C$10)>0,"",IF(OR(AND($E$98,$A12>30),AND($E$99=1, $A12>14)),"---",旅綜險簡易版費率表試算!FK5)) -> 917 | N12: =IF(LEN($C$10)>0,"",IF(OR(AND($E$98,$A12>30),AND($E$99=1, $A12>14)),"---",旅綜險簡易版費率表試算!FZ5)) -> 553 | O12: =IF(LEN($C$10)>0,"",IF(OR(AND($E$98,$A12>30),AND($E$99=1, $A12>14)),"---",旅綜險簡易版費率表試算!GO5)) -> 716 | P12: =IF(LEN($C$10)>0,"",IF(OR(AND($E$98,$A12>30),AND($E$99=1, $A12>14)),"---",旅綜險簡易版費率表試算!HD5)) -> 675 | Q12: =IF(LEN($C$10)>0,"",IF(OR(AND($E$98,$A12>30),AND($E$99=1, $A12>14)),"---",旅綜險簡易版費率表試算!HS5)) -> 675
A13: 2 | C13: =IF(LEN($C$10)>0, "", IF(OR(AND($C$98,$A13>30),AND($C$99=1, $A13>14)), "---", 旅綜險簡易版費率表試算!Q6)) -> 180 | D13: =IF(LEN($C$10)>0,"",IF(OR(AND($C$98,$A13>30),AND($C$99=1, $A13>14)),"---",旅綜險簡易版費率表試算!AF6)) -> 180 | E13: =IF(LEN($C$10)>0,"",IF(OR(AND($C$98,$A13>30),AND($C$99=1, $A13>14)),"---",旅綜險簡易版費率表試算!AU6)) -> 293 | F13: =IF(LEN($C$10)>0,"",IF(OR(AND($C$98,$A13>30),AND($C$99=1, $A13>14)),"---",旅綜險簡易版費率表試算!BJ6)) -> 463 | G13: =IF(LEN($C$10)>0,"",IF(OR(AND($C$98,$A13>30),AND($C$99=1, $A13>14)),"---",旅綜險簡易版費率表試算!BY6)) -> 573 | H13: =IF(LEN($C$10)>0,"", IF(OR(AND($D$98,$A13>30),AND($D$99=1, $A13>14)),"---",旅綜險簡易版費率表試算!CN6)) -> 282 | I13: =IF(LEN($C$10)>0,"",IF(OR(AND($D$98,$A13>30),AND($D$99=1, $A13>14)),"---",旅綜險簡易版費率表試算!DC6)) -> 313 | J13: =IF(LEN($C$10)>0,"",IF(OR(AND($D$98,$A13>30),AND($D$99=1, $A13>14)),"---",旅綜險簡易版費率表試算!DR6)) -> 374 | K13: =IF(LEN($C$10)>0,"",IF(OR(AND($D$98,$A13>30),AND($D$99=1, $A13>14)),"---",旅綜險簡易版費率表試算!EG6)) -> 468 | L13: =IF(LEN($C$10)>0,"",IF(OR(AND($D$98,$A13>30),AND($D$99=1, $A13>14)),"---",旅綜險簡易版費率表試算!EV6)) -> 531 | M13: =IF(LEN($C$10)>0,"",IF(OR(AND($E$98,$A13>30),AND($E$99=1, $A13>14)),"---",旅綜險簡易版費率表試算!FK6)) -> 1002 | N13: =IF(LEN($C$10)>0,"",IF(OR(AND($E$98,$A13>30),AND($E$99=1, $A13>14)),"---",旅綜險簡易版費率表試算!FZ6)) -> 605 | O13: =IF(LEN($C$10)>0,"",IF(OR(AND($E$98,$A13>30),AND($E$99=1, $A13>14)),"---",旅綜險簡易版費率表試算!GO6)) -> 783 | P13: =IF(LEN($C$10)>0,"",IF(OR(AND($E$98,$A13>30),AND($E$99=1, $A13>14)),"---",旅綜險簡易版費率表試算!HD6)) -> 739 | Q13: =IF(LEN($C$10)>0,"",IF(OR(AND($E$98,$A13>30),AND($E$99=1, $A13>14)),"---",旅綜險簡易版費率表試算!HS6)) -> 739
A14: 3 | C14: =IF(LEN($C$10)>0, "", IF(OR(AND($C$98,$A14>30),AND($C$99=1, $A14>14)), "---", 旅綜險簡易版費率表試算!Q7)) -> 194 | D14: =IF(LEN($C$10)>0,"",IF(OR(AND($C$98,$A14>30),AND($C$99=1, $A14>14)),"---",旅綜險簡易版費率表試算!AF7)) -> 194 | E14: =IF(LEN($C$10)>0,"",IF(OR(AND($C$98,$A14>30),AND($C$99=1, $A14>14)),"---",旅綜險簡易版費率表試算!AU7)) -> 317 | F14: =IF(LEN($C$10)>0,"",IF(OR(AND($C$98,$A14>30),AND($C$99=1, $A14>14)),"---",旅綜險簡易版費率表試算!BJ7)) -> 498 | G14: =IF(LEN($C$10)>0,"",IF(OR(AND($C$98,$A14>30),AND($C$99=1, $A14>14)),"---",旅綜險簡易版費率表試算!BY7)) -> 616 | H14: =IF(LEN($C$10)>0,"", IF(OR(AND($D$98,$A14>30),AND($D$99=1, $A14>14)),"---",旅綜險簡易版費率表試算!CN7)) -> 302 | I14: =IF(LEN($C$10)>0,"",IF(OR(AND($D$98,$A14>30),AND($D$99=1, $A14>14)),"---",旅綜險簡易版費率表試算!DC7)) -> 336 | J14: =IF(LEN($C$10)>0,"",IF(OR(AND($D$98,$A14>30),AND($D$99=1, $A14>14)),"---",旅綜險簡易版費率表試算!DR7)) -> 402 | K14: =IF(LEN($C$10)>0,"",IF(OR(AND($D$98,$A14>30),AND($D$99=1, $A14>14)),"---",旅綜險簡易版費率表試算!EG7)) -> 503 | L14: =IF(LEN($C$10)>0,"",IF(OR(AND($D$98,$A14>30),AND($D$99=1, $A14>14)),"---",旅綜險簡易版費率表試算!EV7)) -> 571 | M14: =IF(LEN($C$10)>0,"",IF(OR(AND($E$98,$A14>30),AND($E$99=1, $A14>14)),"---",旅綜險簡易版費率表試算!FK7)) -> 1081 | N14: =IF(LEN($C$10)>0,"",IF(OR(AND($E$98,$A14>30),AND($E$99=1, $A14>14)),"---",旅綜險簡易版費率表試算!FZ7)) -> 651 | O14: =IF(LEN($C$10)>0,"",IF(OR(AND($E$98,$A14>30),AND($E$99=1, $A14>14)),"---",旅綜險簡易版費率表試算!GO7)) -> 842 | P14: =IF(LEN($C$10)>0,"",IF(OR(AND($E$98,$A14>30),AND($E$99=1, $A14>14)),"---",旅綜險簡易版費率表試算!HD7)) -> 796 | Q14: =IF(LEN($C$10)>0,"",IF(OR(AND($E$98,$A14>30),AND($E$99=1, $A14>14)),"---",旅綜險簡易版費率表試算!HS7)) -> 796
A15: 4 | C15: =IF(LEN($C$10)>0, "", IF(OR(AND($C$98,$A15>30),AND($C$99=1, $A15>14)), "---", 旅綜險簡易版費率表試算!Q8)) -> 252 | D15: =IF(LEN($C$10)>0,"",IF(OR(AND($C$98,$A15>30),AND($C$99=1, $A15>14)),"---",旅綜險簡易版費率表試算!AF8)) -> 252 | E15: =IF(LEN($C$10)>0,"",IF(OR(AND($C$98,$A15>30),AND($C$99=1, $A15>14)),"---",旅綜險簡易版費率表試算!AU8)) -> 414 | F15: =IF(LEN($C$10)>0,"",IF(OR(AND($C$98,$A15>30),AND($C$99=1, $A15>14)),"---",旅綜險簡易版費率表試算!BJ8)) -> 649 | G15: =IF(LEN($C$10)>0,"",IF(OR(AND($C$98,$A15>30),AND($C$99=1, $A15>14)),"---",旅綜險簡易版費率表試算!BY8)) -> 804 | H15: =IF(LEN($C$10)>0,"", IF(OR(AND($D$98,$A15>30),AND($D$99=1, $A15>14)),"---",旅綜險簡易版費率表試算!CN8)) -> 393 | I15: =IF(LEN($C$10)>0,"",IF(OR(AND($D$98,$A15>30),AND($D$99=1, $A15>14)),"---",旅綜險簡易版費率表試算!DC8)) -> 437 | J15: =IF(LEN($C$10)>0,"",IF(OR(AND($D$98,$A15>30),AND($D$99=1, $A15>14)),"---",旅綜險簡易版費率表試算!DR8)) -> 524 | K15: =IF(LEN($C$10)>0,"",IF(OR(AND($D$98,$A15>30),AND($D$99=1, $A15>14)),"---",旅綜險簡易版費率表試算!EG8)) -> 654 | L15: =IF(LEN($C$10)>0,"",IF(OR(AND($D$98,$A15>30),AND($D$99=1, $A15>14)),"---",旅綜險簡易版費率表試算!EV8)) -> 743 | M15: =IF(LEN($C$10)>0,"",IF(OR(AND($E$98,$A15>30),AND($E$99=1, $A15>14)),"---",旅綜險簡易版費率表試算!FK8)) -> 1407 | N15: =IF(LEN($C$10)>0,"",IF(OR(AND($E$98,$A15>30),AND($E$99=1, $A15>14)),"---",旅綜險簡易版費率表試算!FZ8)) -> 848 | O15: =IF(LEN($C$10)>0,"",IF(OR(AND($E$98,$A15>30),AND($E$99=1, $A15>14)),"---",旅綜險簡易版費率表試算!GO8)) -> 1099 | P15: =IF(LEN($C$10)>0,"",IF(OR(AND($E$98,$A15>30),AND($E$99=1, $A15>14)),"---",旅綜險簡易版費率表試算!HD8)) -> 1037 | Q15: =IF(LEN($C$10)>0,"",IF(OR(AND($E$98,$A15>30),AND($E$99=1, $A15>14)),"---",旅綜險簡易版費率表試算!HS8)) -> 1037
A16: 5 | C16: =IF(LEN($C$10)>0, "", IF(OR(AND($C$98,$A16>30),AND($C$99=1, $A16>14)), "---", 旅綜險簡易版費率表試算!Q9)) -> 309 | D16: =IF(LEN($C$10)>0,"",IF(OR(AND($C$98,$A16>30),AND($C$99=1, $A16>14)),"---",旅綜險簡易版費率表試算!AF9)) -> 309 | E16: =IF(LEN($C$10)>0,"",IF(OR(AND($C$98,$A16>30),AND($C$99=1, $A16>14)),"---",旅綜險簡易版費率表試算!AU9)) -> 507 | F16: =IF(LEN($C$10)>0,"",IF(OR(AND($C$98,$A16>30),AND($C$99=1, $A16>14)),"---",旅綜險簡易版費率表試算!BJ9)) -> 796 | G16: =IF(LEN($C$10)>0,"",IF(OR(AND($C$98,$A16>30),AND($C$99=1, $A16>14)),"---",旅綜險簡易版費率表試算!BY9)) -> 987 | H16: =IF(LEN($C$10)>0,"", IF(OR(AND($D$98,$A16>30),AND($D$99=1, $A16>14)),"---",旅綜險簡易版費率表試算!CN9)) -> 481 | I16: =IF(LEN($C$10)>0,"",IF(OR(AND($D$98,$A16>30),AND($D$99=1, $A16>14)),"---",旅綜險簡易版費率表試算!DC9)) -> 534 | J16: =IF(LEN($C$10)>0,"",IF(OR(AND($D$98,$A16>30),AND($D$99=1, $A16>14)),"---",旅綜險簡易版費率表試算!DR9)) -> 642 | K16: =IF(LEN($C$10)>0,"",IF(OR(AND($D$98,$A16>30),AND($D$99=1, $A16>14)),"---",旅綜險簡易版費率表試算!EG9)) -> 802 | L16: =IF(LEN($C$10)>0,"",IF(OR(AND($D$98,$A16>30),AND($D$99=1, $A16>14)),"---",旅綜險簡易版費率表試算!EV9)) -> 911 | M16: =IF(LEN($C$10)>0,"",IF(OR(AND($E$98,$A16>30),AND($E$99=1, $A16>14)),"---",旅綜險簡易版費率表試算!FK9)) -> 1723 | N16: =IF(LEN($C$10)>0,"",IF(OR(AND($E$98,$A16>30),AND($E$99=1, $A16>14)),"---",旅綜險簡易版費率表試算!FZ9)) -> 1035 | O16: =IF(LEN($C$10)>0,"",IF(OR(AND($E$98,$A16>30),AND($E$99=1, $A16>14)),"---",旅綜險簡易版費率表試算!GO9)) -> 1345 | P16: =IF(LEN($C$10)>0,"",IF(OR(AND($E$98,$A16>30),AND($E$99=1, $A16>14)),"---",旅綜險簡易版費率表試算!HD9)) -> 1269 | Q16: =IF(LEN($C$10)>0,"",IF(OR(AND($E$98,$A16>30),AND($E$99=1, $A16>14)),"---",旅綜險簡易版費率表試算!HS9)) -> 1269
A17: 6 | C17: =IF(LEN($C$10)>0, "", IF(OR(AND($C$98,$A17>30),AND($C$99=1, $A17>14)), "---", 旅綜險簡易版費率表試算!Q10)) -> 334 | D17: =IF(LEN($C$10)>0,"",IF(OR(AND($C$98,$A17>30),AND($C$99=1, $A17>14)),"---",旅綜險簡易版費率表試算!AF10)) -> 334 | E17: =IF(LEN($C$10)>0,"",IF(OR(AND($C$98,$A17>30),AND($C$99=1, $A17>14)),"---",旅綜險簡易版費率表試算!AU10)) -> 549 | F17: =IF(LEN($C$10)>0,"",IF(OR(AND($C$98,$A17>30),AND($C$99=1, $A17>14)),"---",旅綜險簡易版費率表試算!BJ10)) -> 861 | G17: =IF(LEN($C$10)>0,"",IF(OR(AND($C$98,$A17>30),AND($C$99=1, $A17>14)),"---",旅綜險簡易版費率表試算!BY10)) -> 1065 | H17: =IF(LEN($C$10)>0,"", IF(OR(AND($D$98,$A17>30),AND($D$99=1, $A17>14)),"---",旅綜險簡易版費率表試算!CN10)) -> 521 | I17: =IF(LEN($C$10)>0,"",IF(OR(AND($D$98,$A17>30),AND($D$99=1, $A17>14)),"---",旅綜險簡易版費率表試算!DC10)) -> 578 | J17: =IF(LEN($C$10)>0,"",IF(OR(AND($D$98,$A17>30),AND($D$99=1, $A17>14)),"---",旅綜險簡易版費率表試算!DR10)) -> 694 | K17: =IF(LEN($C$10)>0,"",IF(OR(AND($D$98,$A17>30),AND($D$99=1, $A17>14)),"---",旅綜險簡易版費率表試算!EG10)) -> 868 | L17: =IF(LEN($C$10)>0,"",IF(OR(AND($D$98,$A17>30),AND($D$99=1, $A17>14)),"---",旅綜險簡易版費率表試算!EV10)) -> 984 | M17: =IF(LEN($C$10)>0,"",IF(OR(AND($E$98,$A17>30),AND($E$99=1, $A17>14)),"---",旅綜險簡易版費率表試算!FK10)) -> 1862 | N17: =IF(LEN($C$10)>0,"",IF(OR(AND($E$98,$A17>30),AND($E$99=1, $A17>14)),"---",旅綜險簡易版費率表試算!FZ10)) -> 1122 | O17: =IF(LEN($C$10)>0,"",IF(OR(AND($E$98,$A17>30),AND($E$99=1, $A17>14)),"---",旅綜險簡易版費率表試算!GO10)) -> 1456 | P17: =IF(LEN($C$10)>0,"",IF(OR(AND($E$98,$A17>30),AND($E$99=1, $A17>14)),"---",旅綜險簡易版費率表試算!HD10)) -> 1374 | Q17: =IF(LEN($C$10)>0,"",IF(OR(AND($E$98,$A17>30),AND($E$99=1, $A17>14)),"---",旅綜險簡易版費率表試算!HS10)) -> 1374
A18: 7 | C18: =IF(LEN($C$10)>0, "", IF(OR(AND($C$98,$A18>30),AND($C$99=1, $A18>14)), "---", 旅綜險簡易版費率表試算!Q11)) -> 356 | D18: =IF(LEN($C$10)>0,"",IF(OR(AND($C$98,$A18>30),AND($C$99=1, $A18>14)),"---",旅綜險簡易版費率表試算!AF11)) -> 356 | E18: =IF(LEN($C$10)>0,"",IF(OR(AND($C$98,$A18>30),AND($C$99=1, $A18>14)),"---",旅綜險簡易版費率表試算!AU11)) -> 587 | F18: =IF(LEN($C$10)>0,"",IF(OR(AND($C$98,$A18>30),AND($C$99=1, $A18>14)),"---",旅綜險簡易版費率表試算!BJ11)) -> 924 | G18: =IF(LEN($C$10)>0,"",IF(OR(AND($C$98,$A18>30),AND($C$99=1, $A18>14)),"---",旅綜險簡易版費率表試算!BY11)) -> 1141 | H18: =IF(LEN($C$10)>0,"", IF(OR(AND($D$98,$A18>30),AND($D$99=1, $A18>14)),"---",旅綜險簡易版費率表試算!CN11)) -> 554 | I18: =IF(LEN($C$10)>0,"",IF(OR(AND($D$98,$A18>30),AND($D$99=1, $A18>14)),"---",旅綜險簡易版費率表試算!DC11)) -> 615 | J18: =IF(LEN($C$10)>0,"",IF(OR(AND($D$98,$A18>30),AND($D$99=1, $A18>14)),"---",旅綜險簡易版費率表試算!DR11)) -> 740 | K18: =IF(LEN($C$10)>0,"",IF(OR(AND($D$98,$A18>30),AND($D$99=1, $A18>14)),"---",旅綜險簡易版費率表試算!EG11)) -> 927 | L18: =IF(LEN($C$10)>0,"",IF(OR(AND($D$98,$A18>30),AND($D$99=1, $A18>14)),"---",旅綜險簡易版費率表試算!EV11)) -> 1051 | M18: =IF(LEN($C$10)>0,"",IF(OR(AND($E$98,$A18>30),AND($E$99=1, $A18>14)),"---",旅綜險簡易版費率表試算!FK11)) -> 1993 | N18: =IF(LEN($C$10)>0,"",IF(OR(AND($E$98,$A18>30),AND($E$99=1, $A18>14)),"---",旅綜險簡易版費率表試算!FZ11)) -> 1198 | O18: =IF(LEN($C$10)>0,"",IF(OR(AND($E$98,$A18>30),AND($E$99=1, $A18>14)),"---",旅綜險簡易版費率表試算!GO11)) -> 1558 | P18: =IF(LEN($C$10)>0,"",IF(OR(AND($E$98,$A18>30),AND($E$99=1, $A18>14)),"---",旅綜險簡易版費率表試算!HD11)) -> 1470 | Q18: =IF(LEN($C$10)>0,"",IF(OR(AND($E$98,$A18>30),AND($E$99=1, $A18>14)),"---",旅綜險簡易版費率表試算!HS11)) -> 1470
A19: 8 | C19: =IF(LEN($C$10)>0, "", IF(OR(AND($C$98,$A19>30),AND($C$99=1, $A19>14)), "---", 旅綜險簡易版費率表試算!Q12)) -> 375 | D19: =IF(LEN($C$10)>0,"",IF(OR(AND($C$98,$A19>30),AND($C$99=1, $A19>14)),"---",旅綜險簡易版費率表試算!AF12)) -> 375 | E19: =IF(LEN($C$10)>0,"",IF(OR(AND($C$98,$A19>30),AND($C$99=1, $A19>14)),"---",旅綜險簡易版費率表試算!AU12)) -> 616 | F19: =IF(LEN($C$10)>0,"",IF(OR(AND($C$98,$A19>30),AND($C$99=1, $A19>14)),"---",旅綜險簡易版費率表試算!BJ12)) -> 965 | G19: =IF(LEN($C$10)>0,"",IF(OR(AND($C$98,$A19>30),AND($C$99=1, $A19>14)),"---",旅綜險簡易版費率表試算!BY12)) -> 1190 | H19: =IF(LEN($C$10)>0,"", IF(OR(AND($D$98,$A19>30),AND($D$99=1, $A19>14)),"---",旅綜險簡易版費率表試算!CN12)) -> 584 | I19: =IF(LEN($C$10)>0,"",IF(OR(AND($D$98,$A19>30),AND($D$99=1, $A19>14)),"---",旅綜險簡易版費率表試算!DC12)) -> 648 | J19: =IF(LEN($C$10)>0,"",IF(OR(AND($D$98,$A19>30),AND($D$99=1, $A19>14)),"---",旅綜險簡易版費率表試算!DR12)) -> 778 | K19: =IF(LEN($C$10)>0,"",IF(OR(AND($D$98,$A19>30),AND($D$99=1, $A19>14)),"---",旅綜險簡易版費率表試算!EG12)) -> 971 | L19: =IF(LEN($C$10)>0,"",IF(OR(AND($D$98,$A19>30),AND($D$99=1, $A19>14)),"---",旅綜險簡易版費率表試算!EV12)) -> 1097 | M19: =IF(LEN($C$10)>0,"",IF(OR(AND($E$98,$A19>30),AND($E$99=1, $A19>14)),"---",旅綜險簡易版費率表試算!FK12)) -> 2092 | N19: =IF(LEN($C$10)>0,"",IF(OR(AND($E$98,$A19>30),AND($E$99=1, $A19>14)),"---",旅綜險簡易版費率表試算!FZ12)) -> 1261 | O19: =IF(LEN($C$10)>0,"",IF(OR(AND($E$98,$A19>30),AND($E$99=1, $A19>14)),"---",旅綜險簡易版費率表試算!GO12)) -> 1639 | P19: =IF(LEN($C$10)>0,"",IF(OR(AND($E$98,$A19>30),AND($E$99=1, $A19>14)),"---",旅綜險簡易版費率表試算!HD12)) -> 1542 | Q19: =IF(LEN($C$10)>0,"",IF(OR(AND($E$98,$A19>30),AND($E$99=1, $A19>14)),"---",旅綜險簡易版費率表試算!HS12)) -> 1542
A20: 9 | C20: =IF(LEN($C$10)>0, "", IF(OR(AND($C$98,$A20>30),AND($C$99=1, $A20>14)), "---", 旅綜險簡易版費率表試算!Q13)) -> 393 | D20: =IF(LEN($C$10)>0,"",IF(OR(AND($C$98,$A20>30),AND($C$99=1, $A20>14)),"---",旅綜險簡易版費率表試算!AF13)) -> 393 | E20: =IF(LEN($C$10)>0,"",IF(OR(AND($C$98,$A20>30),AND($C$99=1, $A20>14)),"---",旅綜險簡易版費率表試算!AU13)) -> 644 | F20: =IF(LEN($C$10)>0,"",IF(OR(AND($C$98,$A20>30),AND($C$99=1, $A20>14)),"---",旅綜險簡易版費率表試算!BJ13)) -> 1005 | G20: =IF(LEN($C$10)>0,"",IF(OR(AND($C$98,$A20>30),AND($C$99=1, $A20>14)),"---",旅綜險簡易版費率表試算!BY13)) -> 1238 | H20: =IF(LEN($C$10)>0,"", IF(OR(AND($D$98,$A20>30),AND($D$99=1, $A20>14)),"---",旅綜險簡易版費率表試算!CN13)) -> 612 | I20: =IF(LEN($C$10)>0,"",IF(OR(AND($D$98,$A20>30),AND($D$99=1, $A20>14)),"---",旅綜險簡易版費率表試算!DC13)) -> 679 | J20: =IF(LEN($C$10)>0,"",IF(OR(AND($D$98,$A20>30),AND($D$99=1, $A20>14)),"---",旅綜險簡易版費率表試算!DR13)) -> 814 | K20: =IF(LEN($C$10)>0,"",IF(OR(AND($D$98,$A20>30),AND($D$99=1, $A20>14)),"---",旅綜險簡易版費率表試算!EG13)) -> 1011 | L20: =IF(LEN($C$10)>0,"",IF(OR(AND($D$98,$A20>30),AND($D$99=1, $A20>14)),"---",旅綜險簡易版費率表試算!EV13)) -> 1141 | M20: =IF(LEN($C$10)>0,"",IF(OR(AND($E$98,$A20>30),AND($E$99=1, $A20>14)),"---",旅綜險簡易版費率表試算!FK13)) -> 2179 | N20: =IF(LEN($C$10)>0,"",IF(OR(AND($E$98,$A20>30),AND($E$99=1, $A20>14)),"---",旅綜險簡易版費率表試算!FZ13)) -> 1319 | O20: =IF(LEN($C$10)>0,"",IF(OR(AND($E$98,$A20>30),AND($E$99=1, $A20>14)),"---",旅綜險簡易版費率表試算!GO13)) -> 1712 | P20: =IF(LEN($C$10)>0,"",IF(OR(AND($E$98,$A20>30),AND($E$99=1, $A20>14)),"---",旅綜險簡易版費率表試算!HD13)) -> 1610 | Q20: =IF(LEN($C$10)>0,"",IF(OR(AND($E$98,$A20>30),AND($E$99=1, $A20>14)),"---",旅綜險簡易版費率表試算!HS13)) -> 1610
A21: 10 | C21: =IF(LEN($C$10)>0, "", IF(OR(AND($C$98,$A21>30),AND($C$99=1, $A21>14)), "---", 旅綜險簡易版費率表試算!Q14)) -> 410 | D21: =IF(LEN($C$10)>0,"",IF(OR(AND($C$98,$A21>30),AND($C$99=1, $A21>14)),"---",旅綜險簡易版費率表試算!AF14)) -> 410 | E21: =IF(LEN($C$10)>0,"",IF(OR(AND($C$98,$A21>30),AND($C$99=1, $A21>14)),"---",旅綜險簡易版費率表試算!AU14)) -> 672 | F21: =IF(LEN($C$10)>0,"",IF(OR(AND($C$98,$A21>30),AND($C$99=1, $A21>14)),"---",旅綜險簡易版費率表試算!BJ14)) -> 1048 | G21: =IF(LEN($C$10)>0,"",IF(OR(AND($C$98,$A21>30),AND($C$99=1, $A21>14)),"---",旅綜險簡易版費率表試算!BY14)) -> 1288 | H21: =IF(LEN($C$10)>0,"", IF(OR(AND($D$98,$A21>30),AND($D$99=1, $A21>14)),"---",旅綜險簡易版費率表試算!CN14)) -> 639 | I21: =IF(LEN($C$10)>0,"",IF(OR(AND($D$98,$A21>30),AND($D$99=1, $A21>14)),"---",旅綜險簡易版費率表試算!DC14)) -> 709 | J21: =IF(LEN($C$10)>0,"",IF(OR(AND($D$98,$A21>30),AND($D$99=1, $A21>14)),"---",旅綜險簡易版費率表試算!DR14)) -> 849 | K21: =IF(LEN($C$10)>0,"",IF(OR(AND($D$98,$A21>30),AND($D$99=1, $A21>14)),"---",旅綜險簡易版費率表試算!EG14)) -> 1052 | L21: =IF(LEN($C$10)>0,"",IF(OR(AND($D$98,$A21>30),AND($D$99=1, $A21>14)),"---",旅綜險簡易版費率表試算!EV14)) -> 1184 | M21: =IF(LEN($C$10)>0,"",IF(OR(AND($E$98,$A21>30),AND($E$99=1, $A21>14)),"---",旅綜險簡易版費率表試算!FK14)) -> 2275 | N21: =IF(LEN($C$10)>0,"",IF(OR(AND($E$98,$A21>30),AND($E$99=1, $A21>14)),"---",旅綜險簡易版費率表試算!FZ14)) -> 1382 | O21: =IF(LEN($C$10)>0,"",IF(OR(AND($E$98,$A21>30),AND($E$99=1, $A21>14)),"---",旅綜險簡易版費率表試算!GO14)) -> 1792 | P21: =IF(LEN($C$10)>0,"",IF(OR(AND($E$98,$A21>30),AND($E$99=1, $A21>14)),"---",旅綜險簡易版費率表試算!HD14)) -> 1683 | Q21: =IF(LEN($C$10)>0,"",IF(OR(AND($E$98,$A21>30),AND($E$99=1, $A21>14)),"---",旅綜險簡易版費率表試算!HS14)) -> 1683
A22: 11 | C22: =IF(LEN($C$10)>0, "", IF(OR(AND($C$98,$A22>30),AND($C$99=1, $A22>14)), "---", 旅綜險簡易版費率表試算!Q15)) -> 430 | D22: =IF(LEN($C$10)>0,"",IF(OR(AND($C$98,$A22>30),AND($C$99=1, $A22>14)),"---",旅綜險簡易版費率表試算!AF15)) -> 430 | E22: =IF(LEN($C$10)>0,"",IF(OR(AND($C$98,$A22>30),AND($C$99=1, $A22>14)),"---",旅綜險簡易版費率表試算!AU15)) -> 702 | F22: =IF(LEN($C$10)>0,"",IF(OR(AND($C$98,$A22>30),AND($C$99=1, $A22>14)),"---",旅綜險簡易版費率表試算!BJ15)) -> 1091 | G22: =IF(LEN($C$10)>0,"",IF(OR(AND($C$98,$A22>30),AND($C$99=1, $A22>14)),"---",旅綜險簡易版費率表試算!BY15)) -> 1339 | H22: =IF(LEN($C$10)>0,"", IF(OR(AND($D$98,$A22>30),AND($D$99=1, $A22>14)),"---",旅綜險簡易版費率表試算!CN15)) -> 668 | I22: =IF(LEN($C$10)>0,"",IF(OR(AND($D$98,$A22>30),AND($D$99=1, $A22>14)),"---",旅綜險簡易版費率表試算!DC15)) -> 742 | J22: =IF(LEN($C$10)>0,"",IF(OR(AND($D$98,$A22>30),AND($D$99=1, $A22>14)),"---",旅綜險簡易版費率表試算!DR15)) -> 886 | K22: =IF(LEN($C$10)>0,"",IF(OR(AND($D$98,$A22>30),AND($D$99=1, $A22>14)),"---",旅綜險簡易版費率表試算!EG15)) -> 1095 | L22: =IF(LEN($C$10)>0,"",IF(OR(AND($D$98,$A22>30),AND($D$99=1, $A22>14)),"---",旅綜險簡易版費率表試算!EV15)) -> 1230 | M22: =IF(LEN($C$10)>0,"",IF(OR(AND($E$98,$A22>30),AND($E$99=1, $A22>14)),"---",旅綜險簡易版費率表試算!FK15)) -> 2374 | N22: =IF(LEN($C$10)>0,"",IF(OR(AND($E$98,$A22>30),AND($E$99=1, $A22>14)),"---",旅綜險簡易版費率表試算!FZ15)) -> 1446 | O22: =IF(LEN($C$10)>0,"",IF(OR(AND($E$98,$A22>30),AND($E$99=1, $A22>14)),"---",旅綜險簡易版費率表試算!GO15)) -> 1872 | P22: =IF(LEN($C$10)>0,"",IF(OR(AND($E$98,$A22>30),AND($E$99=1, $A22>14)),"---",旅綜險簡易版費率表試算!HD15)) -> 1754 | Q22: =IF(LEN($C$10)>0,"",IF(OR(AND($E$98,$A22>30),AND($E$99=1, $A22>14)),"---",旅綜險簡易版費率表試算!HS15)) -> 1754
A23: 12 | C23: =IF(LEN($C$10)>0, "", IF(OR(AND($C$98,$A23>30),AND($C$99=1, $A23>14)), "---", 旅綜險簡易版費率表試算!Q16)) -> 448 | D23: =IF(LEN($C$10)>0,"",IF(OR(AND($C$98,$A23>30),AND($C$99=1, $A23>14)),"---",旅綜險簡易版費率表試算!AF16)) -> 448 | E23: =IF(LEN($C$10)>0,"",IF(OR(AND($C$98,$A23>30),AND($C$99=1, $A23>14)),"---",旅綜險簡易版費率表試算!AU16)) -> 730 | F23: =IF(LEN($C$10)>0,"",IF(OR(AND($C$98,$A23>30),AND($C$99=1, $A23>14)),"---",旅綜險簡易版費率表試算!BJ16)) -> 1133 | G23: =IF(LEN($C$10)>0,"",IF(OR(AND($C$98,$A23>30),AND($C$99=1, $A23>14)),"---",旅綜險簡易版費率表試算!BY16)) -> 1388 | H23: =IF(LEN($C$10)>0,"", IF(OR(AND($D$98,$A23>30),AND($D$99=1, $A23>14)),"---",旅綜險簡易版費率表試算!CN16)) -> 697 | I23: =IF(LEN($C$10)>0,"",IF(OR(AND($D$98,$A23>30),AND($D$99=1, $A23>14)),"---",旅綜險簡易版費率表試算!DC16)) -> 774 | J23: =IF(LEN($C$10)>0,"",IF(OR(AND($D$98,$A23>30),AND($D$99=1, $A23>14)),"---",旅綜險簡易版費率表試算!DR16)) -> 923 | K23: =IF(LEN($C$10)>0,"",IF(OR(AND($D$98,$A23>30),AND($D$99=1, $A23>14)),"---",旅綜險簡易版費率表試算!EG16)) -> 1138 | L23: =IF(LEN($C$10)>0,"",IF(OR(AND($D$98,$A23>30),AND($D$99=1, $A23>14)),"---",旅綜險簡易版費率表試算!EV16)) -> 1275 | M23: =IF(LEN($C$10)>0,"",IF(OR(AND($E$98,$A23>30),AND($E$99=1, $A23>14)),"---",旅綜險簡易版費率表試算!FK16)) -> 2470 | N23: =IF(LEN($C$10)>0,"",IF(OR(AND($E$98,$A23>30),AND($E$99=1, $A23>14)),"---",旅綜險簡易版費率表試算!FZ16)) -> 1508 | O23: =IF(LEN($C$10)>0,"",IF(OR(AND($E$98,$A23>30),AND($E$99=1, $A23>14)),"---",旅綜險簡易版費率表試算!GO16)) -> 1951 | P23: =IF(LEN($C$10)>0,"",IF(OR(AND($E$98,$A23>30),AND($E$99=1, $A23>14)),"---",旅綜險簡易版費率表試算!HD16)) -> 1826 | Q23: =IF(LEN($C$10)>0,"",IF(OR(AND($E$98,$A23>30),AND($E$99=1, $A23>14)),"---",旅綜險簡易版費率表試算!HS16)) -> 1826
... A59: 180 | C59: =IF(LEN($C$10)>0, "", IF(OR(AND($C$98,$A59>30),AND($C$99=1, $A59>14)), "---", 旅綜險簡易版費率表試算!Q52)) -> --- | D59: =IF(LEN($C$10)>0,"",IF(OR(AND($C$98,$A59>30),AND($C$99=1, $A59>14)),"---",旅綜險簡易版費率表試算!AF52)) -> --- | E59: =IF(LEN($C$10)>0,"",IF(OR(AND($C$98,$A59>30),AND($C$99=1, $A59>14)),"---",旅綜險簡易版費率表試算!AU52)) -> --- | F59: =IF(LEN($C$10)>0,"",IF(OR(AND($C$98,$A59>30),AND($C$99=1, $A59>14)),"---",旅綜險簡易版費率表試算!BJ52)) -> --- | G59: =IF(LEN($C$10)>0,"",IF(OR(AND($C$98,$A59>30),AND($C$99=1, $A59>14)),"---",旅綜險簡易版費率表試算!BY52)) -> --- | H59: =IF(LEN($C$10)>0,"", IF(OR(AND($D$98,$A59>30),AND($D$99=1, $A59>14)),"---",旅綜險簡易版費率表試算!CN52)) -> 2957 | I59: =IF(LEN($C$10)>0,"",IF(OR(AND($D$98,$A59>30),AND($D$99=1, $A59>14)),"---",旅綜險簡易版費率表試算!DC52)) -> 3269 | J59: =IF(LEN($C$10)>0,"",IF(OR(AND($D$98,$A59>30),AND($D$99=1, $A59>14)),"---",旅綜險簡易版費率表試算!DR52)) -> 3875 | K59: =IF(LEN($C$10)>0,"",IF(OR(AND($D$98,$A59>30),AND($D$99=1, $A59>14)),"---",旅綜險簡易版費率表試算!EG52)) -> 4734 | L59: =IF(LEN($C$10)>0,"",IF(OR(AND($D$98,$A59>30),AND($D$99=1, $A59>14)),"---",旅綜險簡易版費率表試算!EV52)) -> 5273 | M59: =IF(LEN($C$10)>0,"",IF(OR(AND($E$98,$A59>30),AND($E$99=1, $A59>14)),"---",旅綜險簡易版費率表試算!FK52)) -> --- | N59: =IF(LEN($C$10)>0,"",IF(OR(AND($E$98,$A59>30),AND($E$99=1, $A59>14)),"---",旅綜險簡易版費率表試算!FZ52)) -> --- | O59: =IF(LEN($C$10)>0,"",IF(OR(AND($E$98,$A59>30),AND($E$99=1, $A59>14)),"---",旅綜險簡易版費率表試算!GO52)) -> --- | P59: =IF(LEN($C$10)>0,"",IF(OR(AND($E$98,$A59>30),AND($E$99=1, $A59>14)),"---",旅綜險簡易版費率表試算!HD52)) -> --- | Q59: =IF(LEN($C$10)>0,"",IF(OR(AND($E$98,$A59>30),AND($E$99=1, $A59>14)),"---",旅綜險簡易版費率表試算!HS52)) -> ---
A60: ※若欲投保之金額或旅遊天數非上表所列者，請服務同仁至[國泰金控員工入口網站/產險核心系統/旅綜險系統/保費試算]查詢
B98: 乙型且額度>0 | C98: =IF(AND($B$8="(乙型)",MAX(C$8:G$8)>0),TRUE,FALSE) -> TRUE | D98: =IF(AND($B$8="(乙型)",MAX(H$8:L$8)>0),TRUE,FALSE) -> FALSE | E98: =IF(AND($B$8="(乙型)",MAX(M$8:Q$8)>0),TRUE,FALSE) -> TRUE
A99: 海外/國內 | C99: =+費率表參數!U1 -> 2 | D99: =+費率表參數!U8 -> 2 | E99: =+費率表參數!U15 -> 2
A100: 旅遊不便\險別 | C100: =IF(C99=1,C101,C102) -> 費率表參數!V2:V5 | D100: =IF(D99=1,D101,D102) -> 費率表參數!V19:V22 | E100: =IF(E99=1,E101,E102) -> 費率表參數!V36:V39
A101: 1國內 | C101: 費率表參數!V8:V11 | D101: 費率表參數!V25:V28 | E101: 費率表參數!V42:V45
A102: 2國外 | C102: 費率表參數!V2:V5 | D102: 費率表參數!V19:V22 | E102: 費率表參數!V36:V39
A103: 死殘保額 | C103: 費率表彙總!D5:D34 | D103: 費率表彙總!D5:D44 | E103: 費率表彙總!C4:C74 | F103: =IF(AND(C99=1,費率表參數!J1=1),C103,IF(AND(C99=2,費率表參數!J1=1),D103,E103)) -> 費率表彙總!D5:D44 | G103: =IF(AND(D99=1,費率表參數!J1=1),C103,IF(AND(D99=2,費率表參數!J1=1),D103,E103)) -> 費率表彙總!D5:D44 | H103: =IF(AND(E99=1,費率表參數!J1=1),C103,IF(AND(E99=2,費率表參數!J1=1),D103,E103)) -> 費率表彙總!D5:D44
A104: 增購特定事故 | C104: 費率表參數!X3:X4
A105: 恐怖主義買回保額 | C105: 費率表參數!Y3:Y4
A106: 實支保額 | C106: 費率表彙總!J4:J34 | D106: 費率表彙總!J4:J14 | E106: 費率表彙總!J36:J41 | F106: 費率表彙總!J35:J36 | G106: =IF(AND(費率表參數!J1=0,C99=2),E106,(IF(AND(費率表參數!J1=0,C99=1),F106,IF(AND(費率表參數!J1=1,C99=2),C106,D106)))) -> 費率表彙總!J4:J34 | H106: =IF(AND(費率表參數!J1=0,D99=2),E106,(IF(AND(費率表參數!J1=0,D99=1),F106,IF(AND(費率表參數!J1=1,D99=2),C106,D106)))) -> 費率表彙總!J4:J34 | I106: =IF(AND(費率表參數!J1=0,E99=2),E106,(IF(AND(費率表參數!J1=0,E99=1),F106,IF(AND(費率表參數!J1=1,E99=2),C106,D106)))) -> 費率表彙總!J4:J34
A107: 海外突發疾病 | B107: (甲型) | C107: 費率表彙總!L4:L34 | D107: 費率表彙總!L36:L41 | E107: 費率表彙總!L4
B108: (乙型) | C108: 費率表彙總!L4:L26 | D108: 費率表彙總!L36:L41 | E108: 費率表彙總!L4
C109: =IF(C99=1,E107,(IF(AND(C99=2,K11=G115),D107,C107))) -> 費率表彙總!L4:L34 | D109: =IF(D99=1,E107,(IF(AND(D99=2,K11=G115),D107,C107))) -> 費率表彙總!L4:L34 | E109: =IF(E99=1,E107,(IF(AND(E99=2,K11=G115),D107,C107))) -> 費率表彙總!L4:L34
A110: 非台籍人士境內突發 | C110: 費率表彙總!P4:P16 | D110: 費率表彙總!P35:P36 | E110: 費率表彙總!P4
C111: =IF(C99=2,E110,(IF(AND(C99=1,K11=G115),D110,C110))) -> 費率表彙總!P4 | D111: =IF(D99=2,E110,(IF(AND(D99=1,K11=G115),D110,C110))) -> 費率表彙總!P4 | E111: =IF(E99=2,E110,(IF(AND(E99=1,K11=G115),D110,C110))) -> 費率表彙總!P4
A113: 簡易版費率表 | C113: 費率別 | E113: =+總表!F98 -> 6 | G113: =CHOOSE(E113,"費率表參數!H2:H6","費率表參數!H2:H2","費率表參數!H3:H3","費率表參數!H2:H3","費率表參數!H2:H4","費率表參數!H2:H5","費率表參數!H5:H5") -> 費率表參數!H2:H5
...

Sheet 訊息提示
A1: 旅綜險檢核 | B1: kyra5662
A2: 訊息欄 | B2: =D3&D4&D5&D6&D7&D8&D9&D10&D11&D12&D13&D14&D15&D16&D17&D18&D19&D20&D21&D22&D23&D24&D25&D26&D27&D28&D29&D30&D31&D32&D33&D34&D35&D36&D37&D38&D39&D40&D41&D42&D44&D50&D51&D52&D53&D45&D46&D43&D47 | K2: 條件1 | L2: 條件2 | M2: 條件3
A3: 檢核版本訊息 | D3: =IF(K3,"請重新上網下載更新版本 ","") | K3: =總表!D100<TODAY() -> FALSE
A4: 死殘保額下限 | D4: =IF(AND(旅綜險!L12<>"是",旅綜險!C103>1,旅綜險!C103<9,旅綜險!D12<100),"身故失能保額最低100萬元 ","")
A5: 死殘保額上限 | D5: =IF(K5,N5&"旅遊地點"&O5&"身故失能保額<="&L5&"萬 ","") | K5: =旅綜險!D$12>L5 -> FALSE | L5: =CHOOSE(旅綜險!C103,69,500,1500,1500,2000,1000,500,100,50,69,200) -> 2000 | N5: =+旅綜險!H11 -> 滿20歲-未滿65歲 | O5: =+旅綜險!H12 -> 海外
A6: 實支保額限制200萬 | D6: =IF(OR(K6,L6),"實支實付保額<=200萬 ","") | K6: =旅綜險!D13>200 -> FALSE | L6: =旅綜險!D13<0 -> FALSE
A7: 國內實支大於10萬 | D7: =IF(AND(K7,L7),"實支實付保額<=10萬 ","") | K7: =AND(+旅綜險!H12="國內",旅綜險!D13>10) -> FALSE | L7: =OR(旅綜險!C104=2,旅綜險!C104=4,旅綜險!C104=6,旅綜險!C104=7,旅綜險!C104=8) -> FALSE
A8: (甲型)突發疾病保額限制200萬 | D8: =IF(OR(K8,L8),"(甲型)突發疾病保額<=200萬 ","") | K8: =+AND(旅綜險!C14="(甲型)",旅綜險!D14>200) -> FALSE | L8: =旅綜險!D14<0 -> FALSE
A9: (乙型)突發疾病保額限制120萬 | D9: =IF(OR(K9,L9),"(乙型)突發疾病保額<=120萬 ","") | K9: =+AND(旅綜險!C14="(乙型)",旅綜險!D14>120) -> FALSE
A10: 國內身故失能與實支比例 | D10: =IF(AND(K10,L10,M10),"醫療實支保額<=身故失能*10% ","") | K10: =IF(旅綜險!D12<=10,IF(ROUNDUP(旅綜險!D12*10%,0)<旅綜險!D13,TRUE,FALSE),IF(旅綜險!D12*10%<旅綜險!D13,TRUE,FALSE)) -> FALSE | L10: =IF(選擇項目!B1=1,TRUE,FALSE) -> FALSE | M10: =旅綜險!H11<>"未滿15歲" -> TRUE
A11: 海外身故失能與實支比例 | D11: =IF(AND(K11,L11,M11),"醫療實支保額<=身故失能*30% ","") | K11: =IF(旅綜險!D12<=10,IF(ROUNDUP(旅綜險!D12*30%,0)<旅綜險!D13,TRUE,FALSE),IF(旅綜險!D12*30%<旅綜險!D13,TRUE,FALSE)) -> FALSE | L11: =IF(選擇項目!B1>1,TRUE,FALSE) -> TRUE | M11: =旅綜險!H11<>"未滿15歲" -> TRUE
A12: 國內身故失能與突疾比例 | D12: =IF(AND(K12,L12,M12),"突疾保額<=身故失能*10% ","") | K12: =IF(旅綜險!D12<=10,IF(ROUNDUP(旅綜險!D12*10%,0)<旅綜險!L13,TRUE,FALSE),IF(旅綜險!D12*10%<旅綜險!L13,TRUE,FALSE)) -> FALSE | L12: =IF(選擇項目!B1=1,TRUE,FALSE) -> FALSE | M12: =旅綜險!H11<>"未滿15歲" -> TRUE
A13: 海外身故失能與突疾比例 | D13: =IF(AND(K13,L13,M13),"突疾保額<=身故失能*30% ","") | K13: =IF(旅綜險!D12<=10,IF(ROUNDUP(旅綜險!D12*30%,0)<旅綜險!D14,TRUE,FALSE),IF(旅綜險!D12*30%<旅綜險!D14,TRUE,FALSE)) -> FALSE | L13: =IF(選擇項目!B1>1,TRUE,FALSE) -> TRUE | M13: =旅綜險!H11<>"未滿15歲" -> TRUE
A14: 未滿15歲海突限0,10,20,30,50,120萬 | D14: =IF(AND(K14,L14),"未滿15歲，海突保額未符規範 ","") | K14: =AND(N14="未滿15歲",O14="海外") -> FALSE | L14: =IF(OR(旅綜險!D14=0,旅綜險!D14=10,旅綜險!D14=20,旅綜險!D14=30,旅綜險!D14=50,旅綜險!D14=120),FALSE,TRUE) -> FALSE | N14: =+旅綜險!H11 -> 滿20歲-未滿65歲 | O14: =+旅綜險!H12 -> 海外
A15: 未滿15歲國內實支限0,6萬 | D15: =IF(AND(K15,L15),"未滿15歲，國內實支超過上限 ","") | K15: =AND(N15="未滿15歲",O15="國內") -> FALSE | L15: =IF(OR(旅綜險!D14=0,旅綜險!D14=6),FALSE,TRUE) -> TRUE | N15: =+旅綜險!H11 -> 滿20歲-未滿65歲 | O15: =+旅綜險!H12 -> 海外
A16: 未滿15歲海外實支限0,10,20,30,50,120萬 | D16: =IF(AND(K16,L16),"未滿15歲，海外實支未符規範 ","") | K16: =AND(N16="未滿15歲",O16="海外") -> FALSE | L16: =IF(OR(旅綜險!D13=0,旅綜險!D13=10,旅綜險!D13=20,旅綜險!D13=30,旅綜險!D13=50,旅綜險!D13=120),FALSE,TRUE) -> FALSE | N16: =+旅綜險!H11 -> 滿20歲-未滿65歲 | O16: =+旅綜險!H12 -> 海外
A17: 未滿15歲海外(0,0),(10,10),(20,20),(30,30),(120,120) | D17: =IF(AND(K17,L17,M17),"實支海突保額須相同 ","") | K17: =IF(旅綜險!H11="未滿15歲",TRUE,FALSE) -> FALSE | L17: =(旅綜險!D13<>旅綜險!D14) -> FALSE | M17: =IF(旅綜險!H12="海外",TRUE,FALSE) -> TRUE
A18: 國內旅遊天數限制14天 | D18: =IF(AND(選擇項目!$B$1=1,旅綜險!$H$13>14),"國內旅遊天數最高<=14天 ","")
A19: 國外旅遊天數限制180天 | D19: =IF(AND(OR(選擇項目!$B$1=2,選擇項目!$B$1=3),旅綜險!$H$13>180),"國外旅遊天數最高<=180天 ","")
A20: 國外乙型旅遊天數限制30天 | D20: =IF(AND(選擇項目!$B$1>1,旅綜險!C14="(乙型)",旅綜險!D14<>0,旅綜險!$H$13>30),"海突(乙型)天數<=30天 ","")
A21: 國內旅遊不得投保突發疾病 | D21: =IF(AND(選擇項目!$B$1=1,旅綜險!$D$14>0),"國內旅遊不得投保海外突疾 ","")
A22: 申根保額限制-實支 | D22: =IF(AND(選擇項目!$B$1=3,旅綜險!$D$13<120),"申根旅遊實支實付>=120萬 ","")
A23: 申根保額限制-突發疾病 | D23: =IF(AND(選擇項目!$B$1=3,旅綜險!$D$14<120),"申根旅遊突發疾病>=120萬 ","")
A24: 申根保額限制-旅遊不便 | D24: =IF(AND(選擇項目!$B$1=3,選擇項目!$D$1=1),"申根旅遊須投保旅遊不便 ","")
A25: 身故失能保額為50的倍數 | D25: =IF(AND(選擇項目!E1>1,MOD(旅綜險!D12,50)<>0),"身故失能保額須以50萬為單位 ","")
A26: 實支保額為萬的倍數 | D26: =IF(MOD(旅綜險!$D$13,1)<>0,"實支實付保額須以萬元為單位 ","")
A27: 突發疾病保額為萬的倍數 | D27: =IF(MOD(旅綜險!$D$14,1)<>0,"突發疾病保額須以萬元為單位 ","")
A28: 增購海陸特定事故死殘 | D28: =IF(AND(選擇項目!E1=1,選擇項目!G1=1),"特定事故身故失能限15歲以上 ","")
A29: 費率別選項 | D29: =IF(ISNA(VLOOKUP(旅綜險!L11,INDIRECT(旅綜險!C108),1,FALSE)),"請調整費率別選項 ","")
A30: 旅遊不便選項 | D30: =IF(ISNA(VLOOKUP(旅綜險!H14,INDIRECT(旅綜險!C109),1,FALSE)),"旅遊地點與旅遊不便選項錯誤 ","")
A31: 台籍旅客與國內非台籍(X1) | D31: =IF(K31,"台籍旅客不應投保非台籍不便險 ","") | K31: =AND(旅綜險!L12="否",旅綜險!H14="國內非台籍(X1)") -> FALSE
A32: 國內非台籍(X1)與實支、突發 | D32: =IF(K32,"國內非台籍(X1)的實支與突疾應為10萬 ","") | K32: =AND(旅綜險!H14="國內非台籍(X1)",OR(旅綜險!D13<>10,旅綜險!L13<>10)) -> FALSE
A33: 台籍旅客與境內突發疾病 | D33: =IF(K33,"台籍旅客不應投保境內突疾 ","") | K33: =AND(旅綜險!L12="否",旅綜險!L13>0) -> FALSE
A34: 陸客來台旅遊與國內非台籍(X1) | N34: =IF(選擇項目!H1=1,IF(旅綜險!H14="國內非台籍(X)","","陸客來台旅遊須購買國內非台籍(X)方案 "),"")
A35: 陸客來台旅遊與境內突發疾病保額限制 | K35: =AND(旅綜險!L12="是",旅綜險!H11<>"未滿15歲",旅綜險!L13<50) -> FALSE | N35: =IF(K35,"陸客來台境內突發疾病保額>=50萬 ","")
A36: 陸客來台旅遊與實支保額限制 | K36: =AND(旅綜險!L12="是",旅綜險!H11<>"未滿15歲",旅綜險!D13<50) -> FALSE | N36: =IF(K36,"陸客來台實支實付保額>=50萬 ","")
A37: 陸客來台旅遊與身故失能保額限制 | D37: =IF(K37,"陸客來台身故失能保額>=200萬 ","") | K37: =AND(旅綜險!L12="是",旅綜險!H11<>"未滿15歲",旅綜險!D12<200) -> FALSE
A38: 小陸客來台旅遊與境內突發疾病保額限制 | K38: =AND(旅綜險!L12="是",旅綜險!H11="未滿15歲",旅綜險!L13<>50) -> FALSE | N38: =IF(K38,"陸客小朋友來台境內突發疾病保額=50萬 ","")
A39: 小陸客來台旅遊與實支保額限制 | K39: =AND(旅綜險!L12="是",旅綜險!H11="未滿15歲",旅綜險!D13<>50) -> FALSE | N39: =IF(K39,"陸客小朋友來台實支實付保額=50萬 ","")
A40: 旅遊地點與境內突發 | D40: =IF(AND(選擇項目!B1<>1,旅綜險!L13>0),"海外旅遊不得投保非台籍境內突疾 ","")
...

Sheet 旅綜險簡易版費率表試算
A1: 欄位位移數 | C1: =+C2-1 -> 0 | F1: =INT((C2-1)/5)*5 -> 0 | G1: =+F1 -> 0 | H1: =+C1 -> 0 | I1: =+C1 -> 0 | J1: =+C1 -> 0 | K1: =+C1 -> 0 | L1: =+C1 -> 0 | M1: =INT((C2-1)/5)*18 -> 0 | N1: =+M1 -> 0 | O1: =+M1 -> 0 | P1: =+M1 -> 0 | R1: =+R2-1 -> 1 | U1: =INT((R2-1)/5)*5 -> 0 | V1: =+U1 -> 0 | W1: =+R1 -> 1 | X1: =+R1 -> 1 | Y1: =+R1 -> 1 | Z1: =+R1 -> 1 | AA1: =+R1 -> 1 | AB1: =INT((R2-1)/5)*18 -> 0 | AC1: =+AB1 -> 0 | AD1: =+AB1 -> 0 | AE1: =+AB1 -> 0 | AG1: =+AG2-1 -> 2 | AJ1: =INT((AG2-1)/5)*5 -> 0 | AK1: =+AJ1 -> 0 | AL1: =+AG1 -> 2 | AM1: =+AG1 -> 2 | AN1: =+AG1 -> 2 | AO1: =+AG1 -> 2 | AP1: =+AG1 -> 2 | AQ1: =INT((AG2-1)/5)*18 -> 0 | AR1: =+AQ1 -> 0 | AS1: =+AQ1 -> 0 | AT1: =+AQ1 -> 0 | AV1: =+AV2-1 -> 3 | AY1: =INT((AV2-1)/5)*5 -> 0 | AZ1: =+AY1 -> 0 | BA1: =+AV1 -> 3 | BB1: =+AV1 -> 3 | BC1: =+AV1 -> 3 | BD1: =+AV1 -> 3 | BE1: =+AV1 -> 3 | BF1: =INT((AV2-1)/5)*18 -> 0 | BG1: =+BF1 -> 0 | BH1: =+BF1 -> 0 | BI1: =+BF1 -> 0 | BK1: =+BK2-1 -> 4 | BN1: =INT((BK2-1)/5)*5 -> 0 | BO1: =+BN1 -> 0 | BP1: =+BK1 -> 4 | BQ1: =+BK1 -> 4 | BR1: =+BK1 -> 4 | BS1: =+BK1 -> 4 | BT1: =+BK1 -> 4 | BU1: =INT((BK2-1)/5)*18 -> 0 | BV1: =+BU1 -> 0 | BW1: =+BU1 -> 0 | BX1: =+BU1 -> 0 | BZ1: =+BZ2-1 -> 5 | CC1: =INT((BZ2-1)/5)*5 -> 5 | CD1: =+CC1 -> 5 | CE1: =+BZ1 -> 5 | CF1: =+BZ1 -> 5 | CG1: =+BZ1 -> 5 | CH1: =+BZ1 -> 5 | CI1: =+BZ1 -> 5 | CJ1: =INT((BZ2-1)/5)*18 -> 18 | CK1: =+CJ1 -> 18 | CL1: =+CJ1 -> 18 | CM1: =+CJ1 -> 18 | CO1: =+CO2-1 -> 6 | CR1: =INT((CO2-1)/5)*5 -> 5 | CS1: =+CR1 -> 5 | CT1: =+CO1 -> 6 | CU1: =+CO1 -> 6 | CV1: =+CO1 -> 6 | CW1: =+CO1 -> 6 | CX1: =+CO1 -> 6 | CY1: =INT((CO2-1)/5)*18 -> 18 | CZ1: =+CY1 -> 18 | DA1: =+CY1 -> 18 | DB1: =+CY1 -> 18 | DD1: =+DD2-1 -> 7 | DG1: =INT((DD2-1)/5)*5 -> 5 | DH1: =+DG1 -> 5 | DI1: =+DD1 -> 7 | DJ1: =+DD1 -> 7 | DK1: =+DD1 -> 7 | DL1: =+DD1 -> 7 | DM1: =+DD1 -> 7 | DN1: =INT((DD2-1)/5)*18 -> 18 | DO1: =+DN1 -> 18 | DP1: =+DN1 -> 18 | DQ1: =+DN1 -> 18 | DS1: =+DS2-1 -> 8 | DV1: =INT((DS2-1)/5)*5 -> 5 | DW1: =+DV1 -> 5 | DX1: =+DS1 -> 8 | DY1: =+DS1 -> 8 | DZ1: =+DS1 -> 8 | EA1: =+DS1 -> 8 | EB1: =+DS1 -> 8 | EC1: =INT((DS2-1)/5)*18 -> 18 | ED1: =+EC1 -> 18 | EE1: =+EC1 -> 18 | EF1: =+EC1 -> 18 | EH1: =+EH2-1 -> 9 | EK1: =INT((EH2-1)/5)*5 -> 5 | EL1: =+EK1 -> 5 | EM1: =+EH1 -> 9 | EN1: =+EH1 -> 9 | EO1: =+EH1 -> 9 | EP1: =+EH1 -> 9 | EQ1: =+EH1 -> 9 | ER1: =INT((EH2-1)/5)*18 -> 18 | ES1: =+ER1 -> 18 | ET1: =+ER1 -> 18 | EU1: =+ER1 -> 18 | EW1: =+EW2-1 -> 10 | EZ1: =INT((EW2-1)/5)*5 -> 10 | FA1: =+EZ1 -> 10 | FB1: =+EW1 -> 10 | FC1: =+EW1 -> 10 | FD1: =+EW1 -> 10 | FE1: =+EW1 -> 10 | FF1: =+EW1 -> 10 | FG1: =INT((EW2-1)/5)*18 -> 36 | FH1: =+FG1 -> 36 | FI1: =+FG1 -> 36 | FJ1: =+FG1 -> 36 | FL1: =+FL2-1 -> 11 | FO1: =INT((FL2-1)/5)*5 -> 10 | FP1: =+FO1 -> 10 | FQ1: =+FL1 -> 11 | FR1: =+FL1 -> 11 | FS1: =+FL1 -> 11 | FT1: =+FL1 -> 11 | FU1: =+FL1 -> 11 | FV1: =INT((FL2-1)/5)*18 -> 36 | FW1: =+FV1 -> 36 | FX1: =+FV1 -> 36 | FY1: =+FV1 -> 36 | GA1: =+GA2-1 -> 12 | GD1: =INT((GA2-1)/5)*5 -> 10 | GE1: =+GD1 -> 10 | GF1: =+GA1 -> 12 | GG1: =+GA1 -> 12 | GH1: =+GA1 -> 12 | GI1: =+GA1 -> 12 | GJ1: =+GA1 -> 12 | GK1: =INT((GA2-1)/5)*18 -> 36 | GL1: =+GK1 -> 36 | GM1: =+GK1 -> 36 | GN1: =+GK1 -> 36 | GP1: =+GP2-1 -> 13 | GS1: =INT((GP2-1)/5)*5 -> 10 | GT1: =+GS1 -> 10 | GU1: =+GP1 -> 13 | GV1: =+GP1 -> 13 | GW1: =+GP1 -> 13 | GX1: =+GP1 -> 13 | GY1: =+GP1 -> 13 | GZ1: =INT((GP2-1)/5)*18 -> 36 | HA1: =+GZ1 -> 36 | HB1: =+GZ1 -> 36 | HC1: =+GZ1 -> 36 | HE1: =+HE2-1 -> 14 | HH1: =INT((HE2-1)/5)*5 -> 10 | HI1: =+HH1 -> 10 | HJ1: =+HE1 -> 14 | HK1: =+HE1 -> 14 | HL1: =+HE1 -> 14 | HM1: =+HE1 -> 14 | HN1: =+HE1 -> 14 | HO1: =INT((HE2-1)/5)*18 -> 36 | HP1: =+HO1 -> 36 | HQ1: =+HO1 -> 36 | HR1: =+HO1 -> 36
A2: =VLOOKUP(旅綜險簡易版費率表!$C$11,費率表參數!$H$2:$I$6,2,FALSE) -> 1 | B2: =VLOOKUP(旅綜險簡易版費率表!K11,費率表參數!J2:K3,2,FALSE) -> 1 | C2: 1 | R2: 2 | AG2: 3 | AV2: 4 | BK2: 5 | BZ2: 6 | CO2: 7 | DD2: 8 | DS2: 9 | EH2: 10 | EW2: 11 | FL2: 12 | GA2: 13 | GP2: 14 | HE2: 15
A3: =VLOOKUP(旅綜險簡易版費率表!$C$11,費率表參數!$H$11:$I$15,2,FALSE) -> 1 | C3: =OFFSET(旅綜險簡易版費率表!$C$4,0,C1) -> 300 | F3: =IF(OFFSET(旅綜險簡易版費率表!$C$5,0,F1)="不加保",0,OFFSET(F3,0,-3,,)) -> 0 | G3: =IF(OFFSET(旅綜險簡易版費率表!$C$6,0,G1)="不加保",0,OFFSET(G3,0,-4,,)+OFFSET(G3,0,-1,,)) -> 0 | H3: =OFFSET(旅綜險簡易版費率表!$C$7,0,H1) -> 0 | I3: =IF($A$2=84.25%,0,H3) -> 0 | J3: =IF(旅綜險簡易版費率表!$B$8="(甲型)",OFFSET(旅綜險簡易版費率表!$C$8,0,J1),0) -> 0 | K3: =IF(旅綜險簡易版費率表!$B$8="(乙型)",OFFSET(旅綜險簡易版費率表!$C$8,0,K1),0) -> 30 | L3: =OFFSET(旅綜險簡易版費率表!$C$9,0,L1) -> 0 | M3: =OFFSET(費率表參數!$C$15,M1,0) -> #N/A | N3: =OFFSET(費率表參數!$D$15,N1,0) -> #N/A | O3: =OFFSET(費率表參數!$E$15,O1,0) -> #N/A | P3: =OFFSET(費率表參數!$F$15,P1,0) -> #N/A | Q3: 保費 小計 | R3: =OFFSET(旅綜險簡易版費率表!$C$4,0,R1) -> 300 | U3: =IF(OFFSET(旅綜險簡易版費率表!$C$5,0,U1)="不加保",0,OFFSET(U3,0,-3,,)) -> 0 | V3: =IF(OFFSET(旅綜險簡易版費率表!$C$6,0,V1)="不加保",0,OFFSET(V3,0,-4,,)+OFFSET(V3,0,-1,,)) -> 0 | W3: =OFFSET(旅綜險簡易版費率表!$C$7,0,W1) -> 0 | X3: =IF($A$2=84.25%,0,W3) -> 0 | Y3: =IF(旅綜險簡易版費率表!$B$8="(甲型)",OFFSET(旅綜險簡易版費率表!$C$8,0,Y1),0) -> 0 | Z3: =IF(旅綜險簡易版費率表!$B$8="(乙型)",OFFSET(旅綜險簡易版費率表!$C$8,0,Z1),0) -> 30 | AA3: =OFFSET(旅綜險簡易版費率表!$C$9,0,AA1) -> 0 | AB3: =OFFSET(費率表參數!$C$15,AB1,0) -> #N/A | AC3: =OFFSET(費率表參數!$D$15,AC1,0) -> #N/A | AD3: =OFFSET(費率表參數!$E$15,AC1,0) -> #N/A | AE3: =OFFSET(費率表參數!$F$15,AE1,0) -> #N/A | AF3: 保費 小計 | AG3: =OFFSET(旅綜險簡易版費率表!$C$4,0,AG1) -> 500 | AJ3: =IF(OFFSET(旅綜險簡易版費率表!$C$5,0,AJ1)="不加保",0,OFFSET(AJ3,0,-3,,)) -> 0 | AK3: =IF(OFFSET(旅綜險簡易版費率表!$C$6,0,AK1)="不加保",0,OFFSET(AK3,0,-4,,)+OFFSET(AK3,0,-1,,)) -> 0 | AL3: =OFFSET(旅綜險簡易版費率表!$C$7,0,AL1) -> 0 | AM3: =IF($A$2=84.25%,0,AL3) -> 0 | AN3: =IF(旅綜險簡易版費率表!$B$8="(甲型)",OFFSET(旅綜險簡易版費率表!$C$8,0,AN1),0) -> 0 | AO3: =IF(旅綜險簡易版費率表!$B$8="(乙型)",OFFSET(旅綜險簡易版費率表!$C$8,0,AO1),0) -> 50 | AP3: =OFFSET(旅綜險簡易版費率表!$C$9,0,AP1) -> 0 | AQ3: =OFFSET(費率表參數!$C$15,AQ1,0) -> #N/A | AR3: =OFFSET(費率表參數!$D$15,AR1,0) -> #N/A | AS3: =OFFSET(費率表參數!$E$15,AS1,0) -> #N/A | AT3: =OFFSET(費率表參數!$F$15,AT1,0) -> #N/A | AU3: 保費 小計 | AV3: =OFFSET(旅綜險簡易版費率表!$C$4,0,AV1) -> 800 | AY3: =IF(OFFSET(旅綜險簡易版費率表!$C$5,0,AY1)="不加保",0,OFFSET(AY3,0,-3,,)) -> 0 | AZ3: =IF(OFFSET(旅綜險簡易版費率表!$C$6,0,AZ1)="不加保",0,OFFSET(AZ3,0,-4,,)+OFFSET(AZ3,0,-1,,)) -> 0 | BA3: =OFFSET(旅綜險簡易版費率表!$C$7,0,BA1) -> 0 | BB3: =IF($A$2=84.25%,0,BA3) -> 0 | BC3: =IF(旅綜險簡易版費率表!$B$8="(甲型)",OFFSET(旅綜險簡易版費率表!$C$8,0,BC1),0) -> 0 | BD3: =IF(旅綜險簡易版費率表!$B$8="(乙型)",OFFSET(旅綜險簡易版費率表!$C$8,0,BD1),0) -> 80 | BE3: =OFFSET(旅綜險簡易版費率表!$C$9,0,BE1) -> 0 | BF3: =OFFSET(費率表參數!$C$15,BF1,0) -> #N/A | BG3: =OFFSET(費率表參數!$D$15,BG1,0) -> #N/A | BH3: =OFFSET(費率表參數!$E$15,BH1,0) -> #N/A | BI3: =OFFSET(費率表參數!$F$15,BI1,0) -> #N/A | BJ3: 保費 小計 | BK3: =OFFSET(旅綜險簡易版費率表!$C$4,0,BK1) -> 1000 | BN3: =IF(OFFSET(旅綜險簡易版費率表!$C$5,0,BN1)="不加保",0,OFFSET(BN3,0,-3,,)) -> 0 | BO3: =IF(OFFSET(旅綜險簡易版費率表!$C$6,0,BO1)="不加保",0,OFFSET(BO3,0,-4,,)+OFFSET(BO3,0,-1,,)) -> 0 | BP3: =OFFSET(旅綜險簡易版費率表!$C$7,0,BP1) -> 0 | BQ3: =IF($A$2=84.25%,0,BP3) -> 0 | BR3: =IF(旅綜險簡易版費率表!$B$8="(甲型)",OFFSET(旅綜險簡易版費率表!$C$8,0,BR1),0) -> 0 | BS3: =IF(旅綜險簡易版費率表!$B$8="(乙型)",OFFSET(旅綜險簡易版費率表!$C$8,0,BS1),0) -> 100 | BT3: =OFFSET(旅綜險簡易版費率表!$C$9,0,BT1) -> 0 | BU3: =OFFSET(費率表參數!$C$15,BU1,0) -> #N/A | BV3: =OFFSET(費率表參數!$D$15,BV1,0) -> #N/A | BW3: =OFFSET(費率表參數!$E$15,BW1,0) -> #N/A | BX3: =OFFSET(費率表參數!$F$15,BX1,0) -> #N/A | BY3: 保費 小計 | BZ3: =OFFSET(旅綜險簡易版費率表!$C$4,0,BZ1) -> 200 | CC3: =IF(OFFSET(旅綜險簡易版費率表!$C$5,0,CC1)="不加保",0,OFFSET(CC3,0,-3,,)) -> 0 | CD3: =IF(OFFSET(旅綜險簡易版費率表!$C$6,0,CD1)="不加保",0,OFFSET(CD3,0,-4,,)+OFFSET(CD3,0,-1,,)) -> 0 | CE3: =OFFSET(旅綜險簡易版費率表!$C$7,0,CE1) -> 10 | CF3: =IF($A$2=84.25%,0,CE3) -> 10 | CG3: =IF(旅綜險簡易版費率表!$B$8="(甲型)",OFFSET(旅綜險簡易版費率表!$C$8,0,CG1),0) -> 0 | CH3: =IF(旅綜險簡易版費率表!$B$8="(乙型)",OFFSET(旅綜險簡易版費率表!$C$8,0,CH1),0) -> 0 | CI3: =OFFSET(旅綜險簡易版費率表!$C$9,0,CI1) -> 0 | CJ3: =OFFSET(費率表參數!$C$15,CJ1,0) -> 61 | CK3: =OFFSET(費率表參數!$D$15,CK1,0) -> 62 | CL3: =OFFSET(費率表參數!$E$15,CL1,0) -> 63 | CM3: =OFFSET(費率表參數!$F$15,CM1,0) -> 64 | CN3: 保費 小計 | CO3: =OFFSET(旅綜險簡易版費率表!$C$4,0,CO1) -> 300 | CR3: =IF(OFFSET(旅綜險簡易版費率表!$C$5,0,CR1)="不加保",0,OFFSET(CR3,0,-3,,)) -> 0 | CS3: =IF(OFFSET(旅綜險簡易版費率表!$C$6,0,CS1)="不加保",0,OFFSET(CS3,0,-4,,)+OFFSET(CS3,0,-1,,)) -> 0 | CT3: =OFFSET(旅綜險簡易版費率表!$C$7,0,CT1) -> 10 | CU3: =IF($A$2=84.25%,0,CT3) -> 10 | CV3: =IF(旅綜險簡易版費率表!$B$8="(甲型)",OFFSET(旅綜險簡易版費率表!$C$8,0,CV1),0) -> 0 | CW3: =IF(旅綜險簡易版費率表!$B$8="(乙型)",OFFSET(旅綜險簡易版費率表!$C$8,0,CW1),0) -> 0 | CX3: =OFFSET(旅綜險簡易版費率表!$C$9,0,CX1) -> 0 | CY3: =OFFSET(費率表參數!$C$15,CY1,0) -> 61 | CZ3: =OFFSET(費率表參數!$D$15,CZ1,0) -> 62 | DA3: =OFFSET(費率表參數!$E$15,DA1,0) -> 63 | DB3: =OFFSET(費率表參數!$F$15,DB1,0) -> 64 | DC3: 保費 小計 | DD3: =OFFSET(旅綜險簡易版費率表!$C$4,0,DD1) -> 500 | DG3: =IF(OFFSET(旅綜險簡易版費率表!$C$5,0,DG1)="不加保",0,OFFSET(DG3,0,-3,,)) -> 0 | DH3: =IF(OFFSET(旅綜險簡易版費率表!$C$6,0,DH1)="不加保",0,OFFSET(DH3,0,-4,,)+OFFSET(DH3,0,-1,,)) -> 0 | DI3: =OFFSET(旅綜險簡易版費率表!$C$7,0,DI1) -> 10 | DJ3: =IF($A$2=84.25%,0,DI3) -> 10 | DK3: =IF(旅綜險簡易版費率表!$B$8="(甲型)",OFFSET(旅綜險簡易版費率表!$C$8,0,DK1),0) -> 0 | DL3: =IF(旅綜險簡易版費率表!$B$8="(乙型)",OFFSET(旅綜險簡易版費率表!$C$8,0,DL1),0) -> 0 | DM3: =OFFSET(旅綜險簡易版費率表!$C$9,0,DM1) -> 0 | DN3: =OFFSET(費率表參數!$C$15,DN1,0) -> 61 | DO3: =OFFSET(費率表參數!$D$15,DO1,0) -> 62 | DP3: =OFFSET(費率表參數!$E$15,DP1,0) -> 63 | DQ3: =OFFSET(費率表參數!$F$15,DQ1,0) -> 64 | DR3: 保費 小計 | DS3: =OFFSET(旅綜險簡易版費率表!$C$4,0,DS1) -> 800 | DV3: =IF(OFFSET(旅綜險簡易版費率表!$C$5,0,DV1)="不加保",0,OFFSET(DV3,0,-3,,)) -> 0 | DW3: =IF(OFFSET(旅綜險簡易版費率表!$C$6,0,DW1)="不加保",0,OFFSET(DW3,0,-4,,)+OFFSET(DW3,0,-1,,)) -> 0 | DX3: =OFFSET(旅綜險簡易版費率表!$C$7,0,DX1) -> 10 | DY3: =IF($A$2=84.25%,0,DX3) -> 10 | DZ3: =IF(旅綜險簡易版費率表!$B$8="(甲型)",OFFSET(旅綜險簡易版費率表!$C$8,0,DZ1),0) -> 0 | EA3: =IF(旅綜險簡易版費率表!$B$8="(乙型)",OFFSET(旅綜險簡易版費率表!$C$8,0,EA1),0) -> 0 | EB3: =OFFSET(旅綜險簡易版費率表!$C$9,0,EB1) -> 0 | EC3: =OFFSET(費率表參數!$C$15,EC1,0) -> 61 | ED3: =OFFSET(費率表參數!$D$15,ED1,0) -> 62 | EE3: =OFFSET(費率表參數!$E$15,EE1,0) -> 63 | EF3: =OFFSET(費率表參數!$F$15,EF1,0) -> 64 | EG3: 保費 小計 | EH3: =OFFSET(旅綜險簡易版費率表!$C$4,0,EH1) -> 1000 | EK3: =IF(OFFSET(旅綜險簡易版費率表!$C$5,0,EK1)="不加保",0,OFFSET(EK3,0,-3,,)) -> 0 | EL3: =IF(OFFSET(旅綜險簡易版費率表!$C$6,0,EL1)="不加保",0,OFFSET(EL3,0,-4,,)+OFFSET(EL3,0,-1,,)) -> 0 | EM3: =OFFSET(旅綜險簡易版費率表!$C$7,0,EM1) -> 10 | EN3: =IF($A$2=84.25%,0,EM3) -> 10 | EO3: =IF(旅綜險簡易版費率表!$B$8="(甲型)",OFFSET(旅綜險簡易版費率表!$C$8,0,EO1),0) -> 0 | EP3: =IF(旅綜險簡易版費率表!$B$8="(乙型)",OFFSET(旅綜險簡易版費率表!$C$8,0,EP1),0) -> 0 | EQ3: =OFFSET(旅綜險簡易版費率表!$C$9,0,EQ1) -> 0 | ER3: =OFFSET(費率表參數!$C$15,ER1,0) -> 61 | ES3: =OFFSET(費率表參數!$D$15,ES1,0) -> 62 | ET3: =OFFSET(費率表參數!$E$15,ET1,0) -> 63 | EU3: =OFFSET(費率表參數!$F$15,EU1,0) -> 64 | EV3: 保費 小計 | EW3: =OFFSET(旅綜險簡易版費率表!$C$4,0,EW1) -> 700 | EZ3: =IF(OFFSET(旅綜險簡易版費率表!$C$5,0,EZ1)="不加保",0,OFFSET(EZ3,0,-3,,)) -> 0 | FA3: =IF(OFFSET(旅綜險簡易版費率表!$C$6,0,FA1)="不加保",0,OFFSET(FA3,0,-4,,)+OFFSET(FA3,0,-1,,)) -> 0 | FB3: =OFFSET(旅綜險簡易版費率表!$C$7,0,FB1) -> 150 | FC3: =IF($A$2=84.25%,0,FB3) -> 150 | FD3: =IF(旅綜險簡易版費率表!$B$8="(甲型)",OFFSET(旅綜險簡易版費率表!$C$8,0,FD1),0) -> 0 | FE3: =IF(旅綜險簡易版費率表!$B$8="(乙型)",OFFSET(旅綜險簡易版費率表!$C$8,0,FE1),0) -> 120 | FF3: =OFFSET(旅綜險簡易版費率表!$C$9,0,FF1) -> 0 | FG3: =OFFSET(費率表參數!$C$15,FG1,0) -> 66 | FH3: =OFFSET(費率表參數!$D$15,FH1,0) -> 67 | FI3: =OFFSET(費率表參數!$E$15,FI1,0) -> 68 | FJ3: =OFFSET(費率表參數!$F$15,FJ1,0) -> 69 | FK3: 保費 小計 | FL3: =OFFSET(旅綜險簡易版費率表!$C$4,0,FL1) -> 300 | FO3: =IF(OFFSET(旅綜險簡易版費率表!$C$5,0,FO1)="不加保",0,OFFSET(FO3,0,-3,,)) -> 0 | FP3: =IF(OFFSET(旅綜險簡易版費率表!$C$6,0,FP1)="不加保",0,OFFSET(FP3,0,-4,,)+OFFSET(FP3,0,-1,,)) -> 0 | FQ3: =OFFSET(旅綜險簡易版費率表!$C$7,0,FQ1) -> 30 | FR3: =IF($A$2=84.25%,0,FQ3) -> 30 | FS3: =IF(旅綜險簡易版費率表!$B$8="(甲型)",OFFSET(旅綜險簡易版費率表!$C$8,0,FS1),0) -> 0 | FT3: =IF(旅綜險簡易版費率表!$B$8="(乙型)",OFFSET(旅綜險簡易版費率表!$C$8,0,FT1),0) -> 60 | FU3: =OFFSET(旅綜險簡易版費率表!$C$9,0,FU1) -> 0 | FV3: =OFFSET(費率表參數!$C$15,FV1,0) -> 66 | FW3: =OFFSET(費率表參數!$D$15,FW1,0) -> 67 | FX3: =OFFSET(費率表參數!$E$15,FX1,0) -> 68 | FY3: =OFFSET(費率表參數!$F$15,FY1,0) -> 69 | FZ3: 保費 小計 | GA3: =OFFSET(旅綜險簡易版費率表!$C$4,0,GA1) -> 500 | GD3: =IF(OFFSET(旅綜險簡易版費率表!$C$5,0,GD1)="不加保",0,OFFSET(GD3,0,-3,,)) -> 0 | GE3: =IF(OFFSET(旅綜險簡易版費率表!$C$6,0,GE1)="不加保",0,OFFSET(GE3,0,-4,,)+OFFSET(GE3,0,-1,,)) -> 0 | GF3: =OFFSET(旅綜險簡易版費率表!$C$7,0,GF1) -> 50 | GG3: =IF($A$2=84.25%,0,GF3) -> 50 | GH3: =IF(旅綜險簡易版費率表!$B$8="(甲型)",OFFSET(旅綜險簡易版費率表!$C$8,0,GH1),0) -> 0 | GI3: =IF(旅綜險簡易版費率表!$B$8="(乙型)",OFFSET(旅綜險簡易版費率表!$C$8,0,GI1),0) -> 100 | GJ3: =OFFSET(旅綜險簡易版費率表!$C$9,0,GJ1) -> 0 | GK3: =OFFSET(費率表參數!$C$15,GK1,0) -> 66 | GL3: =OFFSET(費率表參數!$D$15,GL1,0) -> 67 | GM3: =OFFSET(費率表參數!$E$15,GM1,0) -> 68 | GN3: =OFFSET(費率表參數!$F$15,GN1,0) -> 69 | GO3: 保費 小計 | GP3: =OFFSET(旅綜險簡易版費率表!$C$4,0,GP1) -> 500 | GS3: =IF(OFFSET(旅綜險簡易版費率表!$C$5,0,GS1)="不加保",0,OFFSET(GS3,0,-3,,)) -> 0 | GT3: =IF(OFFSET(旅綜險簡易版費率表!$C$6,0,GT1)="不加保",0,OFFSET(GT3,0,-4,,)+OFFSET(GT3,0,-1,,)) -> 0 | GU3: =OFFSET(旅綜險簡易版費率表!$C$7,0,GU1) -> 100 | GV3: =IF($A$2=84.25%,0,GU3) -> 100 | GW3: =IF(旅綜險簡易版費率表!$B$8="(甲型)",OFFSET(旅綜險簡易版費率表!$C$8,0,GW1),0) -> 0 | GX3: =IF(旅綜險簡易版費率表!$B$8="(乙型)",OFFSET(旅綜險簡易版費率表!$C$8,0,GX1),0) -> 60 | GY3: =OFFSET(旅綜險簡易版費率表!$C$9,0,GY1) -> 0 | GZ3: =OFFSET(費率表參數!$C$15,GZ1,0) -> 66 | HA3: =OFFSET(費率表參數!$D$15,HA1,0) -> 67 | HB3: =OFFSET(費率表參數!$E$15,HB1,0) -> 68 | HC3: =OFFSET(費率表參數!$F$15,HC1,0) -> 69 | HD3: 保費 小計 | HE3: =OFFSET(旅綜險簡易版費率表!$C$4,0,HE1) -> 500 | HH3: =IF(OFFSET(旅綜險簡易版費率表!$C$5,0,HH1)="不加保",0,OFFSET(HH3,0,-3,,)) -> 0 | HI3: =IF(OFFSET(旅綜險簡易版費率表!$C$6,0,HI1)="不加保",0,OFFSET(HI3,0,-4,,)+OFFSET(HI3,0,-1,,)) -> 0 | HJ3: =OFFSET(旅綜險簡易版費率表!$C$7,0,HJ1) -> 100 | HK3: =IF($A$2=84.25%,0,HJ3) -> 100 | HL3: =IF(旅綜險簡易版費率表!$B$8="(甲型)",OFFSET(旅綜險簡易版費率表!$C$8,0,HL1),0) -> 0 | HM3: =IF(旅綜險簡易版費率表!$B$8="(乙型)",OFFSET(旅綜險簡易版費率表!$C$8,0,HM1),0) -> 60 | HN3: =OFFSET(旅綜險簡易版費率表!$C$9,0,HN1) -> 0 | HO3: =OFFSET(費率表參數!$C$15,HO1,0) -> 66 | HP3: =OFFSET(費率表參數!$D$15,HP1,0) -> 67 | HQ3: =OFFSET(費率表參數!$E$15,HQ1,0) -> 68 | HR3: =OFFSET(費率表參數!$F$15,HR1,0) -> 69 | HS3: 保費 小計
A4: 保險天數 | B4: 天數係數 | C4: 身故失能 | F4: 特定 | G4: 恐怖 | H4: 實支 | I4: 燒燙傷 | J4: 海外甲 | K4: 海外乙 | L4: 境內突發 | M4: 不便 | N4: 責任 | O4: 補償 | P4: 急難 | R4: 身故失能 | U4: 特定 | V4: 恐怖 | W4: 實支 | X4: 燒燙傷 | Y4: 海外甲 | Z4: 海外乙 | AA4: 境內突發 | AB4: 不便 | AC4: 責任 | AD4: 補償 | AE4: 急難 | AG4: 身故失能 | AJ4: 特定 | AK4: 恐怖 | AL4: 實支 | AM4: 燒燙傷 | AN4: 海外甲 | AO4: 海外乙 | AP4: 境內突發 | AQ4: 不便 | AR4: 責任 | AS4: 補償 | AT4: 急難 | AV4: 身故失能 | AY4: 特定 | AZ4: 恐怖 | BA4: 實支 | BB4: 燒燙傷 | BC4: 海外甲 | BD4: 海外乙 | BE4: 境內突發 | BF4: 不便 | BG4: 責任 | BH4: 補償 | BI4: 急難 | BK4: 身故失能 | BN4: 特定 | BO4: 恐怖 | BP4: 實支 | BQ4: 燒燙傷 | BR4: 海外甲 | BS4: 海外乙 | BT4: 境內突發 | BU4: 不便 | BV4: 責任 | BW4: 補償 | BX4: 急難 | BZ4: 身故失能 | CC4: 特定 | CD4: 恐怖 | CE4: 實支 | CF4: 燒燙傷 | CG4: 海外甲 | CH4: 海外乙 | CI4: 境內突發 | CJ4: 不便 | CK4: 責任 | CL4: 補償 | CM4: 急難 | CO4: 身故失能 | CR4: 特定 | CS4: 恐怖 | CT4: 實支 | CU4: 燒燙傷 | CV4: 海外甲 | CW4: 海外乙 | CX4: 境內突發 | CY4: 不便 | CZ4: 責任 | DA4: 補償 | DB4: 急難 | DD4: 身故失能 | DG4: 特定 | DH4: 恐怖 | DI4: 實支 | DJ4: 燒燙傷 | DK4: 海外甲 | DL4: 海外乙 | DM4: 境內突發 | DN4: 不便 | DO4: 責任 | DP4: 補償 | DQ4: 急難 | DS4: 身故失能 | DV4: 特定 | DW4: 恐怖 | DX4: 實支 | DY4: 燒燙傷 | DZ4: 海外甲 | EA4: 海外乙 | EB4: 境內突發 | EC4: 不便 | ED4: 責任 | EE4: 補償 | EF4: 急難 | EH4: 身故失能 | EK4: 特定 | EL4: 恐怖 | EM4: 實支 | EN4: 燒燙傷 | EO4: 海外甲 | EP4: 海外乙 | EQ4: 境內突發 | ER4: 不便 | ES4: 責任 | ET4: 補償 | EU4: 急難 | EW4: 身故失能 | EZ4: 特定 | FA4: 恐怖 | FB4: 實支 | FC4: 燒燙傷 | FD4: 海外甲 | FE4: 海外乙 | FF4: 境內突發 | FG4: 不便 | FH4: 責任 | FI4: 補償 | FJ4: 急難 | FL4: 身故失能 | FO4: 特定 | FP4: 恐怖 | FQ4: 實支 | FR4: 燒燙傷 | FS4: 海外甲 | FT4: 海外乙 | FU4: 境內突發 | FV4: 不便 | FW4: 責任 | FX4: 補償 | FY4: 急難 | GA4: 身故失能 | GD4: 特定 | GE4: 恐怖 | GF4: 實支 | GG4: 燒燙傷 | GH4: 海外甲 | GI4: 海外乙 | GJ4: 境內突發 | GK4: 不便 | GL4: 責任 | GM4: 補償 | GN4: 急難 | GP4: 身故失能 | GS4: 特定 | GT4: 恐怖 | GU4: 實支 | GV4: 燒燙傷 | GW4: 海外甲 | GX4: 海外乙 | GY4: 境內突發 | GZ4: 不便 | HA4: 責任 | HB4: 補償 | HC4: 急難 | HE4: 身故失能 | HH4: 特定 | HI4: 恐怖 | HJ4: 實支 | HK4: 燒燙傷 | HL4: 海外甲 | HM4: 海外乙 | HN4: 境內突發 | HO4: 不便 | HP4: 責任 | HQ4: 補償 | HR4: 急難
